Workbook
Name Slicer_Bioma: #N/A
Name Slicer_Bioma1: #N/A
Name Slicer_Transicion: #N/A

Sheet LEGEND_CODE
B1: Codigos de las clases de leyenda del Módulo de Vegetación de la Coleccion 4 de Cobertura y Uso de MapBiomas Peru (1990-2025)
A2: El módulo de vegetación presenta una serie temporal de la dinámica de la vegetación natural del Perú para el período 1990–2025, derivada de los mapas anuales de cobertura y uso del suelo de MapBiomas Perú, Colección 4. Mediante el análisis de la trayectoria de clasificación de cada píxel, se identifican pérdidas de vegetación primaria y secundaria, procesos de recuperación y la evolución de la vegetación secundaria, conservando el historial de cambios de cada ubicación. Para conocer mayor detalles de la metodología acceda al ATBD Módulos de vegetación:https://peru.mapbiomas.org/iniciativas-y-productos/cobertura-y-uso-del-suelo/perdida-vegetacion/
A6: CLASSES | B6: CLASES | C6: ID | D6: Hexadecimal code | E6: Color | F6: Definición
A7: Loss primary vegetation | B7: Pérdida Vegetación Primaria | C7: 4 | D7: #FFCCBC | F7: Cambio persistente a uso antrópico de un área de vegetación natural desde 1990 hasta el año previo a la pérdida.
A8: Loss Secondary Vegetation | B8: Pérdida Vegetación Secundaria | C8: 6 | D8: #CC0100 | F8: Cambio persistente a uso antrópico de un área de vegetación natural que se había recuperado tras un uso antrópico
B14: Codigos de las clases de la leyenda de la Coleccion 4 de Cobertura y Uso de MapBiomas Peru (1990-2025)
A15: CLASSES | B15: CLASES | C15: ID | D15: Hexadecimal code | E15: Color
A16: 1. Forest formation | B16: 1. Formación boscosa | C16: 1 | D16: #1f8d49
A17: 1.1. Forest | B17: 1.1. Bosque | C17: 3 | D17: #1f8d49
A18: 1.2. Dry forest | B18: 1.2. Bosque seco | C18: 4 | D18: #7dc975
A19: 1.3. Mangrove | B19: 1.3. Manglar | C19: 5 | D19: #04381d
A20: 1.4. Flooded forest | B20: 1.4. Bosque inundable | C20: 6 | D20: #026975
A21: 2. Natural non-forest formation | B21: 2. Formación natural no boscosa | C21: 10 | D21: #d6bc74
A22: 2.1. Flooded herbaceous formation | B22: 2.1. Formación herbácea inundable | C22: 11 | D22: #519799
A23: 2.1.1 Lowland flooded grassland | B23: 2.1.1. Herbazal inundable de tierras bajas | C23: 51 | D23: #5faf92
A24: 2.1.2 High andean flooded grassland | B24: 2.1.2. Herbazal inundable altoandino | C24: 82 | D24: #26abab
A25: 2.2. Herbaceous formation | B25: 2.2. Formación herbácea | C25: 12 | D25: #d6bc74
A26: 2.3. Shrub and other non-forest formations | B26: 2.3. Formaciones arbustivas y otras | C26: 13 | D26: #d89f5c
A27: 2.3.1 Shrubland and other shrub vegetation | B27: 2.3.1. Matorral y otros arbustales | C27: 66 | D27: #a89358
... A48: 6. Not observed | B48: 6. No observado | C48: 27 | D48: #ffffff

Sheet READ_ME
A1: MAPBIOMAS PERU - LULC COLLECTION 4 - PÉRDIDA DE VEGETACIÓN
F3: Version 1 | Q3: Version 1
F4: August 2026 | Q4: Agosto 2026
B13: VEGETATION LOSS DATABASE | M13: BASE DE DADOS DE PERDA DE VEGETAÇÃO
B15: COLLECTION 4 - MAPBIOMAS PERU | M15: COLEÇÃO 4 - MAPBIOMAS PERU
B17: 1. This database contains the annual vegetation loss (in hectares) broken down by biomes for the 1990–2025 period, distinguishing between primary vegetation loss and secondary vegetation loss. | M17: 1. Esta base de dados contém a perda anual de vegetação (em hectares) detalhada por biomas para o período de 1990 a 2025, diferenciando a perda de vegetação primária e a perda de vegetação secundária.
B19: 2. To consult the methodology, access the ATBD (Algorithm Theoretical Basis Document) of the vegetation module at the following link: ATBD. | M19: 2. Para consultar a metodologia, acesse o ATBD (Documento Base Teórico do Algoritmo) do módulo de vegetação no seguinte link: ATBD.
B21: 3. To access the complete georeferenced data please visit: peru.mapbiomas.org | M21: 3. Para acessar a base de dados georeferenciada acesse: peru.mapbiomas.org
B23: 4. MapBiomas Peru data are public, open and free through the simple reference of the source using the following format: | M23: 4. Os dados do MapBiomas Peru são públicos, abertos e gratuitos mediante ao simples referência da fonte observando o seguinte formato:
B25: "MapBiomas Peru - Collection 4 of Peru's Land Cover & Land Use Map Series, accessed on [date] through the link: [LINK]" | M25: "MapBiomas Peru – Coleção 4 da Série Anual de Mapas de Cobertura e Uso da Terra do Peru, acessado em [data] através do link: [LINK]"
B26: MapBiomas Peru is a multi-institutional initiative to generate annual land-cover and land-use maps of Peru using supervised classification processes applied to satellite images. The complete project description is available at peru.mapbiomas.org. | M26: "MapBiomas Peru é uma iniciativa multi-institucional para gerar mapas anuais de cobertura e uso da terra do Peru a partir de processos de classificação supervisada aplicada a imagens de satélite. A descrição completa do projeto encontra-se em peru.mapbiomas.org"

Sheet LOSS_VEGETATION
A1: territor_level_1_1 | B1: territor_level_2_1 | C1: territor_level_3_1 | D1: territor_level_4_1 | E1: territor_level_1_2 | F1: territor_level_2_2 | G1: territor_level_3_2 | H1: territor_level_4_2 | I1: territor_level_1_3 | J1: territor_level_2_3 | K1: territor_level_3_3 | L1: territor_level_4_3 | M1: geocode_1 | N1: geocode_2 | O1: geocode_3 | P1: feature_id_1 | Q1: feature_id_2 | R1: feature_id_3 | S1: categor_1 | T1: categor_2 | U1: categor_3 | V1: categor_id_1 | W1: categor_id_2 | X1: categor_id_3 | Y1: version | Z1: transition | AA1: class | AB1: transition_name | AC1: 1990 | AD1: 1991 | AE1: 1992 | AF1: 1993 | AG1: 1994 | AH1: 1995 | AI1: 1996 | AJ1: 1997 | AK1: 1998 | AL1: 1999 | AM1: 2000 | AN1: 2001 | AO1: 2002 | AP1: 2003 | AQ1: 2004 | AR1: 2005 | AS1: 2006 | AT1: 2007 | AU1: 2008 | AV1: 2009 | AW1: 2010 | AX1: 2011 | AY1: 2012 | AZ1: 2013 | BA1: 2014 | BB1: 2015 | BC1: 2016 | BD1: 2017 | BE1: 2018 | BF1: 2019 | BG1: 2020 | BH1: 2021 | BI1: 2022 | BJ1: 2023 | BK1: 2024 | BL1: 2025
A2: Perú | B2: Andes | I2: Perú | O2: PER-01 | P2: 1 | S2: BIOMES | U2: POLITICAL_LEVEL_1 | V2: 4 | X2: 1 | Z2: 4 | AB2: Pérdida de vegetación primaria | AC2: 9243837 | AD2: 4954300 | AE2: 4430400 | AF2: 6295400 | AG2: 4097600 | AH2: 3780100 | AI2: 4672700 | AJ2: 2956600 | AK2: 3258500 | AL2: 3182400 | AM2: 2857900 | AN2: 2932000 | AO2: 2355500 | AP2: 2837700 | AQ2: 2579000 | AR2: 1649300 | AS2: 2292300 | AT2: 1717400 | AU2: 1559700 | AV2: 1894000 | AW2: 2209900 | AX2: 2031700 | AY2: 1670500 | AZ2: 2444300 | BA2: 1767100 | BB2: 2201200 | BC2: 1557200 | BD2: 1983800 | BE2: 1433500 | BF2: 1527800 | BG2: 1683200 | BH2: 1910800 | BI2: 1833200 | BJ2: 1368200 | BK2: 2203800 | BL2: 1166100
A3: Perú | B3: Andes | I3: Perú | O3: PER-01 | P3: 1 | S3: BIOMES | U3: POLITICAL_LEVEL_1 | V3: 4 | X3: 1 | Z3: 6 | AB3: Pérdida de vegetación secundaria | AE3: 492760 | AF3: 2794400 | AG3: 2883000 | AH3: 3268500 | AI3: 2726200 | AJ3: 1995900 | AK3: 2605000 | AL3: 3530600 | AM3: 4215100 | AN3: 4008800 | AO3: 3160500 | AP3: 4565700 | AQ3: 4064000 | AR3: 3059100 | AS3: 5690600 | AT3: 3549900 | AU3: 3677100 | AV3: 3875800 | AW3: 4812200 | AX3: 4345900 | AY3: 3996700 | AZ3: 4785500 | BA3: 4040400 | BB3: 5350200 | BC3: 3494100 | BD3: 4455400 | BE3: 4041600 | BF3: 3243600 | BG3: 3711500 | BH3: 4676000 | BI3: 3998500 | BJ3: 3313500 | BK3: 4350800 | BL3: 1314100
A4: Perú | B4: Desierto costero | I4: Perú | O4: PER-01 | P4: 2 | S4: BIOMES | U4: POLITICAL_LEVEL_1 | V4: 4 | X4: 1 | Z4: 4 | AB4: Pérdida de vegetación primaria | AC4: 201472.3 | AD4: 424800 | AE4: 30950 | AF4: 16589 | AG4: 8931.4 | AH4: 9016.8 | AI4: 169990 | AJ4: 46235 | AK4: 152050 | AL4: 55753 | AM4: 38715 | AN4: 31887 | AO4: 34292 | AP4: 38874 | AQ4: 42802 | AR4: 29141 | AS4: 39751 | AT4: 33670 | AU4: 40820 | AV4: 31641 | AW4: 44114 | AX4: 46693 | AY4: 32153 | AZ4: 46010 | BA4: 25762 | BB4: 22864 | BC4: 32113 | BD4: 26938 | BE4: 17918 | BF4: 19699 | BG4: 20583 | BH4: 18529 | BI4: 24268 | BJ4: 37580 | BK4: 43413 | BL4: 29132
A5: Perú | B5: Desierto costero | I5: Perú | O5: PER-01 | P5: 2 | S5: BIOMES | U5: POLITICAL_LEVEL_1 | V5: 4 | X5: 1 | Z5: 6 | AB5: Pérdida de vegetación secundaria | AE5: 780.6 | AF5: 2947.7 | AG5: 6733.1 | AH5: 7777.8 | AI5: 494920 | AJ5: 48844 | AK5: 89912 | AL5: 42622 | AM5: 50615 | AN5: 83278 | AO5: 80440 | AP5: 152470 | AQ5: 174200 | AR5: 94906 | AS5: 107850 | AT5: 112420 | AU5: 114320 | AV5: 110520 | AW5: 117900 | AX5: 109870 | AY5: 122100 | AZ5: 206590 | BA5: 70249 | BB5: 85330 | BC5: 164920 | BD5: 195050 | BE5: 112060 | BF5: 92702 | BG5: 93465 | BH5: 95021 | BI5: 156640 | BJ5: 308450 | BK5: 162360 | BL5: 186950
A6: Perú | B6: Bosque seco | I6: Perú | O6: PER-01 | P6: 3 | S6: BIOMES | U6: POLITICAL_LEVEL_1 | V6: 4 | X6: 1 | Z6: 4 | AB6: Pérdida de vegetación primaria | AC6: 1456992.6 | AD6: 2927600 | AE6: 335340 | AF6: 184840 | AG6: 296790 | AH6: 53527 | AI6: 1054500 | AJ6: 1279300 | AK6: 1154000 | AL6: 1408100 | AM6: 654000 | AN6: 480800 | AO6: 528630 | AP6: 612040 | AQ6: 471580 | AR6: 338640 | AS6: 503470 | AT6: 680640 | AU6: 359370 | AV6: 927270 | AW6: 591190 | AX6: 703030 | AY6: 515480 | AZ6: 590880 | BA6: 461710 | BB6: 473940 | BC6: 1162900 | BD6: 858230 | BE6: 685040 | BF6: 944890 | BG6: 1263600 | BH6: 614990 | BI6: 440010 | BJ6: 656080 | BK6: 675200 | BL6: 408310
A7: Perú | B7: Bosque seco | I7: Perú | O7: PER-01 | P7: 3 | S7: BIOMES | U7: POLITICAL_LEVEL_1 | V7: 4 | X7: 1 | Z7: 6 | AB7: Pérdida de vegetación secundaria | AE7: 36317 | AF7: 61249 | AG7: 90911 | AH7: 30357 | AI7: 1012500 | AJ7: 272670 | AK7: 344360 | AL7: 559950 | AM7: 308790 | AN7: 296320 | AO7: 393550 | AP7: 652620 | AQ7: 512780 | AR7: 433910 | AS7: 633600 | AT7: 707970 | AU7: 322000 | AV7: 942890 | AW7: 653490 | AX7: 444790 | AY7: 521080 | AZ7: 654310 | BA7: 372460 | BB7: 342500 | BC7: 475380 | BD7: 479760 | BE7: 807260 | BF7: 476360 | BG7: 593210 | BH7: 447170 | BI7: 376840 | BJ7: 573100 | BK7: 740350 | BL7: 162560
A8: Perú | B8: Amazonía | I8: Perú | O8: PER-01 | P8: 4 | S8: BIOMES | U8: POLITICAL_LEVEL_1 | V8: 4 | X8: 1 | Z8: 4 | AB8: Pérdida de vegetación primaria | AC8: 8155723.7 | AD8: 10119800 | AE8: 7185900 | AF8: 8095800 | AG8: 8656600 | AH8: 7512800 | AI8: 9640600 | AJ8: 9050800 | AK8: 9984300 | AL8: 9005000 | AM8: 7807000 | AN8: 9116000 | AO8: 8540500 | AP8: 8655200 | AQ8: 7498400 | AR8: 10317500 | AS8: 8015200 | AT8: 8994600 | AU8: 9496300 | AV8: 10918400 | AW8: 10165200 | AX8: 8069700 | AY8: 11064900 | AZ8: 10711900 | BA8: 9461500 | BB8: 9116800 | BC8: 8216500 | BD8: 9061700 | BE8: 9939600 | BF8: 9732100 | BG8: 11604500 | BH8: 10634800 | BI8: 12679100 | BJ8: 13393600 | BK8: 8544700 | BL8: 12481600
A9: Perú | B9: Amazonía | I9: Perú | O9: PER-01 | P9: 4 | S9: BIOMES | U9: POLITICAL_LEVEL_1 | V9: 4 | X9: 1 | Z9: 6 | AB9: Pérdida de vegetación secundaria | AE9: 215760 | AF9: 713550 | AG9: 1334100 | AH9: 1643700 | AI9: 2543500 | AJ9: 2720400 | AK9: 3298800 | AL9: 2878500 | AM9: 2674000 | AN9: 2875600 | AO9: 2638800 | AP9: 3044900 | AQ9: 2862800 | AR9: 3638400 | AS9: 3025700 | AT9: 3276300 | AU9: 3036700 | AV9: 3802700 | AW9: 3908600 | AX9: 3715700 | AY9: 4640900 | AZ9: 4866600 | BA9: 4337400 | BB9: 4063100 | BC9: 4358200 | BD9: 4437100 | BE9: 4653400 | BF9: 4477200 | BG9: 6265400 | BH9: 5599700 | BI9: 7954400 | BJ9: 8040800 | BK9: 5819100 | BL9: 4392600

Sheet PIVOTCHART_LOSS_VEGETATION
B1: MAPBIOMAS PERU - LULC COLLECTION 4 - PÉRDIDA DE VEGETACIÓN
B3: Transicion | C3: Pérdida de vegetación primaria
B5: Area (ha) | C5: Bioma
B6: Anio | C6: Amazonía | D6: Andes | E6: Bosque seco | F6: Desierto costero
B7: 1990 | C7: 8155723.7 | D7: 9243837 | E7: 1456992.6 | F7: 201472.3
B8: 1991 | C8: 10119800 | D8: 4954300 | E8: 2927600 | F8: 424800
B9: 1992 | C9: 7185900 | D9: 4430400 | E9: 335340 | F9: 30950
B10: 1993 | C10: 8095800 | D10: 6295400 | E10: 184840 | F10: 16589
B11: 1994 | C11: 8656600 | D11: 4097600 | E11: 296790 | F11: 8931.4
B12: 1995 | C12: 7512800 | D12: 3780100 | E12: 53527 | F12: 9016.8
B13: 1996 | C13: 9640600 | D13: 4672700 | E13: 1054500 | F13: 169990
B14: 1997 | C14: 9050800 | D14: 2956600 | E14: 1279300 | F14: 46235
B15: 1998 | C15: 9984300 | D15: 3258500 | E15: 1154000 | F15: 152050
B16: 1999 | C16: 9005000 | D16: 3182400 | E16: 1408100 | F16: 55753
B17: 2000 | C17: 7807000 | D17: 2857900 | E17: 654000 | F17: 38715
B18: 2001 | C18: 9116000 | D18: 2932000 | E18: 480800 | F18: 31887
... B42: 2025 | C42: 12481600 | D42: 1166100 | E42: 408310 | F42: 29132
B51: Area (ha) | D51: Transicion
B52: Bioma | C52: Anio | D52: Pérdida de vegetación primaria | E52: Pérdida de vegetación secundaria
B53: Amazonía | C53: 1990 | D53: 8155723.7
C54: 1991 | D54: 10119800
C55: 1992 | D55: 7185900 | E55: 215760
C56: 1993 | D56: 8095800 | E56: 713550
C57: 1994 | D57: 8656600 | E57: 1334100
C58: 1995 | D58: 7512800 | E58: 1643700
C59: 1996 | D59: 9640600 | E59: 2543500
C60: 1997 | D60: 9050800 | E60: 2720400
C61: 1998 | D61: 9984300 | E61: 3298800
C62: 1999 | D62: 9005000 | E62: 2878500
C63: 2000 | D63: 7807000 | E63: 2674000
C64: 2001 | D64: 9116000 | E64: 2875600
C65: 2002 | D65: 8540500 | E65: 2638800
C66: 2003 | D66: 8655200 | E66: 3044900
... C88: 2025 | D88: 12481600 | E88: 4392600
B89: Amazonía Total | D89: 3.4164462e+08 | E89: 127754410

Sheet METADATA
B2: Pérdida de Vegetacion / Loss vegetation
B3: Campo/Field | C3: Descripcion del campo | D3: Field Description
B4: territory | C4: Bioma | D4: Biome
B5: feature_id | C5: Identificador único (ID) | D5: Identifier (ID)
B6: transition_name | C6: Código de la leyenda correspondente a la clase de pérdida | D6: Legend code for each loss vegetation
B7: class | C7: Código de la leyenda correspondente a la clase de cobertura y uso del suelo | D7: Legend code for each land cover and land use class
B8: class_level_0 | C8: Clase de cobertura o uso del suelo en el nivel 0 (natural o antrópico) | D8: Land cover and land use class on legend level 0
B9: class_level_1 | C9: Clase de cobertura o uso del suelo en el nivel 1 (cinco clases) | D9: Land cover and land use class on legend level 1
B10: class_level_2 | C10: Clase de cobertura o uso del suelo en el nivel 2 (veinticuatro clases) | D10: Land cover and land use class on legend level 2
B11: class_level_3 | C11: Clase de cobertura o uso del suelo en el nivel 3 (veintiseis clases) | D11: Land cover and land use class on legend level 3

Sheet AUX_L2_PRI
A1: Bioma | B1: Año | C1: Deforestación de vegetación primaria (ha)
A2: Amazonía | B2: 1990 | C2: =IF(COUNTIFS(mapbiomas_peru_collection_4_deforestation_crossing_biomes_political_level_2_poli4[territor_level_2_1],A2,mapbiomas_peru_collection_4_deforestation_crossing_biomes_political_level_2_poli4[transition],4,mapbiomas_peru_collection_4_deforestation_crossing_biomes_political_level_2_poli4[1990],"<>")=0,"",SUMIFS(mapbiomas_peru_collection_4_deforestation_crossing_biomes_political_level_2_poli4[1990],mapbiomas_peru_collection_4_deforestation_crossing_biomes_political_level_2_poli4[territor_level_2_1],A2,mapbiomas_peru_collection_4_deforestation_crossing_biomes_political_level_2_poli4[transition],4)) -> 8155723.7
A3: Amazonía | B3: 1991 | C3: =IF(COUNTIFS(mapbiomas_peru_collection_4_deforestation_crossing_biomes_political_level_2_poli4[territor_level_2_1],A3,mapbiomas_peru_collection_4_deforestation_crossing_biomes_political_level_2_poli4[transition],4,mapbiomas_peru_collection_4_deforestation_crossing_biomes_political_level_2_poli4[1991],"<>")=0,"",SUMIFS(mapbiomas_peru_collection_4_deforestation_crossing_biomes_political_level_2_poli4[1991],mapbiomas_peru_collection_4_deforestation_crossing_biomes_political_level_2_poli4[territor_level_2_1],A3,mapbiomas_peru_collection_4_deforestation_crossing_biomes_political_level_2_poli4[transition],4)) -> 10119800
A4: Amazonía | B4: 1992 | C4: =IF(COUNTIFS(mapbiomas_peru_collection_4_deforestation_crossing_biomes_political_level_2_poli4[territor_level_2_1],A4,mapbiomas_peru_collection_4_deforestation_crossing_biomes_political_level_2_poli4[transition],4,mapbiomas_peru_collection_4_deforestation_crossing_biomes_political_level_2_poli4[1992],"<>")=0,"",SUMIFS(mapbiomas_peru_collection_4_deforestation_crossing_biomes_political_level_2_poli4[1992],mapbiomas_peru_collection_4_deforestation_crossing_biomes_political_level_2_poli4[territor_level_2_1],A4,mapbiomas_peru_collection_4_deforestation_crossing_biomes_political_level_2_poli4[transition],4)) -> 7185900
A5: Amazonía | B5: 1993 | C5: =IF(COUNTIFS(mapbiomas_peru_collection_4_deforestation_crossing_biomes_political_level_2_poli4[territor_level_2_1],A5,mapbiomas_peru_collection_4_deforestation_crossing_biomes_political_level_2_poli4[transition],4,mapbiomas_peru_collection_4_deforestation_crossing_biomes_political_level_2_poli4[1993],"<>")=0,"",SUMIFS(mapbiomas_peru_collection_4_deforestation_crossing_biomes_political_level_2_poli4[1993],mapbiomas_peru_collection_4_deforestation_crossing_biomes_political_level_2_poli4[territor_level_2_1],A5,mapbiomas_peru_collection_4_deforestation_crossing_biomes_political_level_2_poli4[transition],4)) -> 8095800
A6: Amazonía | B6: 1994 | C6: =IF(COUNTIFS(mapbiomas_peru_collection_4_deforestation_crossing_biomes_political_level_2_poli4[territor_level_2_1],A6,mapbiomas_peru_collection_4_deforestation_crossing_biomes_political_level_2_poli4[transition],4,mapbiomas_peru_collection_4_deforestation_crossing_biomes_political_level_2_poli4[1994],"<>")=0,"",SUMIFS(mapbiomas_peru_collection_4_deforestation_crossing_biomes_political_level_2_poli4[1994],mapbiomas_peru_collection_4_deforestation_crossing_biomes_political_level_2_poli4[territor_level_2_1],A6,mapbiomas_peru_collection_4_deforestation_crossing_biomes_political_level_2_poli4[transition],4)) -> 8656600
A7: Amazonía | B7: 1995 | C7: =IF(COUNTIFS(mapbiomas_peru_collection_4_deforestation_crossing_biomes_political_level_2_poli4[territor_level_2_1],A7,mapbiomas_peru_collection_4_deforestation_crossing_biomes_political_level_2_poli4[transition],4,mapbiomas_peru_collection_4_deforestation_crossing_biomes_political_level_2_poli4[1995],"<>")=0,"",SUMIFS(mapbiomas_peru_collection_4_deforestation_crossing_biomes_political_level_2_poli4[1995],mapbiomas_peru_collection_4_deforestation_crossing_biomes_political_level_2_poli4[territor_level_2_1],A7,mapbiomas_peru_collection_4_deforestation_crossing_biomes_political_level_2_poli4[transition],4)) -> 7512800
A8: Amazonía | B8: 1996 | C8: =IF(COUNTIFS(mapbiomas_peru_collection_4_deforestation_crossing_biomes_political_level_2_poli4[territor_level_2_1],A8,mapbiomas_peru_collection_4_deforestation_crossing_biomes_political_level_2_poli4[transition],4,mapbiomas_peru_collection_4_deforestation_crossing_biomes_political_level_2_poli4[1996],"<>")=0,"",SUMIFS(mapbiomas_peru_collection_4_deforestation_crossing_biomes_political_level_2_poli4[1996],mapbiomas_peru_collection_4_deforestation_crossing_biomes_political_level_2_poli4[territor_level_2_1],A8,mapbiomas_peru_collection_4_deforestation_crossing_biomes_political_level_2_poli4[transition],4)) -> 9640600
A9: Amazonía | B9: 1997 | C9: =IF(COUNTIFS(mapbiomas_peru_collection_4_deforestation_crossing_biomes_political_level_2_poli4[territor_level_2_1],A9,mapbiomas_peru_collection_4_deforestation_crossing_biomes_political_level_2_poli4[transition],4,mapbiomas_peru_collection_4_deforestation_crossing_biomes_political_level_2_poli4[1997],"<>")=0,"",SUMIFS(mapbiomas_peru_collection_4_deforestation_crossing_biomes_political_level_2_poli4[1997],mapbiomas_peru_collection_4_deforestation_crossing_biomes_political_level_2_poli4[territor_level_2_1],A9,mapbiomas_peru_collection_4_deforestation_crossing_biomes_political_level_2_poli4[transition],4)) -> 9050800
A10: Amazonía | B10: 1998 | C10: =IF(COUNTIFS(mapbiomas_peru_collection_4_deforestation_crossing_biomes_political_level_2_poli4[territor_level_2_1],A10,mapbiomas_peru_collection_4_deforestation_crossing_biomes_political_level_2_poli4[transition],4,mapbiomas_peru_collection_4_deforestation_crossing_biomes_political_level_2_poli4[1998],"<>")=0,"",SUMIFS(mapbiomas_peru_collection_4_deforestation_crossing_biomes_political_level_2_poli4[1998],mapbiomas_peru_collection_4_deforestation_crossing_biomes_political_level_2_poli4[territor_level_2_1],A10,mapbiomas_peru_collection_4_deforestation_crossing_biomes_political_level_2_poli4[transition],4)) -> 9984300
A11: Amazonía | B11: 1999 | C11: =IF(COUNTIFS(mapbiomas_peru_collection_4_deforestation_crossing_biomes_political_level_2_poli4[territor_level_2_1],A11,mapbiomas_peru_collection_4_deforestation_crossing_biomes_political_level_2_poli4[transition],4,mapbiomas_peru_collection_4_deforestation_crossing_biomes_political_level_2_poli4[1999],"<>")=0,"",SUMIFS(mapbiomas_peru_collection_4_deforestation_crossing_biomes_political_level_2_poli4[1999],mapbiomas_peru_collection_4_deforestation_crossing_biomes_political_level_2_poli4[territor_level_2_1],A11,mapbiomas_peru_collection_4_deforestation_crossing_biomes_political_level_2_poli4[transition],4)) -> 9005000
A12: Amazonía | B12: 2000 | C12: =IF(COUNTIFS(mapbiomas_peru_collection_4_deforestation_crossing_biomes_political_level_2_poli4[territor_level_2_1],A12,mapbiomas_peru_collection_4_deforestation_crossing_biomes_political_level_2_poli4[transition],4,mapbiomas_peru_collection_4_deforestation_crossing_biomes_political_level_2_poli4[2000],"<>")=0,"",SUMIFS(mapbiomas_peru_collection_4_deforestation_crossing_biomes_political_level_2_poli4[2000],mapbiomas_peru_collection_4_deforestation_crossing_biomes_political_level_2_poli4[territor_level_2_1],A12,mapbiomas_peru_collection_4_deforestation_crossing_biomes_political_level_2_poli4[transition],4)) -> 7807000
A13: Amazonía | B13: 2001 | C13: =IF(COUNTIFS(mapbiomas_peru_collection_4_deforestation_crossing_biomes_political_level_2_poli4[territor_level_2_1],A13,mapbiomas_peru_collection_4_deforestation_crossing_biomes_political_level_2_poli4[transition],4,mapbiomas_peru_collection_4_deforestation_crossing_biomes_political_level_2_poli4[2001],"<>")=0,"",SUMIFS(mapbiomas_peru_collection_4_deforestation_crossing_biomes_political_level_2_poli4[2001],mapbiomas_peru_collection_4_deforestation_crossing_biomes_political_level_2_poli4[territor_level_2_1],A13,mapbiomas_peru_collection_4_deforestation_crossing_biomes_political_level_2_poli4[transition],4)) -> 9116000
A14: Amazonía | B14: 2002 | C14: =IF(COUNTIFS(mapbiomas_peru_collection_4_deforestation_crossing_biomes_political_level_2_poli4[territor_level_2_1],A14,mapbiomas_peru_collection_4_deforestation_crossing_biomes_political_level_2_poli4[transition],4,mapbiomas_peru_collection_4_deforestation_crossing_biomes_political_level_2_poli4[2002],"<>")=0,"",SUMIFS(mapbiomas_peru_collection_4_deforestation_crossing_biomes_political_level_2_poli4[2002],mapbiomas_peru_collection_4_deforestation_crossing_biomes_political_level_2_poli4[territor_level_2_1],A14,mapbiomas_peru_collection_4_deforestation_crossing_biomes_political_level_2_poli4[transition],4)) -> 8540500
A15: Amazonía | B15: 2003 | C15: =IF(COUNTIFS(mapbiomas_peru_collection_4_deforestation_crossing_biomes_political_level_2_poli4[territor_level_2_1],A15,mapbiomas_peru_collection_4_deforestation_crossing_biomes_political_level_2_poli4[transition],4,mapbiomas_peru_collection_4_deforestation_crossing_biomes_political_level_2_poli4[2003],"<>")=0,"",SUMIFS(mapbiomas_peru_collection_4_deforestation_crossing_biomes_political_level_2_poli4[2003],mapbiomas_peru_collection_4_deforestation_crossing_biomes_political_level_2_poli4[territor_level_2_1],A15,mapbiomas_peru_collection_4_deforestation_crossing_biomes_political_level_2_poli4[transition],4)) -> 8655200
A16: Amazonía | B16: 2004 | C16: =IF(COUNTIFS(mapbiomas_peru_collection_4_deforestation_crossing_biomes_political_level_2_poli4[territor_level_2_1],A16,mapbiomas_peru_collection_4_deforestation_crossing_biomes_political_level_2_poli4[transition],4,mapbiomas_peru_collection_4_deforestation_crossing_biomes_political_level_2_poli4[2004],"<>")=0,"",SUMIFS(mapbiomas_peru_collection_4_deforestation_crossing_biomes_political_level_2_poli4[2004],mapbiomas_peru_collection_4_deforestation_crossing_biomes_political_level_2_poli4[territor_level_2_1],A16,mapbiomas_peru_collection_4_deforestation_crossing_biomes_political_level_2_poli4[transition],4)) -> 7498400
A17: Amazonía | B17: 2005 | C17: =IF(COUNTIFS(mapbiomas_peru_collection_4_deforestation_crossing_biomes_political_level_2_poli4[territor_level_2_1],A17,mapbiomas_peru_collection_4_deforestation_crossing_biomes_political_level_2_poli4[transition],4,mapbiomas_peru_collection_4_deforestation_crossing_biomes_political_level_2_poli4[2005],"<>")=0,"",SUMIFS(mapbiomas_peru_collection_4_deforestation_crossing_biomes_political_level_2_poli4[2005],mapbiomas_peru_collection_4_deforestation_crossing_biomes_political_level_2_poli4[territor_level_2_1],A17,mapbiomas_peru_collection_4_deforestation_crossing_biomes_political_level_2_poli4[transition],4)) -> 10317500
A18: Amazonía | B18: 2006 | C18: =IF(COUNTIFS(mapbiomas_peru_collection_4_deforestation_crossing_biomes_political_level_2_poli4[territor_level_2_1],A18,mapbiomas_peru_collection_4_deforestation_crossing_biomes_political_level_2_poli4[transition],4,mapbiomas_peru_collection_4_deforestation_crossing_biomes_political_level_2_poli4[2006],"<>")=0,"",SUMIFS(mapbiomas_peru_collection_4_deforestation_crossing_biomes_political_level_2_poli4[2006],mapbiomas_peru_collection_4_deforestation_crossing_biomes_political_level_2_poli4[territor_level_2_1],A18,mapbiomas_peru_collection_4_deforestation_crossing_biomes_political_level_2_poli4[transition],4)) -> 8015200
A19: Amazonía | B19: 2007 | C19: =IF(COUNTIFS(mapbiomas_peru_collection_4_deforestation_crossing_biomes_political_level_2_poli4[territor_level_2_1],A19,mapbiomas_peru_collection_4_deforestation_crossing_biomes_political_level_2_poli4[transition],4,mapbiomas_peru_collection_4_deforestation_crossing_biomes_political_level_2_poli4[2007],"<>")=0,"",SUMIFS(mapbiomas_peru_collection_4_deforestation_crossing_biomes_political_level_2_poli4[2007],mapbiomas_peru_collection_4_deforestation_crossing_biomes_political_level_2_poli4[territor_level_2_1],A19,mapbiomas_peru_collection_4_deforestation_crossing_biomes_political_level_2_poli4[transition],4)) -> 8994600
A20: Amazonía | B20: 2008 | C20: =IF(COUNTIFS(mapbiomas_peru_collection_4_deforestation_crossing_biomes_political_level_2_poli4[territor_level_2_1],A20,mapbiomas_peru_collection_4_deforestation_crossing_biomes_political_level_2_poli4[transition],4,mapbiomas_peru_collection_4_deforestation_crossing_biomes_political_level_2_poli4[2008],"<>")=0,"",SUMIFS(mapbiomas_peru_collection_4_deforestation_crossing_biomes_political_level_2_poli4[2008],mapbiomas_peru_collection_4_deforestation_crossing_biomes_political_level_2_poli4[territor_level_2_1],A20,mapbiomas_peru_collection_4_deforestation_crossing_biomes_political_level_2_poli4[transition],4)) -> 9496300
A21: Amazonía | B21: 2009 | C21: =IF(COUNTIFS(mapbiomas_peru_collection_4_deforestation_crossing_biomes_political_level_2_poli4[territor_level_2_1],A21,mapbiomas_peru_collection_4_deforestation_crossing_biomes_political_level_2_poli4[transition],4,mapbiomas_peru_collection_4_deforestation_crossing_biomes_political_level_2_poli4[2009],"<>")=0,"",SUMIFS(mapbiomas_peru_collection_4_deforestation_crossing_biomes_political_level_2_poli4[2009],mapbiomas_peru_collection_4_deforestation_crossing_biomes_political_level_2_poli4[territor_level_2_1],A21,mapbiomas_peru_collection_4_deforestation_crossing_biomes_political_level_2_poli4[transition],4)) -> 10918400
A22: Amazonía | B22: 2010 | C22: =IF(COUNTIFS(mapbiomas_peru_collection_4_deforestation_crossing_biomes_political_level_2_poli4[territor_level_2_1],A22,mapbiomas_peru_collection_4_deforestation_crossing_biomes_political_level_2_poli4[transition],4,mapbiomas_peru_collection_4_deforestation_crossing_biomes_political_level_2_poli4[2010],"<>")=0,"",SUMIFS(mapbiomas_peru_collection_4_deforestation_crossing_biomes_political_level_2_poli4[2010],mapbiomas_peru_collection_4_deforestation_crossing_biomes_political_level_2_poli4[territor_level_2_1],A22,mapbiomas_peru_collection_4_deforestation_crossing_biomes_political_level_2_poli4[transition],4)) -> 10165200
A23: Amazonía | B23: 2011 | C23: =IF(COUNTIFS(mapbiomas_peru_collection_4_deforestation_crossing_biomes_political_level_2_poli4[territor_level_2_1],A23,mapbiomas_peru_collection_4_deforestation_crossing_biomes_political_level_2_poli4[transition],4,mapbiomas_peru_collection_4_deforestation_crossing_biomes_political_level_2_poli4[2011],"<>")=0,"",SUMIFS(mapbiomas_peru_collection_4_deforestation_crossing_biomes_political_level_2_poli4[2011],mapbiomas_peru_collection_4_deforestation_crossing_biomes_political_level_2_poli4[territor_level_2_1],A23,mapbiomas_peru_collection_4_deforestation_crossing_biomes_political_level_2_poli4[transition],4)) -> 8069700
A24: Amazonía | B24: 2012 | C24: =IF(COUNTIFS(mapbiomas_peru_collection_4_deforestation_crossing_biomes_political_level_2_poli4[territor_level_2_1],A24,mapbiomas_peru_collection_4_deforestation_crossing_biomes_political_level_2_poli4[transition],4,mapbiomas_peru_collection_4_deforestation_crossing_biomes_political_level_2_poli4[2012],"<>")=0,"",SUMIFS(mapbiomas_peru_collection_4_deforestation_crossing_biomes_political_level_2_poli4[2012],mapbiomas_peru_collection_4_deforestation_crossing_biomes_political_level_2_poli4[territor_level_2_1],A24,mapbiomas_peru_collection_4_deforestation_crossing_biomes_political_level_2_poli4[transition],4)) -> 11064900
A25: Amazonía | B25: 2013 | C25: =IF(COUNTIFS(mapbiomas_peru_collection_4_deforestation_crossing_biomes_political_level_2_poli4[territor_level_2_1],A25,mapbiomas_peru_collection_4_deforestation_crossing_biomes_political_level_2_poli4[transition],4,mapbiomas_peru_collection_4_deforestation_crossing_biomes_political_level_2_poli4[2013],"<>")=0,"",SUMIFS(mapbiomas_peru_collection_4_deforestation_crossing_biomes_political_level_2_poli4[2013],mapbiomas_peru_collection_4_deforestation_crossing_biomes_political_level_2_poli4[territor_level_2_1],A25,mapbiomas_peru_collection_4_deforestation_crossing_biomes_political_level_2_poli4[transition],4)) -> 10711900
A26: Amazonía | B26: 2014 | C26: =IF(COUNTIFS(mapbiomas_peru_collection_4_deforestation_crossing_biomes_political_level_2_poli4[territor_level_2_1],A26,mapbiomas_peru_collection_4_deforestation_crossing_biomes_political_level_2_poli4[transition],4,mapbiomas_peru_collection_4_deforestation_crossing_biomes_political_level_2_poli4[2014],"<>")=0,"",SUMIFS(mapbiomas_peru_collection_4_deforestation_crossing_biomes_political_level_2_poli4[2014],mapbiomas_peru_collection_4_deforestation_crossing_biomes_political_level_2_poli4[territor_level_2_1],A26,mapbiomas_peru_collection_4_deforestation_crossing_biomes_political_level_2_poli4[transition],4)) -> 9461500
A27: Amazonía | B27: 2015 | C27: =IF(COUNTIFS(mapbiomas_peru_collection_4_deforestation_crossing_biomes_political_level_2_poli4[territor_level_2_1],A27,mapbiomas_peru_collection_4_deforestation_crossing_biomes_political_level_2_poli4[transition],4,mapbiomas_peru_collection_4_deforestation_crossing_biomes_political_level_2_poli4[2015],"<>")=0,"",SUMIFS(mapbiomas_peru_collection_4_deforestation_crossing_biomes_political_level_2_poli4[2015],mapbiomas_peru_collection_4_deforestation_crossing_biomes_political_level_2_poli4[territor_level_2_1],A27,mapbiomas_peru_collection_4_deforestation_crossing_biomes_political_level_2_poli4[transition],4)) -> 9116800
A28: Amazonía | B28: 2016 | C28: =IF(COUNTIFS(mapbiomas_peru_collection_4_deforestation_crossing_biomes_political_level_2_poli4[territor_level_2_1],A28,mapbiomas_peru_collection_4_deforestation_crossing_biomes_political_level_2_poli4[transition],4,mapbiomas_peru_collection_4_deforestation_crossing_biomes_political_level_2_poli4[2016],"<>")=0,"",SUMIFS(mapbiomas_peru_collection_4_deforestation_crossing_biomes_political_level_2_poli4[2016],mapbiomas_peru_collection_4_deforestation_crossing_biomes_political_level_2_poli4[territor_level_2_1],A28,mapbiomas_peru_collection_4_deforestation_crossing_biomes_political_level_2_poli4[transition],4)) -> 8216500
A29: Amazonía | B29: 2017 | C29: =IF(COUNTIFS(mapbiomas_peru_collection_4_deforestation_crossing_biomes_political_level_2_poli4[territor_level_2_1],A29,mapbiomas_peru_collection_4_deforestation_crossing_biomes_political_level_2_poli4[transition],4,mapbiomas_peru_collection_4_deforestation_crossing_biomes_political_level_2_poli4[2017],"<>")=0,"",SUMIFS(mapbiomas_peru_collection_4_deforestation_crossing_biomes_political_level_2_poli4[2017],mapbiomas_peru_collection_4_deforestation_crossing_biomes_political_level_2_poli4[territor_level_2_1],A29,mapbiomas_peru_collection_4_deforestation_crossing_biomes_political_level_2_poli4[transition],4)) -> 9061700
A30: Amazonía | B30: 2018 | C30: =IF(COUNTIFS(mapbiomas_peru_collection_4_deforestation_crossing_biomes_political_level_2_poli4[territor_level_2_1],A30,mapbiomas_peru_collection_4_deforestation_crossing_biomes_political_level_2_poli4[transition],4,mapbiomas_peru_collection_4_deforestation_crossing_biomes_political_level_2_poli4[2018],"<>")=0,"",SUMIFS(mapbiomas_peru_collection_4_deforestation_crossing_biomes_political_level_2_poli4[2018],mapbiomas_peru_collection_4_deforestation_crossing_biomes_political_level_2_poli4[territor_level_2_1],A30,mapbiomas_peru_collection_4_deforestation_crossing_biomes_political_level_2_poli4[transition],4)) -> 9939600
A31: Amazonía | B31: 2019 | C31: =IF(COUNTIFS(mapbiomas_peru_collection_4_deforestation_crossing_biomes_political_level_2_poli4[territor_level_2_1],A31,mapbiomas_peru_collection_4_deforestation_crossing_biomes_political_level_2_poli4[transition],4,mapbiomas_peru_collection_4_deforestation_crossing_biomes_political_level_2_poli4[2019],"<>")=0,"",SUMIFS(mapbiomas_peru_collection_4_deforestation_crossing_biomes_political_level_2_poli4[2019],mapbiomas_peru_collection_4_deforestation_crossing_biomes_political_level_2_poli4[territor_level_2_1],A31,mapbiomas_peru_collection_4_deforestation_crossing_biomes_political_level_2_poli4[transition],4)) -> 9732100
A32: Amazonía | B32: 2020 | C32: =IF(COUNTIFS(mapbiomas_peru_collection_4_deforestation_crossing_biomes_political_level_2_poli4[territor_level_2_1],A32,mapbiomas_peru_collection_4_deforestation_crossing_biomes_political_level_2_poli4[transition],4,mapbiomas_peru_collection_4_deforestation_crossing_biomes_political_level_2_poli4[2020],"<>")=0,"",SUMIFS(mapbiomas_peru_collection_4_deforestation_crossing_biomes_political_level_2_poli4[2020],mapbiomas_peru_collection_4_deforestation_crossing_biomes_political_level_2_poli4[territor_level_2_1],A32,mapbiomas_peru_collection_4_deforestation_crossing_biomes_political_level_2_poli4[transition],4)) -> 11604500
A33: Amazonía | B33: 2021 | C33: =IF(COUNTIFS(mapbiomas_peru_collection_4_deforestation_crossing_biomes_political_level_2_poli4[territor_level_2_1],A33,mapbiomas_peru_collection_4_deforestation_crossing_biomes_political_level_2_poli4[transition],4,mapbiomas_peru_collection_4_deforestation_crossing_biomes_political_level_2_poli4[2021],"<>")=0,"",SUMIFS(mapbiomas_peru_collection_4_deforestation_crossing_biomes_political_level_2_poli4[2021],mapbiomas_peru_collection_4_deforestation_crossing_biomes_political_level_2_poli4[territor_level_2_1],A33,mapbiomas_peru_collection_4_deforestation_crossing_biomes_political_level_2_poli4[transition],4)) -> 10634800
A34: Amazonía | B34: 2022 | C34: =IF(COUNTIFS(mapbiomas_peru_collection_4_deforestation_crossing_biomes_political_level_2_poli4[territor_level_2_1],A34,mapbiomas_peru_collection_4_deforestation_crossing_biomes_political_level_2_poli4[transition],4,mapbiomas_peru_collection_4_deforestation_crossing_biomes_political_level_2_poli4[2022],"<>")=0,"",SUMIFS(mapbiomas_peru_collection_4_deforestation_crossing_biomes_political_level_2_poli4[2022],mapbiomas_peru_collection_4_deforestation_crossing_biomes_political_level_2_poli4[territor_level_2_1],A34,mapbiomas_peru_collection_4_deforestation_crossing_biomes_political_level_2_poli4[transition],4)) -> 12679100
A35: Amazonía | B35: 2023 | C35: =IF(COUNTIFS(mapbiomas_peru_collection_4_deforestation_crossing_biomes_political_level_2_poli4[territor_level_2_1],A35,mapbiomas_peru_collection_4_deforestation_crossing_biomes_political_level_2_poli4[transition],4,mapbiomas_peru_collection_4_deforestation_crossing_biomes_political_level_2_poli4[2023],"<>")=0,"",SUMIFS(mapbiomas_peru_collection_4_deforestation_crossing_biomes_political_level_2_poli4[2023],mapbiomas_peru_collection_4_deforestation_crossing_biomes_political_level_2_poli4[territor_level_2_1],A35,mapbiomas_peru_collection_4_deforestation_crossing_biomes_political_level_2_poli4[transition],4)) -> 13393600
A36: Amazonía | B36: 2024 | C36: =IF(COUNTIFS(mapbiomas_peru_collection_4_deforestation_crossing_biomes_political_level_2_poli4[territor_level_2_1],A36,mapbiomas_peru_collection_4_deforestation_crossing_biomes_political_level_2_poli4[transition],4,mapbiomas_peru_collection_4_deforestation_crossing_biomes_political_level_2_poli4[2024],"<>")=0,"",SUMIFS(mapbiomas_peru_collection_4_deforestation_crossing_biomes_political_level_2_poli4[2024],mapbiomas_peru_collection_4_deforestation_crossing_biomes_political_level_2_poli4[territor_level_2_1],A36,mapbiomas_peru_collection_4_deforestation_crossing_biomes_political_level_2_poli4[transition],4)) -> 8544700
A37: Amazonía | B37: 2025 | C37: =IF(COUNTIFS(mapbiomas_peru_collection_4_deforestation_crossing_biomes_political_level_2_poli4[territor_level_2_1],A37,mapbiomas_peru_collection_4_deforestation_crossing_biomes_political_level_2_poli4[transition],4,mapbiomas_peru_collection_4_deforestation_crossing_biomes_political_level_2_poli4[2025],"<>")=0,"",SUMIFS(mapbiomas_peru_collection_4_deforestation_crossing_biomes_political_level_2_poli4[2025],mapbiomas_peru_collection_4_deforestation_crossing_biomes_political_level_2_poli4[territor_level_2_1],A37,mapbiomas_peru_collection_4_deforestation_crossing_biomes_political_level_2_poli4[transition],4)) -> 12481600
A38: Andes | B38: 1990 | C38: =IF(COUNTIFS(mapbiomas_peru_collection_4_deforestation_crossing_biomes_political_level_2_poli4[territor_level_2_1],A38,mapbiomas_peru_collection_4_deforestation_crossing_biomes_political_level_2_poli4[transition],4,mapbiomas_peru_collection_4_deforestation_crossing_biomes_political_level_2_poli4[1990],"<>")=0,"",SUMIFS(mapbiomas_peru_collection_4_deforestation_crossing_biomes_political_level_2_poli4[1990],mapbiomas_peru_collection_4_deforestation_crossing_biomes_political_level_2_poli4[territor_level_2_1],A38,mapbiomas_peru_collection_4_deforestation_crossing_biomes_political_level_2_poli4[transition],4)) -> 9243837
A39: Andes | B39: 1991 | C39: =IF(COUNTIFS(mapbiomas_peru_collection_4_deforestation_crossing_biomes_political_level_2_poli4[territor_level_2_1],A39,mapbiomas_peru_collection_4_deforestation_crossing_biomes_political_level_2_poli4[transition],4,mapbiomas_peru_collection_4_deforestation_crossing_biomes_political_level_2_poli4[1991],"<>")=0,"",SUMIFS(mapbiomas_peru_collection_4_deforestation_crossing_biomes_political_level_2_poli4[1991],mapbiomas_peru_collection_4_deforestation_crossing_biomes_political_level_2_poli4[territor_level_2_1],A39,mapbiomas_peru_collection_4_deforestation_crossing_biomes_political_level_2_poli4[transition],4)) -> 4954300
A40: Andes | B40: 1992 | C40: =IF(COUNTIFS(mapbiomas_peru_collection_4_deforestation_crossing_biomes_political_level_2_poli4[territor_level_2_1],A40,mapbiomas_peru_collection_4_deforestation_crossing_biomes_political_level_2_poli4[transition],4,mapbiomas_peru_collection_4_deforestation_crossing_biomes_political_level_2_poli4[1992],"<>")=0,"",SUMIFS(mapbiomas_peru_collection_4_deforestation_crossing_biomes_political_level_2_poli4[1992],mapbiomas_peru_collection_4_deforestation_crossing_biomes_political_level_2_poli4[territor_level_2_1],A40,mapbiomas_peru_collection_4_deforestation_crossing_biomes_political_level_2_poli4[transition],4)) -> 4430400
A41: Andes | B41: 1993 | C41: =IF(COUNTIFS(mapbiomas_peru_collection_4_deforestation_crossing_biomes_political_level_2_poli4[territor_level_2_1],A41,mapbiomas_peru_collection_4_deforestation_crossing_biomes_political_level_2_poli4[transition],4,mapbiomas_peru_collection_4_deforestation_crossing_biomes_political_level_2_poli4[1993],"<>")=0,"",SUMIFS(mapbiomas_peru_collection_4_deforestation_crossing_biomes_political_level_2_poli4[1993],mapbiomas_peru_collection_4_deforestation_crossing_biomes_political_level_2_poli4[territor_level_2_1],A41,mapbiomas_peru_collection_4_deforestation_crossing_biomes_political_level_2_poli4[transition],4)) -> 6295400
A42: Andes | B42: 1994 | C42: =IF(COUNTIFS(mapbiomas_peru_collection_4_deforestation_crossing_biomes_political_level_2_poli4[territor_level_2_1],A42,mapbiomas_peru_collection_4_deforestation_crossing_biomes_political_level_2_poli4[transition],4,mapbiomas_peru_collection_4_deforestation_crossing_biomes_political_level_2_poli4[1994],"<>")=0,"",SUMIFS(mapbiomas_peru_collection_4_deforestation_crossing_biomes_political_level_2_poli4[1994],mapbiomas_peru_collection_4_deforestation_crossing_biomes_political_level_2_poli4[territor_level_2_1],A42,mapbiomas_peru_collection_4_deforestation_crossing_biomes_political_level_2_poli4[transition],4)) -> 4097600
A43: Andes | B43: 1995 | C43: =IF(COUNTIFS(mapbiomas_peru_collection_4_deforestation_crossing_biomes_political_level_2_poli4[territor_level_2_1],A43,mapbiomas_peru_collection_4_deforestation_crossing_biomes_political_level_2_poli4[transition],4,mapbiomas_peru_collection_4_deforestation_crossing_biomes_political_level_2_poli4[1995],"<>")=0,"",SUMIFS(mapbiomas_peru_collection_4_deforestation_crossing_biomes_political_level_2_poli4[1995],mapbiomas_peru_collection_4_deforestation_crossing_biomes_political_level_2_poli4[territor_level_2_1],A43,mapbiomas_peru_collection_4_deforestation_crossing_biomes_political_level_2_poli4[transition],4)) -> 3780100
A44: Andes | B44: 1996 | C44: =IF(COUNTIFS(mapbiomas_peru_collection_4_deforestation_crossing_biomes_political_level_2_poli4[territor_level_2_1],A44,mapbiomas_peru_collection_4_deforestation_crossing_biomes_political_level_2_poli4[transition],4,mapbiomas_peru_collection_4_deforestation_crossing_biomes_political_level_2_poli4[1996],"<>")=0,"",SUMIFS(mapbiomas_peru_collection_4_deforestation_crossing_biomes_political_level_2_poli4[1996],mapbiomas_peru_collection_4_deforestation_crossing_biomes_political_level_2_poli4[territor_level_2_1],A44,mapbiomas_peru_collection_4_deforestation_crossing_biomes_political_level_2_poli4[transition],4)) -> 4672700
A45: Andes | B45: 1997 | C45: =IF(COUNTIFS(mapbiomas_peru_collection_4_deforestation_crossing_biomes_political_level_2_poli4[territor_level_2_1],A45,mapbiomas_peru_collection_4_deforestation_crossing_biomes_political_level_2_poli4[transition],4,mapbiomas_peru_collection_4_deforestation_crossing_biomes_political_level_2_poli4[1997],"<>")=0,"",SUMIFS(mapbiomas_peru_collection_4_deforestation_crossing_biomes_political_level_2_poli4[1997],mapbiomas_peru_collection_4_deforestation_crossing_biomes_political_level_2_poli4[territor_level_2_1],A45,mapbiomas_peru_collection_4_deforestation_crossing_biomes_political_level_2_poli4[transition],4)) -> 2956600
A46: Andes | B46: 1998 | C46: =IF(COUNTIFS(mapbiomas_peru_collection_4_deforestation_crossing_biomes_political_level_2_poli4[territor_level_2_1],A46,mapbiomas_peru_collection_4_deforestation_crossing_biomes_political_level_2_poli4[transition],4,mapbiomas_peru_collection_4_deforestation_crossing_biomes_political_level_2_poli4[1998],"<>")=0,"",SUMIFS(mapbiomas_peru_collection_4_deforestation_crossing_biomes_political_level_2_poli4[1998],mapbiomas_peru_collection_4_deforestation_crossing_biomes_political_level_2_poli4[territor_level_2_1],A46,mapbiomas_peru_collection_4_deforestation_crossing_biomes_political_level_2_poli4[transition],4)) -> 3258500
A47: Andes | B47: 1999 | C47: =IF(COUNTIFS(mapbiomas_peru_collection_4_deforestation_crossing_biomes_political_level_2_poli4[territor_level_2_1],A47,mapbiomas_peru_collection_4_deforestation_crossing_biomes_political_level_2_poli4[transition],4,mapbiomas_peru_collection_4_deforestation_crossing_biomes_political_level_2_poli4[1999],"<>")=0,"",SUMIFS(mapbiomas_peru_collection_4_deforestation_crossing_biomes_political_level_2_poli4[1999],mapbiomas_peru_collection_4_deforestation_crossing_biomes_political_level_2_poli4[territor_level_2_1],A47,mapbiomas_peru_collection_4_deforestation_crossing_biomes_political_level_2_poli4[transition],4)) -> 3182400
A48: Andes | B48: 2000 | C48: =IF(COUNTIFS(mapbiomas_peru_collection_4_deforestation_crossing_biomes_political_level_2_poli4[territor_level_2_1],A48,mapbiomas_peru_collection_4_deforestation_crossing_biomes_political_level_2_poli4[transition],4,mapbiomas_peru_collection_4_deforestation_crossing_biomes_political_level_2_poli4[2000],"<>")=0,"",SUMIFS(mapbiomas_peru_collection_4_deforestation_crossing_biomes_political_level_2_poli4[2000],mapbiomas_peru_collection_4_deforestation_crossing_biomes_political_level_2_poli4[territor_level_2_1],A48,mapbiomas_peru_collection_4_deforestation_crossing_biomes_political_level_2_poli4[transition],4)) -> 2857900
A49: Andes | B49: 2001 | C49: =IF(COUNTIFS(mapbiomas_peru_collection_4_deforestation_crossing_biomes_political_level_2_poli4[territor_level_2_1],A49,mapbiomas_peru_collection_4_deforestation_crossing_biomes_political_level_2_poli4[transition],4,mapbiomas_peru_collection_4_deforestation_crossing_biomes_political_level_2_poli4[2001],"<>")=0,"",SUMIFS(mapbiomas_peru_collection_4_deforestation_crossing_biomes_political_level_2_poli4[2001],mapbiomas_peru_collection_4_deforestation_crossing_biomes_political_level_2_poli4[territor_level_2_1],A49,mapbiomas_peru_collection_4_deforestation_crossing_biomes_political_level_2_poli4[transition],4)) -> 2932000
A50: Andes | B50: 2002 | C50: =IF(COUNTIFS(mapbiomas_peru_collection_4_deforestation_crossing_biomes_political_level_2_poli4[territor_level_2_1],A50,mapbiomas_peru_collection_4_deforestation_crossing_biomes_political_level_2_poli4[transition],4,mapbiomas_peru_collection_4_deforestation_crossing_biomes_political_level_2_poli4[2002],"<>")=0,"",SUMIFS(mapbiomas_peru_collection_4_deforestation_crossing_biomes_political_level_2_poli4[2002],mapbiomas_peru_collection_4_deforestation_crossing_biomes_political_level_2_poli4[territor_level_2_1],A50,mapbiomas_peru_collection_4_deforestation_crossing_biomes_political_level_2_poli4[transition],4)) -> 2355500
A51: Andes | B51: 2003 | C51: =IF(COUNTIFS(mapbiomas_peru_collection_4_deforestation_crossing_biomes_political_level_2_poli4[territor_level_2_1],A51,mapbiomas_peru_collection_4_deforestation_crossing_biomes_political_level_2_poli4[transition],4,mapbiomas_peru_collection_4_deforestation_crossing_biomes_political_level_2_poli4[2003],"<>")=0,"",SUMIFS(mapbiomas_peru_collection_4_deforestation_crossing_biomes_political_level_2_poli4[2003],mapbiomas_peru_collection_4_deforestation_crossing_biomes_political_level_2_poli4[territor_level_2_1],A51,mapbiomas_peru_collection_4_deforestation_crossing_biomes_political_level_2_poli4[transition],4)) -> 2837700
A52: Andes | B52: 2004 | C52: =IF(COUNTIFS(mapbiomas_peru_collection_4_deforestation_crossing_biomes_political_level_2_poli4[territor_level_2_1],A52,mapbiomas_peru_collection_4_deforestation_crossing_biomes_political_level_2_poli4[transition],4,mapbiomas_peru_collection_4_deforestation_crossing_biomes_political_level_2_poli4[2004],"<>")=0,"",SUMIFS(mapbiomas_peru_collection_4_deforestation_crossing_biomes_political_level_2_poli4[2004],mapbiomas_peru_collection_4_deforestation_crossing_biomes_political_level_2_poli4[territor_level_2_1],A52,mapbiomas_peru_collection_4_deforestation_crossing_biomes_political_level_2_poli4[transition],4)) -> 2579000
A53: Andes | B53: 2005 | C53: =IF(COUNTIFS(mapbiomas_peru_collection_4_deforestation_crossing_biomes_political_level_2_poli4[territor_level_2_1],A53,mapbiomas_peru_collection_4_deforestation_crossing_biomes_political_level_2_poli4[transition],4,mapbiomas_peru_collection_4_deforestation_crossing_biomes_political_level_2_poli4[2005],"<>")=0,"",SUMIFS(mapbiomas_peru_collection_4_deforestation_crossing_biomes_political_level_2_poli4[2005],mapbiomas_peru_collection_4_deforestation_crossing_biomes_political_level_2_poli4[territor_level_2_1],A53,mapbiomas_peru_collection_4_deforestation_crossing_biomes_political_level_2_poli4[transition],4)) -> 1649300
A54: Andes | B54: 2006 | C54: =IF(COUNTIFS(mapbiomas_peru_collection_4_deforestation_crossing_biomes_political_level_2_poli4[territor_level_2_1],A54,mapbiomas_peru_collection_4_deforestation_crossing_biomes_political_level_2_poli4[transition],4,mapbiomas_peru_collection_4_deforestation_crossing_biomes_political_level_2_poli4[2006],"<>")=0,"",SUMIFS(mapbiomas_peru_collection_4_deforestation_crossing_biomes_political_level_2_poli4[2006],mapbiomas_peru_collection_4_deforestation_crossing_biomes_political_level_2_poli4[territor_level_2_1],A54,mapbiomas_peru_collection_4_deforestation_crossing_biomes_political_level_2_poli4[transition],4)) -> 2292300
A55: Andes | B55: 2007 | C55: =IF(COUNTIFS(mapbiomas_peru_collection_4_deforestation_crossing_biomes_political_level_2_poli4[territor_level_2_1],A55,mapbiomas_peru_collection_4_deforestation_crossing_biomes_political_level_2_poli4[transition],4,mapbiomas_peru_collection_4_deforestation_crossing_biomes_political_level_2_poli4[2007],"<>")=0,"",SUMIFS(mapbiomas_peru_collection_4_deforestation_crossing_biomes_political_level_2_poli4[2007],mapbiomas_peru_collection_4_deforestation_crossing_biomes_political_level_2_poli4[territor_level_2_1],A55,mapbiomas_peru_collection_4_deforestation_crossing_biomes_political_level_2_poli4[transition],4)) -> 1717400
A56: Andes | B56: 2008 | C56: =IF(COUNTIFS(mapbiomas_peru_collection_4_deforestation_crossing_biomes_political_level_2_poli4[territor_level_2_1],A56,mapbiomas_peru_collection_4_deforestation_crossing_biomes_political_level_2_poli4[transition],4,mapbiomas_peru_collection_4_deforestation_crossing_biomes_political_level_2_poli4[2008],"<>")=0,"",SUMIFS(mapbiomas_peru_collection_4_deforestation_crossing_biomes_political_level_2_poli4[2008],mapbiomas_peru_collection_4_deforestation_crossing_biomes_political_level_2_poli4[territor_level_2_1],A56,mapbiomas_peru_collection_4_deforestation_crossing_biomes_political_level_2_poli4[transition],4)) -> 1559700
A57: Andes | B57: 2009 | C57: =IF(COUNTIFS(mapbiomas_peru_collection_4_deforestation_crossing_biomes_political_level_2_poli4[territor_level_2_1],A57,mapbiomas_peru_collection_4_deforestation_crossing_biomes_political_level_2_poli4[transition],4,mapbiomas_peru_collection_4_deforestation_crossing_biomes_political_level_2_poli4[2009],"<>")=0,"",SUMIFS(mapbiomas_peru_collection_4_deforestation_crossing_biomes_political_level_2_poli4[2009],mapbiomas_peru_collection_4_deforestation_crossing_biomes_political_level_2_poli4[territor_level_2_1],A57,mapbiomas_peru_collection_4_deforestation_crossing_biomes_political_level_2_poli4[transition],4)) -> 1894000
A58: Andes | B58: 2010 | C58: =IF(COUNTIFS(mapbiomas_peru_collection_4_deforestation_crossing_biomes_political_level_2_poli4[territor_level_2_1],A58,mapbiomas_peru_collection_4_deforestation_crossing_biomes_political_level_2_poli4[transition],4,mapbiomas_peru_collection_4_deforestation_crossing_biomes_political_level_2_poli4[2010],"<>")=0,"",SUMIFS(mapbiomas_peru_collection_4_deforestation_crossing_biomes_political_level_2_poli4[2010],mapbiomas_peru_collection_4_deforestation_crossing_biomes_political_level_2_poli4[territor_level_2_1],A58,mapbiomas_peru_collection_4_deforestation_crossing_biomes_political_level_2_poli4[transition],4)) -> 2209900
A59: Andes | B59: 2011 | C59: =IF(COUNTIFS(mapbiomas_peru_collection_4_deforestation_crossing_biomes_political_level_2_poli4[territor_level_2_1],A59,mapbiomas_peru_collection_4_deforestation_crossing_biomes_political_level_2_poli4[transition],4,mapbiomas_peru_collection_4_deforestation_crossing_biomes_political_level_2_poli4[2011],"<>")=0,"",SUMIFS(mapbiomas_peru_collection_4_deforestation_crossing_biomes_political_level_2_poli4[2011],mapbiomas_peru_collection_4_deforestation_crossing_biomes_political_level_2_poli4[territor_level_2_1],A59,mapbiomas_peru_collection_4_deforestation_crossing_biomes_political_level_2_poli4[transition],4)) -> 2031700
A60: Andes | B60: 2012 | C60: =IF(COUNTIFS(mapbiomas_peru_collection_4_deforestation_crossing_biomes_political_level_2_poli4[territor_level_2_1],A60,mapbiomas_peru_collection_4_deforestation_crossing_biomes_political_level_2_poli4[transition],4,mapbiomas_peru_collection_4_deforestation_crossing_biomes_political_level_2_poli4[2012],"<>")=0,"",SUMIFS(mapbiomas_peru_collection_4_deforestation_crossing_biomes_political_level_2_poli4[2012],mapbiomas_peru_collection_4_deforestation_crossing_biomes_political_level_2_poli4[territor_level_2_1],A60,mapbiomas_peru_collection_4_deforestation_crossing_biomes_political_level_2_poli4[transition],4)) -> 1670500
A61: Andes | B61: 2013 | C61: =IF(COUNTIFS(mapbiomas_peru_collection_4_deforestation_crossing_biomes_political_level_2_poli4[territor_level_2_1],A61,mapbiomas_peru_collection_4_deforestation_crossing_biomes_political_level_2_poli4[transition],4,mapbiomas_peru_collection_4_deforestation_crossing_biomes_political_level_2_poli4[2013],"<>")=0,"",SUMIFS(mapbiomas_peru_collection_4_deforestation_crossing_biomes_political_level_2_poli4[2013],mapbiomas_peru_collection_4_deforestation_crossing_biomes_political_level_2_poli4[territor_level_2_1],A61,mapbiomas_peru_collection_4_deforestation_crossing_biomes_political_level_2_poli4[transition],4)) -> 2444300
A62: Andes | B62: 2014 | C62: =IF(COUNTIFS(mapbiomas_peru_collection_4_deforestation_crossing_biomes_political_level_2_poli4[territor_level_2_1],A62,mapbiomas_peru_collection_4_deforestation_crossing_biomes_political_level_2_poli4[transition],4,mapbiomas_peru_collection_4_deforestation_crossing_biomes_political_level_2_poli4[2014],"<>")=0,"",SUMIFS(mapbiomas_peru_collection_4_deforestation_crossing_biomes_political_level_2_poli4[2014],mapbiomas_peru_collection_4_deforestation_crossing_biomes_political_level_2_poli4[territor_level_2_1],A62,mapbiomas_peru_collection_4_deforestation_crossing_biomes_political_level_2_poli4[transition],4)) -> 1767100
A63: Andes | B63: 2015 | C63: =IF(COUNTIFS(mapbiomas_peru_collection_4_deforestation_crossing_biomes_political_level_2_poli4[territor_level_2_1],A63,mapbiomas_peru_collection_4_deforestation_crossing_biomes_political_level_2_poli4[transition],4,mapbiomas_peru_collection_4_deforestation_crossing_biomes_political_level_2_poli4[2015],"<>")=0,"",SUMIFS(mapbiomas_peru_collection_4_deforestation_crossing_biomes_political_level_2_poli4[2015],mapbiomas_peru_collection_4_deforestation_crossing_biomes_political_level_2_poli4[territor_level_2_1],A63,mapbiomas_peru_collection_4_deforestation_crossing_biomes_political_level_2_poli4[transition],4)) -> 2201200
A64: Andes | B64: 2016 | C64: =IF(COUNTIFS(mapbiomas_peru_collection_4_deforestation_crossing_biomes_political_level_2_poli4[territor_level_2_1],A64,mapbiomas_peru_collection_4_deforestation_crossing_biomes_political_level_2_poli4[transition],4,mapbiomas_peru_collection_4_deforestation_crossing_biomes_political_level_2_poli4[2016],"<>")=0,"",SUMIFS(mapbiomas_peru_collection_4_deforestation_crossing_biomes_political_level_2_poli4[2016],mapbiomas_peru_collection_4_deforestation_crossing_biomes_political_level_2_poli4[territor_level_2_1],A64,mapbiomas_peru_collection_4_deforestation_crossing_biomes_political_level_2_poli4[transition],4)) -> 1557200
A65: Andes | B65: 2017 | C65: =IF(COUNTIFS(mapbiomas_peru_collection_4_deforestation_crossing_biomes_political_level_2_poli4[territor_level_2_1],A65,mapbiomas_peru_collection_4_deforestation_crossing_biomes_political_level_2_poli4[transition],4,mapbiomas_peru_collection_4_deforestation_crossing_biomes_political_level_2_poli4[2017],"<>")=0,"",SUMIFS(mapbiomas_peru_collection_4_deforestation_crossing_biomes_political_level_2_poli4[2017],mapbiomas_peru_collection_4_deforestation_crossing_biomes_political_level_2_poli4[territor_level_2_1],A65,mapbiomas_peru_collection_4_deforestation_crossing_biomes_political_level_2_poli4[transition],4)) -> 1983800
A66: Andes | B66: 2018 | C66: =IF(COUNTIFS(mapbiomas_peru_collection_4_deforestation_crossing_biomes_political_level_2_poli4[territor_level_2_1],A66,mapbiomas_peru_collection_4_deforestation_crossing_biomes_political_level_2_poli4[transition],4,mapbiomas_peru_collection_4_deforestation_crossing_biomes_political_level_2_poli4[2018],"<>")=0,"",SUMIFS(mapbiomas_peru_collection_4_deforestation_crossing_biomes_political_level_2_poli4[2018],mapbiomas_peru_collection_4_deforestation_crossing_biomes_political_level_2_poli4[territor_level_2_1],A66,mapbiomas_peru_collection_4_deforestation_crossing_biomes_political_level_2_poli4[transition],4)) -> 1433500
A67: Andes | B67: 2019 | C67: =IF(COUNTIFS(mapbiomas_peru_collection_4_deforestation_crossing_biomes_political_level_2_poli4[territor_level_2_1],A67,mapbiomas_peru_collection_4_deforestation_crossing_biomes_political_level_2_poli4[transition],4,mapbiomas_peru_collection_4_deforestation_crossing_biomes_political_level_2_poli4[2019],"<>")=0,"",SUMIFS(mapbiomas_peru_collection_4_deforestation_crossing_biomes_political_level_2_poli4[2019],mapbiomas_peru_collection_4_deforestation_crossing_biomes_political_level_2_poli4[territor_level_2_1],A67,mapbiomas_peru_collection_4_deforestation_crossing_biomes_political_level_2_poli4[transition],4)) -> 1527800
A68: Andes | B68: 2020 | C68: =IF(COUNTIFS(mapbiomas_peru_collection_4_deforestation_crossing_biomes_political_level_2_poli4[territor_level_2_1],A68,mapbiomas_peru_collection_4_deforestation_crossing_biomes_political_level_2_poli4[transition],4,mapbiomas_peru_collection_4_deforestation_crossing_biomes_political_level_2_poli4[2020],"<>")=0,"",SUMIFS(mapbiomas_peru_collection_4_deforestation_crossing_biomes_political_level_2_poli4[2020],mapbiomas_peru_collection_4_deforestation_crossing_biomes_political_level_2_poli4[territor_level_2_1],A68,mapbiomas_peru_collection_4_deforestation_crossing_biomes_political_level_2_poli4[transition],4)) -> 1683200
A69: Andes | B69: 2021 | C69: =IF(COUNTIFS(mapbiomas_peru_collection_4_deforestation_crossing_biomes_political_level_2_poli4[territor_level_2_1],A69,mapbiomas_peru_collection_4_deforestation_crossing_biomes_political_level_2_poli4[transition],4,mapbiomas_peru_collection_4_deforestation_crossing_biomes_political_level_2_poli4[2021],"<>")=0,"",SUMIFS(mapbiomas_peru_collection_4_deforestation_crossing_biomes_political_level_2_poli4[2021],mapbiomas_peru_collection_4_deforestation_crossing_biomes_political_level_2_poli4[territor_level_2_1],A69,mapbiomas_peru_collection_4_deforestation_crossing_biomes_political_level_2_poli4[transition],4)) -> 1910800
A70: Andes | B70: 2022 | C70: =IF(COUNTIFS(mapbiomas_peru_collection_4_deforestation_crossing_biomes_political_level_2_poli4[territor_level_2_1],A70,mapbiomas_peru_collection_4_deforestation_crossing_biomes_political_level_2_poli4[transition],4,mapbiomas_peru_collection_4_deforestation_crossing_biomes_political_level_2_poli4[2022],"<>")=0,"",SUMIFS(mapbiomas_peru_collection_4_deforestation_crossing_biomes_political_level_2_poli4[2022],mapbiomas_peru_collection_4_deforestation_crossing_biomes_political_level_2_poli4[territor_level_2_1],A70,mapbiomas_peru_collection_4_deforestation_crossing_biomes_political_level_2_poli4[transition],4)) -> 1833200
A71: Andes | B71: 2023 | C71: =IF(COUNTIFS(mapbiomas_peru_collection_4_deforestation_crossing_biomes_political_level_2_poli4[territor_level_2_1],A71,mapbiomas_peru_collection_4_deforestation_crossing_biomes_political_level_2_poli4[transition],4,mapbiomas_peru_collection_4_deforestation_crossing_biomes_political_level_2_poli4[2023],"<>")=0,"",SUMIFS(mapbiomas_peru_collection_4_deforestation_crossing_biomes_political_level_2_poli4[2023],mapbiomas_peru_collection_4_deforestation_crossing_biomes_political_level_2_poli4[territor_level_2_1],A71,mapbiomas_peru_collection_4_deforestation_crossing_biomes_political_level_2_poli4[transition],4)) -> 1368200
A72: Andes | B72: 2024 | C72: =IF(COUNTIFS(mapbiomas_peru_collection_4_deforestation_crossing_biomes_political_level_2_poli4[territor_level_2_1],A72,mapbiomas_peru_collection_4_deforestation_crossing_biomes_political_level_2_poli4[transition],4,mapbiomas_peru_collection_4_deforestation_crossing_biomes_political_level_2_poli4[2024],"<>")=0,"",SUMIFS(mapbiomas_peru_collection_4_deforestation_crossing_biomes_political_level_2_poli4[2024],mapbiomas_peru_collection_4_deforestation_crossing_biomes_political_level_2_poli4[territor_level_2_1],A72,mapbiomas_peru_collection_4_deforestation_crossing_biomes_political_level_2_poli4[transition],4)) -> 2203800
A73: Andes | B73: 2025 | C73: =IF(COUNTIFS(mapbiomas_peru_collection_4_deforestation_crossing_biomes_political_level_2_poli4[territor_level_2_1],A73,mapbiomas_peru_collection_4_deforestation_crossing_biomes_political_level_2_poli4[transition],4,mapbiomas_peru_collection_4_deforestation_crossing_biomes_political_level_2_poli4[2025],"<>")=0,"",SUMIFS(mapbiomas_peru_collection_4_deforestation_crossing_biomes_political_level_2_poli4[2025],mapbiomas_peru_collection_4_deforestation_crossing_biomes_political_level_2_poli4[territor_level_2_1],A73,mapbiomas_peru_collection_4_deforestation_crossing_biomes_political_level_2_poli4[transition],4)) -> 1166100
A74: Desierto costero | B74: 1990 | C74: =IF(COUNTIFS(mapbiomas_peru_collection_4_deforestation_crossing_biomes_political_level_2_poli4[territor_level_2_1],A74,mapbiomas_peru_collection_4_deforestation_crossing_biomes_political_level_2_poli4[transition],4,mapbiomas_peru_collection_4_deforestation_crossing_biomes_political_level_2_poli4[1990],"<>")=0,"",SUMIFS(mapbiomas_peru_collection_4_deforestation_crossing_biomes_political_level_2_poli4[1990],mapbiomas_peru_collection_4_deforestation_crossing_biomes_political_level_2_poli4[territor_level_2_1],A74,mapbiomas_peru_collection_4_deforestation_crossing_biomes_political_level_2_poli4[transition],4)) -> 201472.3
A75: Desierto costero | B75: 1991 | C75: =IF(COUNTIFS(mapbiomas_peru_collection_4_deforestation_crossing_biomes_political_level_2_poli4[territor_level_2_1],A75,mapbiomas_peru_collection_4_deforestation_crossing_biomes_political_level_2_poli4[transition],4,mapbiomas_peru_collection_4_deforestation_crossing_biomes_political_level_2_poli4[1991],"<>")=0,"",SUMIFS(mapbiomas_peru_collection_4_deforestation_crossing_biomes_political_level_2_poli4[1991],mapbiomas_peru_collection_4_deforestation_crossing_biomes_political_level_2_poli4[territor_level_2_1],A75,mapbiomas_peru_collection_4_deforestation_crossing_biomes_political_level_2_poli4[transition],4)) -> 424800
A76: Desierto costero | B76: 1992 | C76: =IF(COUNTIFS(mapbiomas_peru_collection_4_deforestation_crossing_biomes_political_level_2_poli4[territor_level_2_1],A76,mapbiomas_peru_collection_4_deforestation_crossing_biomes_political_level_2_poli4[transition],4,mapbiomas_peru_collection_4_deforestation_crossing_biomes_political_level_2_poli4[1992],"<>")=0,"",SUMIFS(mapbiomas_peru_collection_4_deforestation_crossing_biomes_political_level_2_poli4[1992],mapbiomas_peru_collection_4_deforestation_crossing_biomes_political_level_2_poli4[territor_level_2_1],A76,mapbiomas_peru_collection_4_deforestation_crossing_biomes_political_level_2_poli4[transition],4)) -> 30950
A77: Desierto costero | B77: 1993 | C77: =IF(COUNTIFS(mapbiomas_peru_collection_4_deforestation_crossing_biomes_political_level_2_poli4[territor_level_2_1],A77,mapbiomas_peru_collection_4_deforestation_crossing_biomes_political_level_2_poli4[transition],4,mapbiomas_peru_collection_4_deforestation_crossing_biomes_political_level_2_poli4[1993],"<>")=0,"",SUMIFS(mapbiomas_peru_collection_4_deforestation_crossing_biomes_political_level_2_poli4[1993],mapbiomas_peru_collection_4_deforestation_crossing_biomes_political_level_2_poli4[territor_level_2_1],A77,mapbiomas_peru_collection_4_deforestation_crossing_biomes_political_level_2_poli4[transition],4)) -> 16589
A78: Desierto costero | B78: 1994 | C78: =IF(COUNTIFS(mapbiomas_peru_collection_4_deforestation_crossing_biomes_political_level_2_poli4[territor_level_2_1],A78,mapbiomas_peru_collection_4_deforestation_crossing_biomes_political_level_2_poli4[transition],4,mapbiomas_peru_collection_4_deforestation_crossing_biomes_political_level_2_poli4[1994],"<>")=0,"",SUMIFS(mapbiomas_peru_collection_4_deforestation_crossing_biomes_political_level_2_poli4[1994],mapbiomas_peru_collection_4_deforestation_crossing_biomes_political_level_2_poli4[territor_level_2_1],A78,mapbiomas_peru_collection_4_deforestation_crossing_biomes_political_level_2_poli4[transition],4)) -> 8931.4
A79: Desierto costero | B79: 1995 | C79: =IF(COUNTIFS(mapbiomas_peru_collection_4_deforestation_crossing_biomes_political_level_2_poli4[territor_level_2_1],A79,mapbiomas_peru_collection_4_deforestation_crossing_biomes_political_level_2_poli4[transition],4,mapbiomas_peru_collection_4_deforestation_crossing_biomes_political_level_2_poli4[1995],"<>")=0,"",SUMIFS(mapbiomas_peru_collection_4_deforestation_crossing_biomes_political_level_2_poli4[1995],mapbiomas_peru_collection_4_deforestation_crossing_biomes_political_level_2_poli4[territor_level_2_1],A79,mapbiomas_peru_collection_4_deforestation_crossing_biomes_political_level_2_poli4[transition],4)) -> 9016.8
A80: Desierto costero | B80: 1996 | C80: =IF(COUNTIFS(mapbiomas_peru_collection_4_deforestation_crossing_biomes_political_level_2_poli4[territor_level_2_1],A80,mapbiomas_peru_collection_4_deforestation_crossing_biomes_political_level_2_poli4[transition],4,mapbiomas_peru_collection_4_deforestation_crossing_biomes_political_level_2_poli4[1996],"<>")=0,"",SUMIFS(mapbiomas_peru_collection_4_deforestation_crossing_biomes_political_level_2_poli4[1996],mapbiomas_peru_collection_4_deforestation_crossing_biomes_political_level_2_poli4[territor_level_2_1],A80,mapbiomas_peru_collection_4_deforestation_crossing_biomes_political_level_2_poli4[transition],4)) -> 169990
A81: Desierto costero | B81: 1997 | C81: =IF(COUNTIFS(mapbiomas_peru_collection_4_deforestation_crossing_biomes_political_level_2_poli4[territor_level_2_1],A81,mapbiomas_peru_collection_4_deforestation_crossing_biomes_political_level_2_poli4[transition],4,mapbiomas_peru_collection_4_deforestation_crossing_biomes_political_level_2_poli4[1997],"<>")=0,"",SUMIFS(mapbiomas_peru_collection_4_deforestation_crossing_biomes_political_level_2_poli4[1997],mapbiomas_peru_collection_4_deforestation_crossing_biomes_political_level_2_poli4[territor_level_2_1],A81,mapbiomas_peru_collection_4_deforestation_crossing_biomes_political_level_2_poli4[transition],4)) -> 46235
A82: Desierto costero | B82: 1998 | C82: =IF(COUNTIFS(mapbiomas_peru_collection_4_deforestation_crossing_biomes_political_level_2_poli4[territor_level_2_1],A82,mapbiomas_peru_collection_4_deforestation_crossing_biomes_political_level_2_poli4[transition],4,mapbiomas_peru_collection_4_deforestation_crossing_biomes_political_level_2_poli4[1998],"<>")=0,"",SUMIFS(mapbiomas_peru_collection_4_deforestation_crossing_biomes_political_level_2_poli4[1998],mapbiomas_peru_collection_4_deforestation_crossing_biomes_political_level_2_poli4[territor_level_2_1],A82,mapbiomas_peru_collection_4_deforestation_crossing_biomes_political_level_2_poli4[transition],4)) -> 152050
A83: Desierto costero | B83: 1999 | C83: =IF(COUNTIFS(mapbiomas_peru_collection_4_deforestation_crossing_biomes_political_level_2_poli4[territor_level_2_1],A83,mapbiomas_peru_collection_4_deforestation_crossing_biomes_political_level_2_poli4[transition],4,mapbiomas_peru_collection_4_deforestation_crossing_biomes_political_level_2_poli4[1999],"<>")=0,"",SUMIFS(mapbiomas_peru_collection_4_deforestation_crossing_biomes_political_level_2_poli4[1999],mapbiomas_peru_collection_4_deforestation_crossing_biomes_political_level_2_poli4[territor_level_2_1],A83,mapbiomas_peru_collection_4_deforestation_crossing_biomes_political_level_2_poli4[transition],4)) -> 55753
A84: Desierto costero | B84: 2000 | C84: =IF(COUNTIFS(mapbiomas_peru_collection_4_deforestation_crossing_biomes_political_level_2_poli4[territor_level_2_1],A84,mapbiomas_peru_collection_4_deforestation_crossing_biomes_political_level_2_poli4[transition],4,mapbiomas_peru_collection_4_deforestation_crossing_biomes_political_level_2_poli4[2000],"<>")=0,"",SUMIFS(mapbiomas_peru_collection_4_deforestation_crossing_biomes_political_level_2_poli4[2000],mapbiomas_peru_collection_4_deforestation_crossing_biomes_political_level_2_poli4[territor_level_2_1],A84,mapbiomas_peru_collection_4_deforestation_crossing_biomes_political_level_2_poli4[transition],4)) -> 38715
A85: Desierto costero | B85: 2001 | C85: =IF(COUNTIFS(mapbiomas_peru_collection_4_deforestation_crossing_biomes_political_level_2_poli4[territor_level_2_1],A85,mapbiomas_peru_collection_4_deforestation_crossing_biomes_political_level_2_poli4[transition],4,mapbiomas_peru_collection_4_deforestation_crossing_biomes_political_level_2_poli4[2001],"<>")=0,"",SUMIFS(mapbiomas_peru_collection_4_deforestation_crossing_biomes_political_level_2_poli4[2001],mapbiomas_peru_collection_4_deforestation_crossing_biomes_political_level_2_poli4[territor_level_2_1],A85,mapbiomas_peru_collection_4_deforestation_crossing_biomes_political_level_2_poli4[transition],4)) -> 31887
A86: Desierto costero | B86: 2002 | C86: =IF(COUNTIFS(mapbiomas_peru_collection_4_deforestation_crossing_biomes_political_level_2_poli4[territor_level_2_1],A86,mapbiomas_peru_collection_4_deforestation_crossing_biomes_political_level_2_poli4[transition],4,mapbiomas_peru_collection_4_deforestation_crossing_biomes_political_level_2_poli4[2002],"<>")=0,"",SUMIFS(mapbiomas_peru_collection_4_deforestation_crossing_biomes_political_level_2_poli4[2002],mapbiomas_peru_collection_4_deforestation_crossing_biomes_political_level_2_poli4[territor_level_2_1],A86,mapbiomas_peru_collection_4_deforestation_crossing_biomes_political_level_2_poli4[transition],4)) -> 34292
A87: Desierto costero | B87: 2003 | C87: =IF(COUNTIFS(mapbiomas_peru_collection_4_deforestation_crossing_biomes_political_level_2_poli4[territor_level_2_1],A87,mapbiomas_peru_collection_4_deforestation_crossing_biomes_political_level_2_poli4[transition],4,mapbiomas_peru_collection_4_deforestation_crossing_biomes_political_level_2_poli4[2003],"<>")=0,"",SUMIFS(mapbiomas_peru_collection_4_deforestation_crossing_biomes_political_level_2_poli4[2003],mapbiomas_peru_collection_4_deforestation_crossing_biomes_political_level_2_poli4[territor_level_2_1],A87,mapbiomas_peru_collection_4_deforestation_crossing_biomes_political_level_2_poli4[transition],4)) -> 38874
A88: Desierto costero | B88: 2004 | C88: =IF(COUNTIFS(mapbiomas_peru_collection_4_deforestation_crossing_biomes_political_level_2_poli4[territor_level_2_1],A88,mapbiomas_peru_collection_4_deforestation_crossing_biomes_political_level_2_poli4[transition],4,mapbiomas_peru_collection_4_deforestation_crossing_biomes_political_level_2_poli4[2004],"<>")=0,"",SUMIFS(mapbiomas_peru_collection_4_deforestation_crossing_biomes_political_level_2_poli4[2004],mapbiomas_peru_collection_4_deforestation_crossing_biomes_political_level_2_poli4[territor_level_2_1],A88,mapbiomas_peru_collection_4_deforestation_crossing_biomes_political_level_2_poli4[transition],4)) -> 42802
A89: Desierto costero | B89: 2005 | C89: =IF(COUNTIFS(mapbiomas_peru_collection_4_deforestation_crossing_biomes_political_level_2_poli4[territor_level_2_1],A89,mapbiomas_peru_collection_4_deforestation_crossing_biomes_political_level_2_poli4[transition],4,mapbiomas_peru_collection_4_deforestation_crossing_biomes_political_level_2_poli4[2005],"<>")=0,"",SUMIFS(mapbiomas_peru_collection_4_deforestation_crossing_biomes_political_level_2_poli4[2005],mapbiomas_peru_collection_4_deforestation_crossing_biomes_political_level_2_poli4[territor_level_2_1],A89,mapbiomas_peru_collection_4_deforestation_crossing_biomes_political_level_2_poli4[transition],4)) -> 29141
A90: Desierto costero | B90: 2006 | C90: =IF(COUNTIFS(mapbiomas_peru_collection_4_deforestation_crossing_biomes_political_level_2_poli4[territor_level_2_1],A90,mapbiomas_peru_collection_4_deforestation_crossing_biomes_political_level_2_poli4[transition],4,mapbiomas_peru_collection_4_deforestation_crossing_biomes_political_level_2_poli4[2006],"<>")=0,"",SUMIFS(mapbiomas_peru_collection_4_deforestation_crossing_biomes_political_level_2_poli4[2006],mapbiomas_peru_collection_4_deforestation_crossing_biomes_political_level_2_poli4[territor_level_2_1],A90,mapbiomas_peru_collection_4_deforestation_crossing_biomes_political_level_2_poli4[transition],4)) -> 39751
A91: Desierto costero | B91: 2007 | C91: =IF(COUNTIFS(mapbiomas_peru_collection_4_deforestation_crossing_biomes_political_level_2_poli4[territor_level_2_1],A91,mapbiomas_peru_collection_4_deforestation_crossing_biomes_political_level_2_poli4[transition],4,mapbiomas_peru_collection_4_deforestation_crossing_biomes_political_level_2_poli4[2007],"<>")=0,"",SUMIFS(mapbiomas_peru_collection_4_deforestation_crossing_biomes_political_level_2_poli4[2007],mapbiomas_peru_collection_4_deforestation_crossing_biomes_political_level_2_poli4[territor_level_2_1],A91,mapbiomas_peru_collection_4_deforestation_crossing_biomes_political_level_2_poli4[transition],4)) -> 33670
A92: Desierto costero | B92: 2008 | C92: =IF(COUNTIFS(mapbiomas_peru_collection_4_deforestation_crossing_biomes_political_level_2_poli4[territor_level_2_1],A92,mapbiomas_peru_collection_4_deforestation_crossing_biomes_political_level_2_poli4[transition],4,mapbiomas_peru_collection_4_deforestation_crossing_biomes_political_level_2_poli4[2008],"<>")=0,"",SUMIFS(mapbiomas_peru_collection_4_deforestation_crossing_biomes_political_level_2_poli4[2008],mapbiomas_peru_collection_4_deforestation_crossing_biomes_political_level_2_poli4[territor_level_2_1],A92,mapbiomas_peru_collection_4_deforestation_crossing_biomes_political_level_2_poli4[transition],4)) -> 40820
A93: Desierto costero | B93: 2009 | C93: =IF(COUNTIFS(mapbiomas_peru_collection_4_deforestation_crossing_biomes_political_level_2_poli4[territor_level_2_1],A93,mapbiomas_peru_collection_4_deforestation_crossing_biomes_political_level_2_poli4[transition],4,mapbiomas_peru_collection_4_deforestation_crossing_biomes_political_level_2_poli4[2009],"<>")=0,"",SUMIFS(mapbiomas_peru_collection_4_deforestation_crossing_biomes_political_level_2_poli4[2009],mapbiomas_peru_collection_4_deforestation_crossing_biomes_political_level_2_poli4[territor_level_2_1],A93,mapbiomas_peru_collection_4_deforestation_crossing_biomes_political_level_2_poli4[transition],4)) -> 31641
A94: Desierto costero | B94: 2010 | C94: =IF(COUNTIFS(mapbiomas_peru_collection_4_deforestation_crossing_biomes_political_level_2_poli4[territor_level_2_1],A94,mapbiomas_peru_collection_4_deforestation_crossing_biomes_political_level_2_poli4[transition],4,mapbiomas_peru_collection_4_deforestation_crossing_biomes_political_level_2_poli4[2010],"<>")=0,"",SUMIFS(mapbiomas_peru_collection_4_deforestation_crossing_biomes_political_level_2_poli4[2010],mapbiomas_peru_collection_4_deforestation_crossing_biomes_political_level_2_poli4[territor_level_2_1],A94,mapbiomas_peru_collection_4_deforestation_crossing_biomes_political_level_2_poli4[transition],4)) -> 44114
A95: Desierto costero | B95: 2011 | C95: =IF(COUNTIFS(mapbiomas_peru_collection_4_deforestation_crossing_biomes_political_level_2_poli4[territor_level_2_1],A95,mapbiomas_peru_collection_4_deforestation_crossing_biomes_political_level_2_poli4[transition],4,mapbiomas_peru_collection_4_deforestation_crossing_biomes_political_level_2_poli4[2011],"<>")=0,"",SUMIFS(mapbiomas_peru_collection_4_deforestation_crossing_biomes_political_level_2_poli4[2011],mapbiomas_peru_collection_4_deforestation_crossing_biomes_political_level_2_poli4[territor_level_2_1],A95,mapbiomas_peru_collection_4_deforestation_crossing_biomes_political_level_2_poli4[transition],4)) -> 46693
A96: Desierto costero | B96: 2012 | C96: =IF(COUNTIFS(mapbiomas_peru_collection_4_deforestation_crossing_biomes_political_level_2_poli4[territor_level_2_1],A96,mapbiomas_peru_collection_4_deforestation_crossing_biomes_political_level_2_poli4[transition],4,mapbiomas_peru_collection_4_deforestation_crossing_biomes_political_level_2_poli4[2012],"<>")=0,"",SUMIFS(mapbiomas_peru_collection_4_deforestation_crossing_biomes_political_level_2_poli4[2012],mapbiomas_peru_collection_4_deforestation_crossing_biomes_political_level_2_poli4[territor_level_2_1],A96,mapbiomas_peru_collection_4_deforestation_crossing_biomes_political_level_2_poli4[transition],4)) -> 32153
A97: Desierto costero | B97: 2013 | C97: =IF(COUNTIFS(mapbiomas_peru_collection_4_deforestation_crossing_biomes_political_level_2_poli4[territor_level_2_1],A97,mapbiomas_peru_collection_4_deforestation_crossing_biomes_political_level_2_poli4[transition],4,mapbiomas_peru_collection_4_deforestation_crossing_biomes_political_level_2_poli4[2013],"<>")=0,"",SUMIFS(mapbiomas_peru_collection_4_deforestation_crossing_biomes_political_level_2_poli4[2013],mapbiomas_peru_collection_4_deforestation_crossing_biomes_political_level_2_poli4[territor_level_2_1],A97,mapbiomas_peru_collection_4_deforestation_crossing_biomes_political_level_2_poli4[transition],4)) -> 46010
A98: Desierto costero | B98: 2014 | C98: =IF(COUNTIFS(mapbiomas_peru_collection_4_deforestation_crossing_biomes_political_level_2_poli4[territor_level_2_1],A98,mapbiomas_peru_collection_4_deforestation_crossing_biomes_political_level_2_poli4[transition],4,mapbiomas_peru_collection_4_deforestation_crossing_biomes_political_level_2_poli4[2014],"<>")=0,"",SUMIFS(mapbiomas_peru_collection_4_deforestation_crossing_biomes_political_level_2_poli4[2014],mapbiomas_peru_collection_4_deforestation_crossing_biomes_political_level_2_poli4[territor_level_2_1],A98,mapbiomas_peru_collection_4_deforestation_crossing_biomes_political_level_2_poli4[transition],4)) -> 25762
A99: Desierto costero | B99: 2015 | C99: =IF(COUNTIFS(mapbiomas_peru_collection_4_deforestation_crossing_biomes_political_level_2_poli4[territor_level_2_1],A99,mapbiomas_peru_collection_4_deforestation_crossing_biomes_political_level_2_poli4[transition],4,mapbiomas_peru_collection_4_deforestation_crossing_biomes_political_level_2_poli4[2015],"<>")=0,"",SUMIFS(mapbiomas_peru_collection_4_deforestation_crossing_biomes_political_level_2_poli4[2015],mapbiomas_peru_collection_4_deforestation_crossing_biomes_political_level_2_poli4[territor_level_2_1],A99,mapbiomas_peru_collection_4_deforestation_crossing_biomes_political_level_2_poli4[transition],4)) -> 22864
A100: Desierto costero | B100: 2016 | C100: =IF(COUNTIFS(mapbiomas_peru_collection_4_deforestation_crossing_biomes_political_level_2_poli4[territor_level_2_1],A100,mapbiomas_peru_collection_4_deforestation_crossing_biomes_political_level_2_poli4[transition],4,mapbiomas_peru_collection_4_deforestation_crossing_biomes_political_level_2_poli4[2016],"<>")=0,"",SUMIFS(mapbiomas_peru_collection_4_deforestation_crossing_biomes_political_level_2_poli4[2016],mapbiomas_peru_collection_4_deforestation_crossing_biomes_political_level_2_poli4[territor_level_2_1],A100,mapbiomas_peru_collection_4_deforestation_crossing_biomes_political_level_2_poli4[transition],4)) -> 32113
...

Sheet AUX_L2_SEC
A1: Bioma | B1: Año | C1: Deforestación de vegetación secundaria (ha)
A2: Amazonía | B2: 1990 | C2: =IF(COUNTIFS(mapbiomas_peru_collection_4_deforestation_crossing_biomes_political_level_2_poli4[territor_level_2_1],A2,mapbiomas_peru_collection_4_deforestation_crossing_biomes_political_level_2_poli4[transition],6,mapbiomas_peru_collection_4_deforestation_crossing_biomes_political_level_2_poli4[1990],"<>")=0,"",SUMIFS(mapbiomas_peru_collection_4_deforestation_crossing_biomes_political_level_2_poli4[1990],mapbiomas_peru_collection_4_deforestation_crossing_biomes_political_level_2_poli4[territor_level_2_1],A2,mapbiomas_peru_collection_4_deforestation_crossing_biomes_political_level_2_poli4[transition],6))
A3: Amazonía | B3: 1991 | C3: =IF(COUNTIFS(mapbiomas_peru_collection_4_deforestation_crossing_biomes_political_level_2_poli4[territor_level_2_1],A3,mapbiomas_peru_collection_4_deforestation_crossing_biomes_political_level_2_poli4[transition],6,mapbiomas_peru_collection_4_deforestation_crossing_biomes_political_level_2_poli4[1991],"<>")=0,"",SUMIFS(mapbiomas_peru_collection_4_deforestation_crossing_biomes_political_level_2_poli4[1991],mapbiomas_peru_collection_4_deforestation_crossing_biomes_political_level_2_poli4[territor_level_2_1],A3,mapbiomas_peru_collection_4_deforestation_crossing_biomes_political_level_2_poli4[transition],6))
A4: Amazonía | B4: 1992 | C4: =IF(COUNTIFS(mapbiomas_peru_collection_4_deforestation_crossing_biomes_political_level_2_poli4[territor_level_2_1],A4,mapbiomas_peru_collection_4_deforestation_crossing_biomes_political_level_2_poli4[transition],6,mapbiomas_peru_collection_4_deforestation_crossing_biomes_political_level_2_poli4[1992],"<>")=0,"",SUMIFS(mapbiomas_peru_collection_4_deforestation_crossing_biomes_political_level_2_poli4[1992],mapbiomas_peru_collection_4_deforestation_crossing_biomes_political_level_2_poli4[territor_level_2_1],A4,mapbiomas_peru_collection_4_deforestation_crossing_biomes_political_level_2_poli4[transition],6)) -> 215760
A5: Amazonía | B5: 1993 | C5: =IF(COUNTIFS(mapbiomas_peru_collection_4_deforestation_crossing_biomes_political_level_2_poli4[territor_level_2_1],A5,mapbiomas_peru_collection_4_deforestation_crossing_biomes_political_level_2_poli4[transition],6,mapbiomas_peru_collection_4_deforestation_crossing_biomes_political_level_2_poli4[1993],"<>")=0,"",SUMIFS(mapbiomas_peru_collection_4_deforestation_crossing_biomes_political_level_2_poli4[1993],mapbiomas_peru_collection_4_deforestation_crossing_biomes_political_level_2_poli4[territor_level_2_1],A5,mapbiomas_peru_collection_4_deforestation_crossing_biomes_political_level_2_poli4[transition],6)) -> 713550
A6: Amazonía | B6: 1994 | C6: =IF(COUNTIFS(mapbiomas_peru_collection_4_deforestation_crossing_biomes_political_level_2_poli4[territor_level_2_1],A6,mapbiomas_peru_collection_4_deforestation_crossing_biomes_political_level_2_poli4[transition],6,mapbiomas_peru_collection_4_deforestation_crossing_biomes_political_level_2_poli4[1994],"<>")=0,"",SUMIFS(mapbiomas_peru_collection_4_deforestation_crossing_biomes_political_level_2_poli4[1994],mapbiomas_peru_collection_4_deforestation_crossing_biomes_political_level_2_poli4[territor_level_2_1],A6,mapbiomas_peru_collection_4_deforestation_crossing_biomes_political_level_2_poli4[transition],6)) -> 1334100
A7: Amazonía | B7: 1995 | C7: =IF(COUNTIFS(mapbiomas_peru_collection_4_deforestation_crossing_biomes_political_level_2_poli4[territor_level_2_1],A7,mapbiomas_peru_collection_4_deforestation_crossing_biomes_political_level_2_poli4[transition],6,mapbiomas_peru_collection_4_deforestation_crossing_biomes_political_level_2_poli4[1995],"<>")=0,"",SUMIFS(mapbiomas_peru_collection_4_deforestation_crossing_biomes_political_level_2_poli4[1995],mapbiomas_peru_collection_4_deforestation_crossing_biomes_political_level_2_poli4[territor_level_2_1],A7,mapbiomas_peru_collection_4_deforestation_crossing_biomes_political_level_2_poli4[transition],6)) -> 1643700
A8: Amazonía | B8: 1996 | C8: =IF(COUNTIFS(mapbiomas_peru_collection_4_deforestation_crossing_biomes_political_level_2_poli4[territor_level_2_1],A8,mapbiomas_peru_collection_4_deforestation_crossing_biomes_political_level_2_poli4[transition],6,mapbiomas_peru_collection_4_deforestation_crossing_biomes_political_level_2_poli4[1996],"<>")=0,"",SUMIFS(mapbiomas_peru_collection_4_deforestation_crossing_biomes_political_level_2_poli4[1996],mapbiomas_peru_collection_4_deforestation_crossing_biomes_political_level_2_poli4[territor_level_2_1],A8,mapbiomas_peru_collection_4_deforestation_crossing_biomes_political_level_2_poli4[transition],6)) -> 2543500
A9: Amazonía | B9: 1997 | C9: =IF(COUNTIFS(mapbiomas_peru_collection_4_deforestation_crossing_biomes_political_level_2_poli4[territor_level_2_1],A9,mapbiomas_peru_collection_4_deforestation_crossing_biomes_political_level_2_poli4[transition],6,mapbiomas_peru_collection_4_deforestation_crossing_biomes_political_level_2_poli4[1997],"<>")=0,"",SUMIFS(mapbiomas_peru_collection_4_deforestation_crossing_biomes_political_level_2_poli4[1997],mapbiomas_peru_collection_4_deforestation_crossing_biomes_political_level_2_poli4[territor_level_2_1],A9,mapbiomas_peru_collection_4_deforestation_crossing_biomes_political_level_2_poli4[transition],6)) -> 2720400
A10: Amazonía | B10: 1998 | C10: =IF(COUNTIFS(mapbiomas_peru_collection_4_deforestation_crossing_biomes_political_level_2_poli4[territor_level_2_1],A10,mapbiomas_peru_collection_4_deforestation_crossing_biomes_political_level_2_poli4[transition],6,mapbiomas_peru_collection_4_deforestation_crossing_biomes_political_level_2_poli4[1998],"<>")=0,"",SUMIFS(mapbiomas_peru_collection_4_deforestation_crossing_biomes_political_level_2_poli4[1998],mapbiomas_peru_collection_4_deforestation_crossing_biomes_political_level_2_poli4[territor_level_2_1],A10,mapbiomas_peru_collection_4_deforestation_crossing_biomes_political_level_2_poli4[transition],6)) -> 3298800
A11: Amazonía | B11: 1999 | C11: =IF(COUNTIFS(mapbiomas_peru_collection_4_deforestation_crossing_biomes_political_level_2_poli4[territor_level_2_1],A11,mapbiomas_peru_collection_4_deforestation_crossing_biomes_political_level_2_poli4[transition],6,mapbiomas_peru_collection_4_deforestation_crossing_biomes_political_level_2_poli4[1999],"<>")=0,"",SUMIFS(mapbiomas_peru_collection_4_deforestation_crossing_biomes_political_level_2_poli4[1999],mapbiomas_peru_collection_4_deforestation_crossing_biomes_political_level_2_poli4[territor_level_2_1],A11,mapbiomas_peru_collection_4_deforestation_crossing_biomes_political_level_2_poli4[transition],6)) -> 2878500
A12: Amazonía | B12: 2000 | C12: =IF(COUNTIFS(mapbiomas_peru_collection_4_deforestation_crossing_biomes_political_level_2_poli4[territor_level_2_1],A12,mapbiomas_peru_collection_4_deforestation_crossing_biomes_political_level_2_poli4[transition],6,mapbiomas_peru_collection_4_deforestation_crossing_biomes_political_level_2_poli4[2000],"<>")=0,"",SUMIFS(mapbiomas_peru_collection_4_deforestation_crossing_biomes_political_level_2_poli4[2000],mapbiomas_peru_collection_4_deforestation_crossing_biomes_political_level_2_poli4[territor_level_2_1],A12,mapbiomas_peru_collection_4_deforestation_crossing_biomes_political_level_2_poli4[transition],6)) -> 2674000
A13: Amazonía | B13: 2001 | C13: =IF(COUNTIFS(mapbiomas_peru_collection_4_deforestation_crossing_biomes_political_level_2_poli4[territor_level_2_1],A13,mapbiomas_peru_collection_4_deforestation_crossing_biomes_political_level_2_poli4[transition],6,mapbiomas_peru_collection_4_deforestation_crossing_biomes_political_level_2_poli4[2001],"<>")=0,"",SUMIFS(mapbiomas_peru_collection_4_deforestation_crossing_biomes_political_level_2_poli4[2001],mapbiomas_peru_collection_4_deforestation_crossing_biomes_political_level_2_poli4[territor_level_2_1],A13,mapbiomas_peru_collection_4_deforestation_crossing_biomes_political_level_2_poli4[transition],6)) -> 2875600
A14: Amazonía | B14: 2002 | C14: =IF(COUNTIFS(mapbiomas_peru_collection_4_deforestation_crossing_biomes_political_level_2_poli4[territor_level_2_1],A14,mapbiomas_peru_collection_4_deforestation_crossing_biomes_political_level_2_poli4[transition],6,mapbiomas_peru_collection_4_deforestation_crossing_biomes_political_level_2_poli4[2002],"<>")=0,"",SUMIFS(mapbiomas_peru_collection_4_deforestation_crossing_biomes_political_level_2_poli4[2002],mapbiomas_peru_collection_4_deforestation_crossing_biomes_political_level_2_poli4[territor_level_2_1],A14,mapbiomas_peru_collection_4_deforestation_crossing_biomes_political_level_2_poli4[transition],6)) -> 2638800
A15: Amazonía | B15: 2003 | C15: =IF(COUNTIFS(mapbiomas_peru_collection_4_deforestation_crossing_biomes_political_level_2_poli4[territor_level_2_1],A15,mapbiomas_peru_collection_4_deforestation_crossing_biomes_political_level_2_poli4[transition],6,mapbiomas_peru_collection_4_deforestation_crossing_biomes_political_level_2_poli4[2003],"<>")=0,"",SUMIFS(mapbiomas_peru_collection_4_deforestation_crossing_biomes_political_level_2_poli4[2003],mapbiomas_peru_collection_4_deforestation_crossing_biomes_political_level_2_poli4[territor_level_2_1],A15,mapbiomas_peru_collection_4_deforestation_crossing_biomes_political_level_2_poli4[transition],6)) -> 3044900
A16: Amazonía | B16: 2004 | C16: =IF(COUNTIFS(mapbiomas_peru_collection_4_deforestation_crossing_biomes_political_level_2_poli4[territor_level_2_1],A16,mapbiomas_peru_collection_4_deforestation_crossing_biomes_political_level_2_poli4[transition],6,mapbiomas_peru_collection_4_deforestation_crossing_biomes_political_level_2_poli4[2004],"<>")=0,"",SUMIFS(mapbiomas_peru_collection_4_deforestation_crossing_biomes_political_level_2_poli4[2004],mapbiomas_peru_collection_4_deforestation_crossing_biomes_political_level_2_poli4[territor_level_2_1],A16,mapbiomas_peru_collection_4_deforestation_crossing_biomes_political_level_2_poli4[transition],6)) -> 2862800
A17: Amazonía | B17: 2005 | C17: =IF(COUNTIFS(mapbiomas_peru_collection_4_deforestation_crossing_biomes_political_level_2_poli4[territor_level_2_1],A17,mapbiomas_peru_collection_4_deforestation_crossing_biomes_political_level_2_poli4[transition],6,mapbiomas_peru_collection_4_deforestation_crossing_biomes_political_level_2_poli4[2005],"<>")=0,"",SUMIFS(mapbiomas_peru_collection_4_deforestation_crossing_biomes_political_level_2_poli4[2005],mapbiomas_peru_collection_4_deforestation_crossing_biomes_political_level_2_poli4[territor_level_2_1],A17,mapbiomas_peru_collection_4_deforestation_crossing_biomes_political_level_2_poli4[transition],6)) -> 3638400
A18: Amazonía | B18: 2006 | C18: =IF(COUNTIFS(mapbiomas_peru_collection_4_deforestation_crossing_biomes_political_level_2_poli4[territor_level_2_1],A18,mapbiomas_peru_collection_4_deforestation_crossing_biomes_political_level_2_poli4[transition],6,mapbiomas_peru_collection_4_deforestation_crossing_biomes_political_level_2_poli4[2006],"<>")=0,"",SUMIFS(mapbiomas_peru_collection_4_deforestation_crossing_biomes_political_level_2_poli4[2006],mapbiomas_peru_collection_4_deforestation_crossing_biomes_political_level_2_poli4[territor_level_2_1],A18,mapbiomas_peru_collection_4_deforestation_crossing_biomes_political_level_2_poli4[transition],6)) -> 3025700
A19: Amazonía | B19: 2007 | C19: =IF(COUNTIFS(mapbiomas_peru_collection_4_deforestation_crossing_biomes_political_level_2_poli4[territor_level_2_1],A19,mapbiomas_peru_collection_4_deforestation_crossing_biomes_political_level_2_poli4[transition],6,mapbiomas_peru_collection_4_deforestation_crossing_biomes_political_level_2_poli4[2007],"<>")=0,"",SUMIFS(mapbiomas_peru_collection_4_deforestation_crossing_biomes_political_level_2_poli4[2007],mapbiomas_peru_collection_4_deforestation_crossing_biomes_political_level_2_poli4[territor_level_2_1],A19,mapbiomas_peru_collection_4_deforestation_crossing_biomes_political_level_2_poli4[transition],6)) -> 3276300
A20: Amazonía | B20: 2008 | C20: =IF(COUNTIFS(mapbiomas_peru_collection_4_deforestation_crossing_biomes_political_level_2_poli4[territor_level_2_1],A20,mapbiomas_peru_collection_4_deforestation_crossing_biomes_political_level_2_poli4[transition],6,mapbiomas_peru_collection_4_deforestation_crossing_biomes_political_level_2_poli4[2008],"<>")=0,"",SUMIFS(mapbiomas_peru_collection_4_deforestation_crossing_biomes_political_level_2_poli4[2008],mapbiomas_peru_collection_4_deforestation_crossing_biomes_political_level_2_poli4[territor_level_2_1],A20,mapbiomas_peru_collection_4_deforestation_crossing_biomes_political_level_2_poli4[transition],6)) -> 3036700
A21: Amazonía | B21: 2009 | C21: =IF(COUNTIFS(mapbiomas_peru_collection_4_deforestation_crossing_biomes_political_level_2_poli4[territor_level_2_1],A21,mapbiomas_peru_collection_4_deforestation_crossing_biomes_political_level_2_poli4[transition],6,mapbiomas_peru_collection_4_deforestation_crossing_biomes_political_level_2_poli4[2009],"<>")=0,"",SUMIFS(mapbiomas_peru_collection_4_deforestation_crossing_biomes_political_level_2_poli4[2009],mapbiomas_peru_collection_4_deforestation_crossing_biomes_political_level_2_poli4[territor_level_2_1],A21,mapbiomas_peru_collection_4_deforestation_crossing_biomes_political_level_2_poli4[transition],6)) -> 3802700
A22: Amazonía | B22: 2010 | C22: =IF(COUNTIFS(mapbiomas_peru_collection_4_deforestation_crossing_biomes_political_level_2_poli4[territor_level_2_1],A22,mapbiomas_peru_collection_4_deforestation_crossing_biomes_political_level_2_poli4[transition],6,mapbiomas_peru_collection_4_deforestation_crossing_biomes_political_level_2_poli4[2010],"<>")=0,"",SUMIFS(mapbiomas_peru_collection_4_deforestation_crossing_biomes_political_level_2_poli4[2010],mapbiomas_peru_collection_4_deforestation_crossing_biomes_political_level_2_poli4[territor_level_2_1],A22,mapbiomas_peru_collection_4_deforestation_crossing_biomes_political_level_2_poli4[transition],6)) -> 3908600
A23: Amazonía | B23: 2011 | C23: =IF(COUNTIFS(mapbiomas_peru_collection_4_deforestation_crossing_biomes_political_level_2_poli4[territor_level_2_1],A23,mapbiomas_peru_collection_4_deforestation_crossing_biomes_political_level_2_poli4[transition],6,mapbiomas_peru_collection_4_deforestation_crossing_biomes_political_level_2_poli4[2011],"<>")=0,"",SUMIFS(mapbiomas_peru_collection_4_deforestation_crossing_biomes_political_level_2_poli4[2011],mapbiomas_peru_collection_4_deforestation_crossing_biomes_political_level_2_poli4[territor_level_2_1],A23,mapbiomas_peru_collection_4_deforestation_crossing_biomes_political_level_2_poli4[transition],6)) -> 3715700
A24: Amazonía | B24: 2012 | C24: =IF(COUNTIFS(mapbiomas_peru_collection_4_deforestation_crossing_biomes_political_level_2_poli4[territor_level_2_1],A24,mapbiomas_peru_collection_4_deforestation_crossing_biomes_political_level_2_poli4[transition],6,mapbiomas_peru_collection_4_deforestation_crossing_biomes_political_level_2_poli4[2012],"<>")=0,"",SUMIFS(mapbiomas_peru_collection_4_deforestation_crossing_biomes_political_level_2_poli4[2012],mapbiomas_peru_collection_4_deforestation_crossing_biomes_political_level_2_poli4[territor_level_2_1],A24,mapbiomas_peru_collection_4_deforestation_crossing_biomes_political_level_2_poli4[transition],6)) -> 4640900
A25: Amazonía | B25: 2013 | C25: =IF(COUNTIFS(mapbiomas_peru_collection_4_deforestation_crossing_biomes_political_level_2_poli4[territor_level_2_1],A25,mapbiomas_peru_collection_4_deforestation_crossing_biomes_political_level_2_poli4[transition],6,mapbiomas_peru_collection_4_deforestation_crossing_biomes_political_level_2_poli4[2013],"<>")=0,"",SUMIFS(mapbiomas_peru_collection_4_deforestation_crossing_biomes_political_level_2_poli4[2013],mapbiomas_peru_collection_4_deforestation_crossing_biomes_political_level_2_poli4[territor_level_2_1],A25,mapbiomas_peru_collection_4_deforestation_crossing_biomes_political_level_2_poli4[transition],6)) -> 4866600
A26: Amazonía | B26: 2014 | C26: =IF(COUNTIFS(mapbiomas_peru_collection_4_deforestation_crossing_biomes_political_level_2_poli4[territor_level_2_1],A26,mapbiomas_peru_collection_4_deforestation_crossing_biomes_political_level_2_poli4[transition],6,mapbiomas_peru_collection_4_deforestation_crossing_biomes_political_level_2_poli4[2014],"<>")=0,"",SUMIFS(mapbiomas_peru_collection_4_deforestation_crossing_biomes_political_level_2_poli4[2014],mapbiomas_peru_collection_4_deforestation_crossing_biomes_political_level_2_poli4[territor_level_2_1],A26,mapbiomas_peru_collection_4_deforestation_crossing_biomes_political_level_2_poli4[transition],6)) -> 4337400
A27: Amazonía | B27: 2015 | C27: =IF(COUNTIFS(mapbiomas_peru_collection_4_deforestation_crossing_biomes_political_level_2_poli4[territor_level_2_1],A27,mapbiomas_peru_collection_4_deforestation_crossing_biomes_political_level_2_poli4[transition],6,mapbiomas_peru_collection_4_deforestation_crossing_biomes_political_level_2_poli4[2015],"<>")=0,"",SUMIFS(mapbiomas_peru_collection_4_deforestation_crossing_biomes_political_level_2_poli4[2015],mapbiomas_peru_collection_4_deforestation_crossing_biomes_political_level_2_poli4[territor_level_2_1],A27,mapbiomas_peru_collection_4_deforestation_crossing_biomes_political_level_2_poli4[transition],6)) -> 4063100
A28: Amazonía | B28: 2016 | C28: =IF(COUNTIFS(mapbiomas_peru_collection_4_deforestation_crossing_biomes_political_level_2_poli4[territor_level_2_1],A28,mapbiomas_peru_collection_4_deforestation_crossing_biomes_political_level_2_poli4[transition],6,mapbiomas_peru_collection_4_deforestation_crossing_biomes_political_level_2_poli4[2016],"<>")=0,"",SUMIFS(mapbiomas_peru_collection_4_deforestation_crossing_biomes_political_level_2_poli4[2016],mapbiomas_peru_collection_4_deforestation_crossing_biomes_political_level_2_poli4[territor_level_2_1],A28,mapbiomas_peru_collection_4_deforestation_crossing_biomes_political_level_2_poli4[transition],6)) -> 4358200
A29: Amazonía | B29: 2017 | C29: =IF(COUNTIFS(mapbiomas_peru_collection_4_deforestation_crossing_biomes_political_level_2_poli4[territor_level_2_1],A29,mapbiomas_peru_collection_4_deforestation_crossing_biomes_political_level_2_poli4[transition],6,mapbiomas_peru_collection_4_deforestation_crossing_biomes_political_level_2_poli4[2017],"<>")=0,"",SUMIFS(mapbiomas_peru_collection_4_deforestation_crossing_biomes_political_level_2_poli4[2017],mapbiomas_peru_collection_4_deforestation_crossing_biomes_political_level_2_poli4[territor_level_2_1],A29,mapbiomas_peru_collection_4_deforestation_crossing_biomes_political_level_2_poli4[transition],6)) -> 4437100
A30: Amazonía | B30: 2018 | C30: =IF(COUNTIFS(mapbiomas_peru_collection_4_deforestation_crossing_biomes_political_level_2_poli4[territor_level_2_1],A30,mapbiomas_peru_collection_4_deforestation_crossing_biomes_political_level_2_poli4[transition],6,mapbiomas_peru_collection_4_deforestation_crossing_biomes_political_level_2_poli4[2018],"<>")=0,"",SUMIFS(mapbiomas_peru_collection_4_deforestation_crossing_biomes_political_level_2_poli4[2018],mapbiomas_peru_collection_4_deforestation_crossing_biomes_political_level_2_poli4[territor_level_2_1],A30,mapbiomas_peru_collection_4_deforestation_crossing_biomes_political_level_2_poli4[transition],6)) -> 4653400
A31: Amazonía | B31: 2019 | C31: =IF(COUNTIFS(mapbiomas_peru_collection_4_deforestation_crossing_biomes_political_level_2_poli4[territor_level_2_1],A31,mapbiomas_peru_collection_4_deforestation_crossing_biomes_political_level_2_poli4[transition],6,mapbiomas_peru_collection_4_deforestation_crossing_biomes_political_level_2_poli4[2019],"<>")=0,"",SUMIFS(mapbiomas_peru_collection_4_deforestation_crossing_biomes_political_level_2_poli4[2019],mapbiomas_peru_collection_4_deforestation_crossing_biomes_political_level_2_poli4[territor_level_2_1],A31,mapbiomas_peru_collection_4_deforestation_crossing_biomes_political_level_2_poli4[transition],6)) -> 4477200
A32: Amazonía | B32: 2020 | C32: =IF(COUNTIFS(mapbiomas_peru_collection_4_deforestation_crossing_biomes_political_level_2_poli4[territor_level_2_1],A32,mapbiomas_peru_collection_4_deforestation_crossing_biomes_political_level_2_poli4[transition],6,mapbiomas_peru_collection_4_deforestation_crossing_biomes_political_level_2_poli4[2020],"<>")=0,"",SUMIFS(mapbiomas_peru_collection_4_deforestation_crossing_biomes_political_level_2_poli4[2020],mapbiomas_peru_collection_4_deforestation_crossing_biomes_political_level_2_poli4[territor_level_2_1],A32,mapbiomas_peru_collection_4_deforestation_crossing_biomes_political_level_2_poli4[transition],6)) -> 6265400
A33: Amazonía | B33: 2021 | C33: =IF(COUNTIFS(mapbiomas_peru_collection_4_deforestation_crossing_biomes_political_level_2_poli4[territor_level_2_1],A33,mapbiomas_peru_collection_4_deforestation_crossing_biomes_political_level_2_poli4[transition],6,mapbiomas_peru_collection_4_deforestation_crossing_biomes_political_level_2_poli4[2021],"<>")=0,"",SUMIFS(mapbiomas_peru_collection_4_deforestation_crossing_biomes_political_level_2_poli4[2021],mapbiomas_peru_collection_4_deforestation_crossing_biomes_political_level_2_poli4[territor_level_2_1],A33,mapbiomas_peru_collection_4_deforestation_crossing_biomes_political_level_2_poli4[transition],6)) -> 5599700
A34: Amazonía | B34: 2022 | C34: =IF(COUNTIFS(mapbiomas_peru_collection_4_deforestation_crossing_biomes_political_level_2_poli4[territor_level_2_1],A34,mapbiomas_peru_collection_4_deforestation_crossing_biomes_political_level_2_poli4[transition],6,mapbiomas_peru_collection_4_deforestation_crossing_biomes_political_level_2_poli4[2022],"<>")=0,"",SUMIFS(mapbiomas_peru_collection_4_deforestation_crossing_biomes_political_level_2_poli4[2022],mapbiomas_peru_collection_4_deforestation_crossing_biomes_political_level_2_poli4[territor_level_2_1],A34,mapbiomas_peru_collection_4_deforestation_crossing_biomes_political_level_2_poli4[transition],6)) -> 7954400
A35: Amazonía | B35: 2023 | C35: =IF(COUNTIFS(mapbiomas_peru_collection_4_deforestation_crossing_biomes_political_level_2_poli4[territor_level_2_1],A35,mapbiomas_peru_collection_4_deforestation_crossing_biomes_political_level_2_poli4[transition],6,mapbiomas_peru_collection_4_deforestation_crossing_biomes_political_level_2_poli4[2023],"<>")=0,"",SUMIFS(mapbiomas_peru_collection_4_deforestation_crossing_biomes_political_level_2_poli4[2023],mapbiomas_peru_collection_4_deforestation_crossing_biomes_political_level_2_poli4[territor_level_2_1],A35,mapbiomas_peru_collection_4_deforestation_crossing_biomes_political_level_2_poli4[transition],6)) -> 8040800
A36: Amazonía | B36: 2024 | C36: =IF(COUNTIFS(mapbiomas_peru_collection_4_deforestation_crossing_biomes_political_level_2_poli4[territor_level_2_1],A36,mapbiomas_peru_collection_4_deforestation_crossing_biomes_political_level_2_poli4[transition],6,mapbiomas_peru_collection_4_deforestation_crossing_biomes_political_level_2_poli4[2024],"<>")=0,"",SUMIFS(mapbiomas_peru_collection_4_deforestation_crossing_biomes_political_level_2_poli4[2024],mapbiomas_peru_collection_4_deforestation_crossing_biomes_political_level_2_poli4[territor_level_2_1],A36,mapbiomas_peru_collection_4_deforestation_crossing_biomes_political_level_2_poli4[transition],6)) -> 5819100
A37: Amazonía | B37: 2025 | C37: =IF(COUNTIFS(mapbiomas_peru_collection_4_deforestation_crossing_biomes_political_level_2_poli4[territor_level_2_1],A37,mapbiomas_peru_collection_4_deforestation_crossing_biomes_political_level_2_poli4[transition],6,mapbiomas_peru_collection_4_deforestation_crossing_biomes_political_level_2_poli4[2025],"<>")=0,"",SUMIFS(mapbiomas_peru_collection_4_deforestation_crossing_biomes_political_level_2_poli4[2025],mapbiomas_peru_collection_4_deforestation_crossing_biomes_political_level_2_poli4[territor_level_2_1],A37,mapbiomas_peru_collection_4_deforestation_crossing_biomes_political_level_2_poli4[transition],6)) -> 4392600
A38: Andes | B38: 1990 | C38: =IF(COUNTIFS(mapbiomas_peru_collection_4_deforestation_crossing_biomes_political_level_2_poli4[territor_level_2_1],A38,mapbiomas_peru_collection_4_deforestation_crossing_biomes_political_level_2_poli4[transition],6,mapbiomas_peru_collection_4_deforestation_crossing_biomes_political_level_2_poli4[1990],"<>")=0,"",SUMIFS(mapbiomas_peru_collection_4_deforestation_crossing_biomes_political_level_2_poli4[1990],mapbiomas_peru_collection_4_deforestation_crossing_biomes_political_level_2_poli4[territor_level_2_1],A38,mapbiomas_peru_collection_4_deforestation_crossing_biomes_political_level_2_poli4[transition],6))
A39: Andes | B39: 1991 | C39: =IF(COUNTIFS(mapbiomas_peru_collection_4_deforestation_crossing_biomes_political_level_2_poli4[territor_level_2_1],A39,mapbiomas_peru_collection_4_deforestation_crossing_biomes_political_level_2_poli4[transition],6,mapbiomas_peru_collection_4_deforestation_crossing_biomes_political_level_2_poli4[1991],"<>")=0,"",SUMIFS(mapbiomas_peru_collection_4_deforestation_crossing_biomes_political_level_2_poli4[1991],mapbiomas_peru_collection_4_deforestation_crossing_biomes_political_level_2_poli4[territor_level_2_1],A39,mapbiomas_peru_collection_4_deforestation_crossing_biomes_political_level_2_poli4[transition],6))
A40: Andes | B40: 1992 | C40: =IF(COUNTIFS(mapbiomas_peru_collection_4_deforestation_crossing_biomes_political_level_2_poli4[territor_level_2_1],A40,mapbiomas_peru_collection_4_deforestation_crossing_biomes_political_level_2_poli4[transition],6,mapbiomas_peru_collection_4_deforestation_crossing_biomes_political_level_2_poli4[1992],"<>")=0,"",SUMIFS(mapbiomas_peru_collection_4_deforestation_crossing_biomes_political_level_2_poli4[1992],mapbiomas_peru_collection_4_deforestation_crossing_biomes_political_level_2_poli4[territor_level_2_1],A40,mapbiomas_peru_collection_4_deforestation_crossing_biomes_political_level_2_poli4[transition],6)) -> 492760
A41: Andes | B41: 1993 | C41: =IF(COUNTIFS(mapbiomas_peru_collection_4_deforestation_crossing_biomes_political_level_2_poli4[territor_level_2_1],A41,mapbiomas_peru_collection_4_deforestation_crossing_biomes_political_level_2_poli4[transition],6,mapbiomas_peru_collection_4_deforestation_crossing_biomes_political_level_2_poli4[1993],"<>")=0,"",SUMIFS(mapbiomas_peru_collection_4_deforestation_crossing_biomes_political_level_2_poli4[1993],mapbiomas_peru_collection_4_deforestation_crossing_biomes_political_level_2_poli4[territor_level_2_1],A41,mapbiomas_peru_collection_4_deforestation_crossing_biomes_political_level_2_poli4[transition],6)) -> 2794400
A42: Andes | B42: 1994 | C42: =IF(COUNTIFS(mapbiomas_peru_collection_4_deforestation_crossing_biomes_political_level_2_poli4[territor_level_2_1],A42,mapbiomas_peru_collection_4_deforestation_crossing_biomes_political_level_2_poli4[transition],6,mapbiomas_peru_collection_4_deforestation_crossing_biomes_political_level_2_poli4[1994],"<>")=0,"",SUMIFS(mapbiomas_peru_collection_4_deforestation_crossing_biomes_political_level_2_poli4[1994],mapbiomas_peru_collection_4_deforestation_crossing_biomes_political_level_2_poli4[territor_level_2_1],A42,mapbiomas_peru_collection_4_deforestation_crossing_biomes_political_level_2_poli4[transition],6)) -> 2883000
A43: Andes | B43: 1995 | C43: =IF(COUNTIFS(mapbiomas_peru_collection_4_deforestation_crossing_biomes_political_level_2_poli4[territor_level_2_1],A43,mapbiomas_peru_collection_4_deforestation_crossing_biomes_political_level_2_poli4[transition],6,mapbiomas_peru_collection_4_deforestation_crossing_biomes_political_level_2_poli4[1995],"<>")=0,"",SUMIFS(mapbiomas_peru_collection_4_deforestation_crossing_biomes_political_level_2_poli4[1995],mapbiomas_peru_collection_4_deforestation_crossing_biomes_political_level_2_poli4[territor_level_2_1],A43,mapbiomas_peru_collection_4_deforestation_crossing_biomes_political_level_2_poli4[transition],6)) -> 3268500
A44: Andes | B44: 1996 | C44: =IF(COUNTIFS(mapbiomas_peru_collection_4_deforestation_crossing_biomes_political_level_2_poli4[territor_level_2_1],A44,mapbiomas_peru_collection_4_deforestation_crossing_biomes_political_level_2_poli4[transition],6,mapbiomas_peru_collection_4_deforestation_crossing_biomes_political_level_2_poli4[1996],"<>")=0,"",SUMIFS(mapbiomas_peru_collection_4_deforestation_crossing_biomes_political_level_2_poli4[1996],mapbiomas_peru_collection_4_deforestation_crossing_biomes_political_level_2_poli4[territor_level_2_1],A44,mapbiomas_peru_collection_4_deforestation_crossing_biomes_political_level_2_poli4[transition],6)) -> 2726200
A45: Andes | B45: 1997 | C45: =IF(COUNTIFS(mapbiomas_peru_collection_4_deforestation_crossing_biomes_political_level_2_poli4[territor_level_2_1],A45,mapbiomas_peru_collection_4_deforestation_crossing_biomes_political_level_2_poli4[transition],6,mapbiomas_peru_collection_4_deforestation_crossing_biomes_political_level_2_poli4[1997],"<>")=0,"",SUMIFS(mapbiomas_peru_collection_4_deforestation_crossing_biomes_political_level_2_poli4[1997],mapbiomas_peru_collection_4_deforestation_crossing_biomes_political_level_2_poli4[territor_level_2_1],A45,mapbiomas_peru_collection_4_deforestation_crossing_biomes_political_level_2_poli4[transition],6)) -> 1995900
A46: Andes | B46: 1998 | C46: =IF(COUNTIFS(mapbiomas_peru_collection_4_deforestation_crossing_biomes_political_level_2_poli4[territor_level_2_1],A46,mapbiomas_peru_collection_4_deforestation_crossing_biomes_political_level_2_poli4[transition],6,mapbiomas_peru_collection_4_deforestation_crossing_biomes_political_level_2_poli4[1998],"<>")=0,"",SUMIFS(mapbiomas_peru_collection_4_deforestation_crossing_biomes_political_level_2_poli4[1998],mapbiomas_peru_collection_4_deforestation_crossing_biomes_political_level_2_poli4[territor_level_2_1],A46,mapbiomas_peru_collection_4_deforestation_crossing_biomes_political_level_2_poli4[transition],6)) -> 2605000
A47: Andes | B47: 1999 | C47: =IF(COUNTIFS(mapbiomas_peru_collection_4_deforestation_crossing_biomes_political_level_2_poli4[territor_level_2_1],A47,mapbiomas_peru_collection_4_deforestation_crossing_biomes_political_level_2_poli4[transition],6,mapbiomas_peru_collection_4_deforestation_crossing_biomes_political_level_2_poli4[1999],"<>")=0,"",SUMIFS(mapbiomas_peru_collection_4_deforestation_crossing_biomes_political_level_2_poli4[1999],mapbiomas_peru_collection_4_deforestation_crossing_biomes_political_level_2_poli4[territor_level_2_1],A47,mapbiomas_peru_collection_4_deforestation_crossing_biomes_political_level_2_poli4[transition],6)) -> 3530600
A48: Andes | B48: 2000 | C48: =IF(COUNTIFS(mapbiomas_peru_collection_4_deforestation_crossing_biomes_political_level_2_poli4[territor_level_2_1],A48,mapbiomas_peru_collection_4_deforestation_crossing_biomes_political_level_2_poli4[transition],6,mapbiomas_peru_collection_4_deforestation_crossing_biomes_political_level_2_poli4[2000],"<>")=0,"",SUMIFS(mapbiomas_peru_collection_4_deforestation_crossing_biomes_political_level_2_poli4[2000],mapbiomas_peru_collection_4_deforestation_crossing_biomes_political_level_2_poli4[territor_level_2_1],A48,mapbiomas_peru_collection_4_deforestation_crossing_biomes_political_level_2_poli4[transition],6)) -> 4215100
A49: Andes | B49: 2001 | C49: =IF(COUNTIFS(mapbiomas_peru_collection_4_deforestation_crossing_biomes_political_level_2_poli4[territor_level_2_1],A49,mapbiomas_peru_collection_4_deforestation_crossing_biomes_political_level_2_poli4[transition],6,mapbiomas_peru_collection_4_deforestation_crossing_biomes_political_level_2_poli4[2001],"<>")=0,"",SUMIFS(mapbiomas_peru_collection_4_deforestation_crossing_biomes_political_level_2_poli4[2001],mapbiomas_peru_collection_4_deforestation_crossing_biomes_political_level_2_poli4[territor_level_2_1],A49,mapbiomas_peru_collection_4_deforestation_crossing_biomes_political_level_2_poli4[transition],6)) -> 4008800
A50: Andes | B50: 2002 | C50: =IF(COUNTIFS(mapbiomas_peru_collection_4_deforestation_crossing_biomes_political_level_2_poli4[territor_level_2_1],A50,mapbiomas_peru_collection_4_deforestation_crossing_biomes_political_level_2_poli4[transition],6,mapbiomas_peru_collection_4_deforestation_crossing_biomes_political_level_2_poli4[2002],"<>")=0,"",SUMIFS(mapbiomas_peru_collection_4_deforestation_crossing_biomes_political_level_2_poli4[2002],mapbiomas_peru_collection_4_deforestation_crossing_biomes_political_level_2_poli4[territor_level_2_1],A50,mapbiomas_peru_collection_4_deforestation_crossing_biomes_political_level_2_poli4[transition],6)) -> 3160500
A51: Andes | B51: 2003 | C51: =IF(COUNTIFS(mapbiomas_peru_collection_4_deforestation_crossing_biomes_political_level_2_poli4[territor_level_2_1],A51,mapbiomas_peru_collection_4_deforestation_crossing_biomes_political_level_2_poli4[transition],6,mapbiomas_peru_collection_4_deforestation_crossing_biomes_political_level_2_poli4[2003],"<>")=0,"",SUMIFS(mapbiomas_peru_collection_4_deforestation_crossing_biomes_political_level_2_poli4[2003],mapbiomas_peru_collection_4_deforestation_crossing_biomes_political_level_2_poli4[territor_level_2_1],A51,mapbiomas_peru_collection_4_deforestation_crossing_biomes_political_level_2_poli4[transition],6)) -> 4565700
A52: Andes | B52: 2004 | C52: =IF(COUNTIFS(mapbiomas_peru_collection_4_deforestation_crossing_biomes_political_level_2_poli4[territor_level_2_1],A52,mapbiomas_peru_collection_4_deforestation_crossing_biomes_political_level_2_poli4[transition],6,mapbiomas_peru_collection_4_deforestation_crossing_biomes_political_level_2_poli4[2004],"<>")=0,"",SUMIFS(mapbiomas_peru_collection_4_deforestation_crossing_biomes_political_level_2_poli4[2004],mapbiomas_peru_collection_4_deforestation_crossing_biomes_political_level_2_poli4[territor_level_2_1],A52,mapbiomas_peru_collection_4_deforestation_crossing_biomes_political_level_2_poli4[transition],6)) -> 4064000
A53: Andes | B53: 2005 | C53: =IF(COUNTIFS(mapbiomas_peru_collection_4_deforestation_crossing_biomes_political_level_2_poli4[territor_level_2_1],A53,mapbiomas_peru_collection_4_deforestation_crossing_biomes_political_level_2_poli4[transition],6,mapbiomas_peru_collection_4_deforestation_crossing_biomes_political_level_2_poli4[2005],"<>")=0,"",SUMIFS(mapbiomas_peru_collection_4_deforestation_crossing_biomes_political_level_2_poli4[2005],mapbiomas_peru_collection_4_deforestation_crossing_biomes_political_level_2_poli4[territor_level_2_1],A53,mapbiomas_peru_collection_4_deforestation_crossing_biomes_political_level_2_poli4[transition],6)) -> 3059100
A54: Andes | B54: 2006 | C54: =IF(COUNTIFS(mapbiomas_peru_collection_4_deforestation_crossing_biomes_political_level_2_poli4[territor_level_2_1],A54,mapbiomas_peru_collection_4_deforestation_crossing_biomes_political_level_2_poli4[transition],6,mapbiomas_peru_collection_4_deforestation_crossing_biomes_political_level_2_poli4[2006],"<>")=0,"",SUMIFS(mapbiomas_peru_collection_4_deforestation_crossing_biomes_political_level_2_poli4[2006],mapbiomas_peru_collection_4_deforestation_crossing_biomes_political_level_2_poli4[territor_level_2_1],A54,mapbiomas_peru_collection_4_deforestation_crossing_biomes_political_level_2_poli4[transition],6)) -> 5690600
A55: Andes | B55: 2007 | C55: =IF(COUNTIFS(mapbiomas_peru_collection_4_deforestation_crossing_biomes_political_level_2_poli4[territor_level_2_1],A55,mapbiomas_peru_collection_4_deforestation_crossing_biomes_political_level_2_poli4[transition],6,mapbiomas_peru_collection_4_deforestation_crossing_biomes_political_level_2_poli4[2007],"<>")=0,"",SUMIFS(mapbiomas_peru_collection_4_deforestation_crossing_biomes_political_level_2_poli4[2007],mapbiomas_peru_collection_4_deforestation_crossing_biomes_political_level_2_poli4[territor_level_2_1],A55,mapbiomas_peru_collection_4_deforestation_crossing_biomes_political_level_2_poli4[transition],6)) -> 3549900
A56: Andes | B56: 2008 | C56: =IF(COUNTIFS(mapbiomas_peru_collection_4_deforestation_crossing_biomes_political_level_2_poli4[territor_level_2_1],A56,mapbiomas_peru_collection_4_deforestation_crossing_biomes_political_level_2_poli4[transition],6,mapbiomas_peru_collection_4_deforestation_crossing_biomes_political_level_2_poli4[2008],"<>")=0,"",SUMIFS(mapbiomas_peru_collection_4_deforestation_crossing_biomes_political_level_2_poli4[2008],mapbiomas_peru_collection_4_deforestation_crossing_biomes_political_level_2_poli4[territor_level_2_1],A56,mapbiomas_peru_collection_4_deforestation_crossing_biomes_political_level_2_poli4[transition],6)) -> 3677100
A57: Andes | B57: 2009 | C57: =IF(COUNTIFS(mapbiomas_peru_collection_4_deforestation_crossing_biomes_political_level_2_poli4[territor_level_2_1],A57,mapbiomas_peru_collection_4_deforestation_crossing_biomes_political_level_2_poli4[transition],6,mapbiomas_peru_collection_4_deforestation_crossing_biomes_political_level_2_poli4[2009],"<>")=0,"",SUMIFS(mapbiomas_peru_collection_4_deforestation_crossing_biomes_political_level_2_poli4[2009],mapbiomas_peru_collection_4_deforestation_crossing_biomes_political_level_2_poli4[territor_level_2_1],A57,mapbiomas_peru_collection_4_deforestation_crossing_biomes_political_level_2_poli4[transition],6)) -> 3875800
A58: Andes | B58: 2010 | C58: =IF(COUNTIFS(mapbiomas_peru_collection_4_deforestation_crossing_biomes_political_level_2_poli4[territor_level_2_1],A58,mapbiomas_peru_collection_4_deforestation_crossing_biomes_political_level_2_poli4[transition],6,mapbiomas_peru_collection_4_deforestation_crossing_biomes_political_level_2_poli4[2010],"<>")=0,"",SUMIFS(mapbiomas_peru_collection_4_deforestation_crossing_biomes_political_level_2_poli4[2010],mapbiomas_peru_collection_4_deforestation_crossing_biomes_political_level_2_poli4[territor_level_2_1],A58,mapbiomas_peru_collection_4_deforestation_crossing_biomes_political_level_2_poli4[transition],6)) -> 4812200
A59: Andes | B59: 2011 | C59: =IF(COUNTIFS(mapbiomas_peru_collection_4_deforestation_crossing_biomes_political_level_2_poli4[territor_level_2_1],A59,mapbiomas_peru_collection_4_deforestation_crossing_biomes_political_level_2_poli4[transition],6,mapbiomas_peru_collection_4_deforestation_crossing_biomes_political_level_2_poli4[2011],"<>")=0,"",SUMIFS(mapbiomas_peru_collection_4_deforestation_crossing_biomes_political_level_2_poli4[2011],mapbiomas_peru_collection_4_deforestation_crossing_biomes_political_level_2_poli4[territor_level_2_1],A59,mapbiomas_peru_collection_4_deforestation_crossing_biomes_political_level_2_poli4[transition],6)) -> 4345900
A60: Andes | B60: 2012 | C60: =IF(COUNTIFS(mapbiomas_peru_collection_4_deforestation_crossing_biomes_political_level_2_poli4[territor_level_2_1],A60,mapbiomas_peru_collection_4_deforestation_crossing_biomes_political_level_2_poli4[transition],6,mapbiomas_peru_collection_4_deforestation_crossing_biomes_political_level_2_poli4[2012],"<>")=0,"",SUMIFS(mapbiomas_peru_collection_4_deforestation_crossing_biomes_political_level_2_poli4[2012],mapbiomas_peru_collection_4_deforestation_crossing_biomes_political_level_2_poli4[territor_level_2_1],A60,mapbiomas_peru_collection_4_deforestation_crossing_biomes_political_level_2_poli4[transition],6)) -> 3996700
A61: Andes | B61: 2013 | C61: =IF(COUNTIFS(mapbiomas_peru_collection_4_deforestation_crossing_biomes_political_level_2_poli4[territor_level_2_1],A61,mapbiomas_peru_collection_4_deforestation_crossing_biomes_political_level_2_poli4[transition],6,mapbiomas_peru_collection_4_deforestation_crossing_biomes_political_level_2_poli4[2013],"<>")=0,"",SUMIFS(mapbiomas_peru_collection_4_deforestation_crossing_biomes_political_level_2_poli4[2013],mapbiomas_peru_collection_4_deforestation_crossing_biomes_political_level_2_poli4[territor_level_2_1],A61,mapbiomas_peru_collection_4_deforestation_crossing_biomes_political_level_2_poli4[transition],6)) -> 4785500
A62: Andes | B62: 2014 | C62: =IF(COUNTIFS(mapbiomas_peru_collection_4_deforestation_crossing_biomes_political_level_2_poli4[territor_level_2_1],A62,mapbiomas_peru_collection_4_deforestation_crossing_biomes_political_level_2_poli4[transition],6,mapbiomas_peru_collection_4_deforestation_crossing_biomes_political_level_2_poli4[2014],"<>")=0,"",SUMIFS(mapbiomas_peru_collection_4_deforestation_crossing_biomes_political_level_2_poli4[2014],mapbiomas_peru_collection_4_deforestation_crossing_biomes_political_level_2_poli4[territor_level_2_1],A62,mapbiomas_peru_collection_4_deforestation_crossing_biomes_political_level_2_poli4[transition],6)) -> 4040400
A63: Andes | B63: 2015 | C63: =IF(COUNTIFS(mapbiomas_peru_collection_4_deforestation_crossing_biomes_political_level_2_poli4[territor_level_2_1],A63,mapbiomas_peru_collection_4_deforestation_crossing_biomes_political_level_2_poli4[transition],6,mapbiomas_peru_collection_4_deforestation_crossing_biomes_political_level_2_poli4[2015],"<>")=0,"",SUMIFS(mapbiomas_peru_collection_4_deforestation_crossing_biomes_political_level_2_poli4[2015],mapbiomas_peru_collection_4_deforestation_crossing_biomes_political_level_2_poli4[territor_level_2_1],A63,mapbiomas_peru_collection_4_deforestation_crossing_biomes_political_level_2_poli4[transition],6)) -> 5350200
A64: Andes | B64: 2016 | C64: =IF(COUNTIFS(mapbiomas_peru_collection_4_deforestation_crossing_biomes_political_level_2_poli4[territor_level_2_1],A64,mapbiomas_peru_collection_4_deforestation_crossing_biomes_political_level_2_poli4[transition],6,mapbiomas_peru_collection_4_deforestation_crossing_biomes_political_level_2_poli4[2016],"<>")=0,"",SUMIFS(mapbiomas_peru_collection_4_deforestation_crossing_biomes_political_level_2_poli4[2016],mapbiomas_peru_collection_4_deforestation_crossing_biomes_political_level_2_poli4[territor_level_2_1],A64,mapbiomas_peru_collection_4_deforestation_crossing_biomes_political_level_2_poli4[transition],6)) -> 3494100
A65: Andes | B65: 2017 | C65: =IF(COUNTIFS(mapbiomas_peru_collection_4_deforestation_crossing_biomes_political_level_2_poli4[territor_level_2_1],A65,mapbiomas_peru_collection_4_deforestation_crossing_biomes_political_level_2_poli4[transition],6,mapbiomas_peru_collection_4_deforestation_crossing_biomes_political_level_2_poli4[2017],"<>")=0,"",SUMIFS(mapbiomas_peru_collection_4_deforestation_crossing_biomes_political_level_2_poli4[2017],mapbiomas_peru_collection_4_deforestation_crossing_biomes_political_level_2_poli4[territor_level_2_1],A65,mapbiomas_peru_collection_4_deforestation_crossing_biomes_political_level_2_poli4[transition],6)) -> 4455400
A66: Andes | B66: 2018 | C66: =IF(COUNTIFS(mapbiomas_peru_collection_4_deforestation_crossing_biomes_political_level_2_poli4[territor_level_2_1],A66,mapbiomas_peru_collection_4_deforestation_crossing_biomes_political_level_2_poli4[transition],6,mapbiomas_peru_collection_4_deforestation_crossing_biomes_political_level_2_poli4[2018],"<>")=0,"",SUMIFS(mapbiomas_peru_collection_4_deforestation_crossing_biomes_political_level_2_poli4[2018],mapbiomas_peru_collection_4_deforestation_crossing_biomes_political_level_2_poli4[territor_level_2_1],A66,mapbiomas_peru_collection_4_deforestation_crossing_biomes_political_level_2_poli4[transition],6)) -> 4041600
A67: Andes | B67: 2019 | C67: =IF(COUNTIFS(mapbiomas_peru_collection_4_deforestation_crossing_biomes_political_level_2_poli4[territor_level_2_1],A67,mapbiomas_peru_collection_4_deforestation_crossing_biomes_political_level_2_poli4[transition],6,mapbiomas_peru_collection_4_deforestation_crossing_biomes_political_level_2_poli4[2019],"<>")=0,"",SUMIFS(mapbiomas_peru_collection_4_deforestation_crossing_biomes_political_level_2_poli4[2019],mapbiomas_peru_collection_4_deforestation_crossing_biomes_political_level_2_poli4[territor_level_2_1],A67,mapbiomas_peru_collection_4_deforestation_crossing_biomes_political_level_2_poli4[transition],6)) -> 3243600
A68: Andes | B68: 2020 | C68: =IF(COUNTIFS(mapbiomas_peru_collection_4_deforestation_crossing_biomes_political_level_2_poli4[territor_level_2_1],A68,mapbiomas_peru_collection_4_deforestation_crossing_biomes_political_level_2_poli4[transition],6,mapbiomas_peru_collection_4_deforestation_crossing_biomes_political_level_2_poli4[2020],"<>")=0,"",SUMIFS(mapbiomas_peru_collection_4_deforestation_crossing_biomes_political_level_2_poli4[2020],mapbiomas_peru_collection_4_deforestation_crossing_biomes_political_level_2_poli4[territor_level_2_1],A68,mapbiomas_peru_collection_4_deforestation_crossing_biomes_political_level_2_poli4[transition],6)) -> 3711500
A69: Andes | B69: 2021 | C69: =IF(COUNTIFS(mapbiomas_peru_collection_4_deforestation_crossing_biomes_political_level_2_poli4[territor_level_2_1],A69,mapbiomas_peru_collection_4_deforestation_crossing_biomes_political_level_2_poli4[transition],6,mapbiomas_peru_collection_4_deforestation_crossing_biomes_political_level_2_poli4[2021],"<>")=0,"",SUMIFS(mapbiomas_peru_collection_4_deforestation_crossing_biomes_political_level_2_poli4[2021],mapbiomas_peru_collection_4_deforestation_crossing_biomes_political_level_2_poli4[territor_level_2_1],A69,mapbiomas_peru_collection_4_deforestation_crossing_biomes_political_level_2_poli4[transition],6)) -> 4676000
A70: Andes | B70: 2022 | C70: =IF(COUNTIFS(mapbiomas_peru_collection_4_deforestation_crossing_biomes_political_level_2_poli4[territor_level_2_1],A70,mapbiomas_peru_collection_4_deforestation_crossing_biomes_political_level_2_poli4[transition],6,mapbiomas_peru_collection_4_deforestation_crossing_biomes_political_level_2_poli4[2022],"<>")=0,"",SUMIFS(mapbiomas_peru_collection_4_deforestation_crossing_biomes_political_level_2_poli4[2022],mapbiomas_peru_collection_4_deforestation_crossing_biomes_political_level_2_poli4[territor_level_2_1],A70,mapbiomas_peru_collection_4_deforestation_crossing_biomes_political_level_2_poli4[transition],6)) -> 3998500
A71: Andes | B71: 2023 | C71: =IF(COUNTIFS(mapbiomas_peru_collection_4_deforestation_crossing_biomes_political_level_2_poli4[territor_level_2_1],A71,mapbiomas_peru_collection_4_deforestation_crossing_biomes_political_level_2_poli4[transition],6,mapbiomas_peru_collection_4_deforestation_crossing_biomes_political_level_2_poli4[2023],"<>")=0,"",SUMIFS(mapbiomas_peru_collection_4_deforestation_crossing_biomes_political_level_2_poli4[2023],mapbiomas_peru_collection_4_deforestation_crossing_biomes_political_level_2_poli4[territor_level_2_1],A71,mapbiomas_peru_collection_4_deforestation_crossing_biomes_political_level_2_poli4[transition],6)) -> 3313500
A72: Andes | B72: 2024 | C72: =IF(COUNTIFS(mapbiomas_peru_collection_4_deforestation_crossing_biomes_political_level_2_poli4[territor_level_2_1],A72,mapbiomas_peru_collection_4_deforestation_crossing_biomes_political_level_2_poli4[transition],6,mapbiomas_peru_collection_4_deforestation_crossing_biomes_political_level_2_poli4[2024],"<>")=0,"",SUMIFS(mapbiomas_peru_collection_4_deforestation_crossing_biomes_political_level_2_poli4[2024],mapbiomas_peru_collection_4_deforestation_crossing_biomes_political_level_2_poli4[territor_level_2_1],A72,mapbiomas_peru_collection_4_deforestation_crossing_biomes_political_level_2_poli4[transition],6)) -> 4350800
A73: Andes | B73: 2025 | C73: =IF(COUNTIFS(mapbiomas_peru_collection_4_deforestation_crossing_biomes_political_level_2_poli4[territor_level_2_1],A73,mapbiomas_peru_collection_4_deforestation_crossing_biomes_political_level_2_poli4[transition],6,mapbiomas_peru_collection_4_deforestation_crossing_biomes_political_level_2_poli4[2025],"<>")=0,"",SUMIFS(mapbiomas_peru_collection_4_deforestation_crossing_biomes_political_level_2_poli4[2025],mapbiomas_peru_collection_4_deforestation_crossing_biomes_political_level_2_poli4[territor_level_2_1],A73,mapbiomas_peru_collection_4_deforestation_crossing_biomes_political_level_2_poli4[transition],6)) -> 1314100
A74: Desierto costero | B74: 1990 | C74: =IF(COUNTIFS(mapbiomas_peru_collection_4_deforestation_crossing_biomes_political_level_2_poli4[territor_level_2_1],A74,mapbiomas_peru_collection_4_deforestation_crossing_biomes_political_level_2_poli4[transition],6,mapbiomas_peru_collection_4_deforestation_crossing_biomes_political_level_2_poli4[1990],"<>")=0,"",SUMIFS(mapbiomas_peru_collection_4_deforestation_crossing_biomes_political_level_2_poli4[1990],mapbiomas_peru_collection_4_deforestation_crossing_biomes_political_level_2_poli4[territor_level_2_1],A74,mapbiomas_peru_collection_4_deforestation_crossing_biomes_political_level_2_poli4[transition],6))
A75: Desierto costero | B75: 1991 | C75: =IF(COUNTIFS(mapbiomas_peru_collection_4_deforestation_crossing_biomes_political_level_2_poli4[territor_level_2_1],A75,mapbiomas_peru_collection_4_deforestation_crossing_biomes_political_level_2_poli4[transition],6,mapbiomas_peru_collection_4_deforestation_crossing_biomes_political_level_2_poli4[1991],"<>")=0,"",SUMIFS(mapbiomas_peru_collection_4_deforestation_crossing_biomes_political_level_2_poli4[1991],mapbiomas_peru_collection_4_deforestation_crossing_biomes_political_level_2_poli4[territor_level_2_1],A75,mapbiomas_peru_collection_4_deforestation_crossing_biomes_political_level_2_poli4[transition],6))
A76: Desierto costero | B76: 1992 | C76: =IF(COUNTIFS(mapbiomas_peru_collection_4_deforestation_crossing_biomes_political_level_2_poli4[territor_level_2_1],A76,mapbiomas_peru_collection_4_deforestation_crossing_biomes_political_level_2_poli4[transition],6,mapbiomas_peru_collection_4_deforestation_crossing_biomes_political_level_2_poli4[1992],"<>")=0,"",SUMIFS(mapbiomas_peru_collection_4_deforestation_crossing_biomes_political_level_2_poli4[1992],mapbiomas_peru_collection_4_deforestation_crossing_biomes_political_level_2_poli4[territor_level_2_1],A76,mapbiomas_peru_collection_4_deforestation_crossing_biomes_political_level_2_poli4[transition],6)) -> 780.6
A77: Desierto costero | B77: 1993 | C77: =IF(COUNTIFS(mapbiomas_peru_collection_4_deforestation_crossing_biomes_political_level_2_poli4[territor_level_2_1],A77,mapbiomas_peru_collection_4_deforestation_crossing_biomes_political_level_2_poli4[transition],6,mapbiomas_peru_collection_4_deforestation_crossing_biomes_political_level_2_poli4[1993],"<>")=0,"",SUMIFS(mapbiomas_peru_collection_4_deforestation_crossing_biomes_political_level_2_poli4[1993],mapbiomas_peru_collection_4_deforestation_crossing_biomes_political_level_2_poli4[territor_level_2_1],A77,mapbiomas_peru_collection_4_deforestation_crossing_biomes_political_level_2_poli4[transition],6)) -> 2947.7
A78: Desierto costero | B78: 1994 | C78: =IF(COUNTIFS(mapbiomas_peru_collection_4_deforestation_crossing_biomes_political_level_2_poli4[territor_level_2_1],A78,mapbiomas_peru_collection_4_deforestation_crossing_biomes_political_level_2_poli4[transition],6,mapbiomas_peru_collection_4_deforestation_crossing_biomes_political_level_2_poli4[1994],"<>")=0,"",SUMIFS(mapbiomas_peru_collection_4_deforestation_crossing_biomes_political_level_2_poli4[1994],mapbiomas_peru_collection_4_deforestation_crossing_biomes_political_level_2_poli4[territor_level_2_1],A78,mapbiomas_peru_collection_4_deforestation_crossing_biomes_political_level_2_poli4[transition],6)) -> 6733.1
A79: Desierto costero | B79: 1995 | C79: =IF(COUNTIFS(mapbiomas_peru_collection_4_deforestation_crossing_biomes_political_level_2_poli4[territor_level_2_1],A79,mapbiomas_peru_collection_4_deforestation_crossing_biomes_political_level_2_poli4[transition],6,mapbiomas_peru_collection_4_deforestation_crossing_biomes_political_level_2_poli4[1995],"<>")=0,"",SUMIFS(mapbiomas_peru_collection_4_deforestation_crossing_biomes_political_level_2_poli4[1995],mapbiomas_peru_collection_4_deforestation_crossing_biomes_political_level_2_poli4[territor_level_2_1],A79,mapbiomas_peru_collection_4_deforestation_crossing_biomes_political_level_2_poli4[transition],6)) -> 7777.8
A80: Desierto costero | B80: 1996 | C80: =IF(COUNTIFS(mapbiomas_peru_collection_4_deforestation_crossing_biomes_political_level_2_poli4[territor_level_2_1],A80,mapbiomas_peru_collection_4_deforestation_crossing_biomes_political_level_2_poli4[transition],6,mapbiomas_peru_collection_4_deforestation_crossing_biomes_political_level_2_poli4[1996],"<>")=0,"",SUMIFS(mapbiomas_peru_collection_4_deforestation_crossing_biomes_political_level_2_poli4[1996],mapbiomas_peru_collection_4_deforestation_crossing_biomes_political_level_2_poli4[territor_level_2_1],A80,mapbiomas_peru_collection_4_deforestation_crossing_biomes_political_level_2_poli4[transition],6)) -> 494920
A81: Desierto costero | B81: 1997 | C81: =IF(COUNTIFS(mapbiomas_peru_collection_4_deforestation_crossing_biomes_political_level_2_poli4[territor_level_2_1],A81,mapbiomas_peru_collection_4_deforestation_crossing_biomes_political_level_2_poli4[transition],6,mapbiomas_peru_collection_4_deforestation_crossing_biomes_political_level_2_poli4[1997],"<>")=0,"",SUMIFS(mapbiomas_peru_collection_4_deforestation_crossing_biomes_political_level_2_poli4[1997],mapbiomas_peru_collection_4_deforestation_crossing_biomes_political_level_2_poli4[territor_level_2_1],A81,mapbiomas_peru_collection_4_deforestation_crossing_biomes_political_level_2_poli4[transition],6)) -> 48844
A82: Desierto costero | B82: 1998 | C82: =IF(COUNTIFS(mapbiomas_peru_collection_4_deforestation_crossing_biomes_political_level_2_poli4[territor_level_2_1],A82,mapbiomas_peru_collection_4_deforestation_crossing_biomes_political_level_2_poli4[transition],6,mapbiomas_peru_collection_4_deforestation_crossing_biomes_political_level_2_poli4[1998],"<>")=0,"",SUMIFS(mapbiomas_peru_collection_4_deforestation_crossing_biomes_political_level_2_poli4[1998],mapbiomas_peru_collection_4_deforestation_crossing_biomes_political_level_2_poli4[territor_level_2_1],A82,mapbiomas_peru_collection_4_deforestation_crossing_biomes_political_level_2_poli4[transition],6)) -> 89912
A83: Desierto costero | B83: 1999 | C83: =IF(COUNTIFS(mapbiomas_peru_collection_4_deforestation_crossing_biomes_political_level_2_poli4[territor_level_2_1],A83,mapbiomas_peru_collection_4_deforestation_crossing_biomes_political_level_2_poli4[transition],6,mapbiomas_peru_collection_4_deforestation_crossing_biomes_political_level_2_poli4[1999],"<>")=0,"",SUMIFS(mapbiomas_peru_collection_4_deforestation_crossing_biomes_political_level_2_poli4[1999],mapbiomas_peru_collection_4_deforestation_crossing_biomes_political_level_2_poli4[territor_level_2_1],A83,mapbiomas_peru_collection_4_deforestation_crossing_biomes_political_level_2_poli4[transition],6)) -> 42622
A84: Desierto costero | B84: 2000 | C84: =IF(COUNTIFS(mapbiomas_peru_collection_4_deforestation_crossing_biomes_political_level_2_poli4[territor_level_2_1],A84,mapbiomas_peru_collection_4_deforestation_crossing_biomes_political_level_2_poli4[transition],6,mapbiomas_peru_collection_4_deforestation_crossing_biomes_political_level_2_poli4[2000],"<>")=0,"",SUMIFS(mapbiomas_peru_collection_4_deforestation_crossing_biomes_political_level_2_poli4[2000],mapbiomas_peru_collection_4_deforestation_crossing_biomes_political_level_2_poli4[territor_level_2_1],A84,mapbiomas_peru_collection_4_deforestation_crossing_biomes_political_level_2_poli4[transition],6)) -> 50615
A85: Desierto costero | B85: 2001 | C85: =IF(COUNTIFS(mapbiomas_peru_collection_4_deforestation_crossing_biomes_political_level_2_poli4[territor_level_2_1],A85,mapbiomas_peru_collection_4_deforestation_crossing_biomes_political_level_2_poli4[transition],6,mapbiomas_peru_collection_4_deforestation_crossing_biomes_political_level_2_poli4[2001],"<>")=0,"",SUMIFS(mapbiomas_peru_collection_4_deforestation_crossing_biomes_political_level_2_poli4[2001],mapbiomas_peru_collection_4_deforestation_crossing_biomes_political_level_2_poli4[territor_level_2_1],A85,mapbiomas_peru_collection_4_deforestation_crossing_biomes_political_level_2_poli4[transition],6)) -> 83278
A86: Desierto costero | B86: 2002 | C86: =IF(COUNTIFS(mapbiomas_peru_collection_4_deforestation_crossing_biomes_political_level_2_poli4[territor_level_2_1],A86,mapbiomas_peru_collection_4_deforestation_crossing_biomes_political_level_2_poli4[transition],6,mapbiomas_peru_collection_4_deforestation_crossing_biomes_political_level_2_poli4[2002],"<>")=0,"",SUMIFS(mapbiomas_peru_collection_4_deforestation_crossing_biomes_political_level_2_poli4[2002],mapbiomas_peru_collection_4_deforestation_crossing_biomes_political_level_2_poli4[territor_level_2_1],A86,mapbiomas_peru_collection_4_deforestation_crossing_biomes_political_level_2_poli4[transition],6)) -> 80440
A87: Desierto costero | B87: 2003 | C87: =IF(COUNTIFS(mapbiomas_peru_collection_4_deforestation_crossing_biomes_political_level_2_poli4[territor_level_2_1],A87,mapbiomas_peru_collection_4_deforestation_crossing_biomes_political_level_2_poli4[transition],6,mapbiomas_peru_collection_4_deforestation_crossing_biomes_political_level_2_poli4[2003],"<>")=0,"",SUMIFS(mapbiomas_peru_collection_4_deforestation_crossing_biomes_political_level_2_poli4[2003],mapbiomas_peru_collection_4_deforestation_crossing_biomes_political_level_2_poli4[territor_level_2_1],A87,mapbiomas_peru_collection_4_deforestation_crossing_biomes_political_level_2_poli4[transition],6)) -> 152470
A88: Desierto costero | B88: 2004 | C88: =IF(COUNTIFS(mapbiomas_peru_collection_4_deforestation_crossing_biomes_political_level_2_poli4[territor_level_2_1],A88,mapbiomas_peru_collection_4_deforestation_crossing_biomes_political_level_2_poli4[transition],6,mapbiomas_peru_collection_4_deforestation_crossing_biomes_political_level_2_poli4[2004],"<>")=0,"",SUMIFS(mapbiomas_peru_collection_4_deforestation_crossing_biomes_political_level_2_poli4[2004],mapbiomas_peru_collection_4_deforestation_crossing_biomes_political_level_2_poli4[territor_level_2_1],A88,mapbiomas_peru_collection_4_deforestation_crossing_biomes_political_level_2_poli4[transition],6)) -> 174200
A89: Desierto costero | B89: 2005 | C89: =IF(COUNTIFS(mapbiomas_peru_collection_4_deforestation_crossing_biomes_political_level_2_poli4[territor_level_2_1],A89,mapbiomas_peru_collection_4_deforestation_crossing_biomes_political_level_2_poli4[transition],6,mapbiomas_peru_collection_4_deforestation_crossing_biomes_political_level_2_poli4[2005],"<>")=0,"",SUMIFS(mapbiomas_peru_collection_4_deforestation_crossing_biomes_political_level_2_poli4[2005],mapbiomas_peru_collection_4_deforestation_crossing_biomes_political_level_2_poli4[territor_level_2_1],A89,mapbiomas_peru_collection_4_deforestation_crossing_biomes_political_level_2_poli4[transition],6)) -> 94906
A90: Desierto costero | B90: 2006 | C90: =IF(COUNTIFS(mapbiomas_peru_collection_4_deforestation_crossing_biomes_political_level_2_poli4[territor_level_2_1],A90,mapbiomas_peru_collection_4_deforestation_crossing_biomes_political_level_2_poli4[transition],6,mapbiomas_peru_collection_4_deforestation_crossing_biomes_political_level_2_poli4[2006],"<>")=0,"",SUMIFS(mapbiomas_peru_collection_4_deforestation_crossing_biomes_political_level_2_poli4[2006],mapbiomas_peru_collection_4_deforestation_crossing_biomes_political_level_2_poli4[territor_level_2_1],A90,mapbiomas_peru_collection_4_deforestation_crossing_biomes_political_level_2_poli4[transition],6)) -> 107850
A91: Desierto costero | B91: 2007 | C91: =IF(COUNTIFS(mapbiomas_peru_collection_4_deforestation_crossing_biomes_political_level_2_poli4[territor_level_2_1],A91,mapbiomas_peru_collection_4_deforestation_crossing_biomes_political_level_2_poli4[transition],6,mapbiomas_peru_collection_4_deforestation_crossing_biomes_political_level_2_poli4[2007],"<>")=0,"",SUMIFS(mapbiomas_peru_collection_4_deforestation_crossing_biomes_political_level_2_poli4[2007],mapbiomas_peru_collection_4_deforestation_crossing_biomes_political_level_2_poli4[territor_level_2_1],A91,mapbiomas_peru_collection_4_deforestation_crossing_biomes_political_level_2_poli4[transition],6)) -> 112420
A92: Desierto costero | B92: 2008 | C92: =IF(COUNTIFS(mapbiomas_peru_collection_4_deforestation_crossing_biomes_political_level_2_poli4[territor_level_2_1],A92,mapbiomas_peru_collection_4_deforestation_crossing_biomes_political_level_2_poli4[transition],6,mapbiomas_peru_collection_4_deforestation_crossing_biomes_political_level_2_poli4[2008],"<>")=0,"",SUMIFS(mapbiomas_peru_collection_4_deforestation_crossing_biomes_political_level_2_poli4[2008],mapbiomas_peru_collection_4_deforestation_crossing_biomes_political_level_2_poli4[territor_level_2_1],A92,mapbiomas_peru_collection_4_deforestation_crossing_biomes_political_level_2_poli4[transition],6)) -> 114320
A93: Desierto costero | B93: 2009 | C93: =IF(COUNTIFS(mapbiomas_peru_collection_4_deforestation_crossing_biomes_political_level_2_poli4[territor_level_2_1],A93,mapbiomas_peru_collection_4_deforestation_crossing_biomes_political_level_2_poli4[transition],6,mapbiomas_peru_collection_4_deforestation_crossing_biomes_political_level_2_poli4[2009],"<>")=0,"",SUMIFS(mapbiomas_peru_collection_4_deforestation_crossing_biomes_political_level_2_poli4[2009],mapbiomas_peru_collection_4_deforestation_crossing_biomes_political_level_2_poli4[territor_level_2_1],A93,mapbiomas_peru_collection_4_deforestation_crossing_biomes_political_level_2_poli4[transition],6)) -> 110520
A94: Desierto costero | B94: 2010 | C94: =IF(COUNTIFS(mapbiomas_peru_collection_4_deforestation_crossing_biomes_political_level_2_poli4[territor_level_2_1],A94,mapbiomas_peru_collection_4_deforestation_crossing_biomes_political_level_2_poli4[transition],6,mapbiomas_peru_collection_4_deforestation_crossing_biomes_political_level_2_poli4[2010],"<>")=0,"",SUMIFS(mapbiomas_peru_collection_4_deforestation_crossing_biomes_political_level_2_poli4[2010],mapbiomas_peru_collection_4_deforestation_crossing_biomes_political_level_2_poli4[territor_level_2_1],A94,mapbiomas_peru_collection_4_deforestation_crossing_biomes_political_level_2_poli4[transition],6)) -> 117900
A95: Desierto costero | B95: 2011 | C95: =IF(COUNTIFS(mapbiomas_peru_collection_4_deforestation_crossing_biomes_political_level_2_poli4[territor_level_2_1],A95,mapbiomas_peru_collection_4_deforestation_crossing_biomes_political_level_2_poli4[transition],6,mapbiomas_peru_collection_4_deforestation_crossing_biomes_political_level_2_poli4[2011],"<>")=0,"",SUMIFS(mapbiomas_peru_collection_4_deforestation_crossing_biomes_political_level_2_poli4[2011],mapbiomas_peru_collection_4_deforestation_crossing_biomes_political_level_2_poli4[territor_level_2_1],A95,mapbiomas_peru_collection_4_deforestation_crossing_biomes_political_level_2_poli4[transition],6)) -> 109870
A96: Desierto costero | B96: 2012 | C96: =IF(COUNTIFS(mapbiomas_peru_collection_4_deforestation_crossing_biomes_political_level_2_poli4[territor_level_2_1],A96,mapbiomas_peru_collection_4_deforestation_crossing_biomes_political_level_2_poli4[transition],6,mapbiomas_peru_collection_4_deforestation_crossing_biomes_political_level_2_poli4[2012],"<>")=0,"",SUMIFS(mapbiomas_peru_collection_4_deforestation_crossing_biomes_political_level_2_poli4[2012],mapbiomas_peru_collection_4_deforestation_crossing_biomes_political_level_2_poli4[territor_level_2_1],A96,mapbiomas_peru_collection_4_deforestation_crossing_biomes_political_level_2_poli4[transition],6)) -> 122100
A97: Desierto costero | B97: 2013 | C97: =IF(COUNTIFS(mapbiomas_peru_collection_4_deforestation_crossing_biomes_political_level_2_poli4[territor_level_2_1],A97,mapbiomas_peru_collection_4_deforestation_crossing_biomes_political_level_2_poli4[transition],6,mapbiomas_peru_collection_4_deforestation_crossing_biomes_political_level_2_poli4[2013],"<>")=0,"",SUMIFS(mapbiomas_peru_collection_4_deforestation_crossing_biomes_political_level_2_poli4[2013],mapbiomas_peru_collection_4_deforestation_crossing_biomes_political_level_2_poli4[territor_level_2_1],A97,mapbiomas_peru_collection_4_deforestation_crossing_biomes_political_level_2_poli4[transition],6)) -> 206590
A98: Desierto costero | B98: 2014 | C98: =IF(COUNTIFS(mapbiomas_peru_collection_4_deforestation_crossing_biomes_political_level_2_poli4[territor_level_2_1],A98,mapbiomas_peru_collection_4_deforestation_crossing_biomes_political_level_2_poli4[transition],6,mapbiomas_peru_collection_4_deforestation_crossing_biomes_political_level_2_poli4[2014],"<>")=0,"",SUMIFS(mapbiomas_peru_collection_4_deforestation_crossing_biomes_political_level_2_poli4[2014],mapbiomas_peru_collection_4_deforestation_crossing_biomes_political_level_2_poli4[territor_level_2_1],A98,mapbiomas_peru_collection_4_deforestation_crossing_biomes_political_level_2_poli4[transition],6)) -> 70249
A99: Desierto costero | B99: 2015 | C99: =IF(COUNTIFS(mapbiomas_peru_collection_4_deforestation_crossing_biomes_political_level_2_poli4[territor_level_2_1],A99,mapbiomas_peru_collection_4_deforestation_crossing_biomes_political_level_2_poli4[transition],6,mapbiomas_peru_collection_4_deforestation_crossing_biomes_political_level_2_poli4[2015],"<>")=0,"",SUMIFS(mapbiomas_peru_collection_4_deforestation_crossing_biomes_political_level_2_poli4[2015],mapbiomas_peru_collection_4_deforestation_crossing_biomes_political_level_2_poli4[territor_level_2_1],A99,mapbiomas_peru_collection_4_deforestation_crossing_biomes_political_level_2_poli4[transition],6)) -> 85330
A100: Desierto costero | B100: 2016 | C100: =IF(COUNTIFS(mapbiomas_peru_collection_4_deforestation_crossing_biomes_political_level_2_poli4[territor_level_2_1],A100,mapbiomas_peru_collection_4_deforestation_crossing_biomes_political_level_2_poli4[transition],6,mapbiomas_peru_collection_4_deforestation_crossing_biomes_political_level_2_poli4[2016],"<>")=0,"",SUMIFS(mapbiomas_peru_collection_4_deforestation_crossing_biomes_political_level_2_poli4[2016],mapbiomas_peru_collection_4_deforestation_crossing_biomes_political_level_2_poli4[territor_level_2_1],A100,mapbiomas_peru_collection_4_deforestation_crossing_biomes_political_level_2_poli4[transition],6)) -> 164920
...

Sheet AUX_L2_TOTAL
A1: Bioma | B1: Año | C1: Deforestación total (ha)
A2: Amazonía | B2: 1990 | C2: =IF(COUNTIFS(mapbiomas_peru_collection_4_deforestation_crossing_biomes_political_level_2_poli4[territor_level_2_1],A2,mapbiomas_peru_collection_4_deforestation_crossing_biomes_political_level_2_poli4[1990],"<>")=0,"",SUMIFS(mapbiomas_peru_collection_4_deforestation_crossing_biomes_political_level_2_poli4[1990],mapbiomas_peru_collection_4_deforestation_crossing_biomes_political_level_2_poli4[territor_level_2_1],A2)) -> 8155723.7
A3: Amazonía | B3: 1991 | C3: =IF(COUNTIFS(mapbiomas_peru_collection_4_deforestation_crossing_biomes_political_level_2_poli4[territor_level_2_1],A3,mapbiomas_peru_collection_4_deforestation_crossing_biomes_political_level_2_poli4[1991],"<>")=0,"",SUMIFS(mapbiomas_peru_collection_4_deforestation_crossing_biomes_political_level_2_poli4[1991],mapbiomas_peru_collection_4_deforestation_crossing_biomes_political_level_2_poli4[territor_level_2_1],A3)) -> 10119800
A4: Amazonía | B4: 1992 | C4: =IF(COUNTIFS(mapbiomas_peru_collection_4_deforestation_crossing_biomes_political_level_2_poli4[territor_level_2_1],A4,mapbiomas_peru_collection_4_deforestation_crossing_biomes_political_level_2_poli4[1992],"<>")=0,"",SUMIFS(mapbiomas_peru_collection_4_deforestation_crossing_biomes_political_level_2_poli4[1992],mapbiomas_peru_collection_4_deforestation_crossing_biomes_political_level_2_poli4[territor_level_2_1],A4)) -> 7401660
A5: Amazonía | B5: 1993 | C5: =IF(COUNTIFS(mapbiomas_peru_collection_4_deforestation_crossing_biomes_political_level_2_poli4[territor_level_2_1],A5,mapbiomas_peru_collection_4_deforestation_crossing_biomes_political_level_2_poli4[1993],"<>")=0,"",SUMIFS(mapbiomas_peru_collection_4_deforestation_crossing_biomes_political_level_2_poli4[1993],mapbiomas_peru_collection_4_deforestation_crossing_biomes_political_level_2_poli4[territor_level_2_1],A5)) -> 8809350
A6: Amazonía | B6: 1994 | C6: =IF(COUNTIFS(mapbiomas_peru_collection_4_deforestation_crossing_biomes_political_level_2_poli4[territor_level_2_1],A6,mapbiomas_peru_collection_4_deforestation_crossing_biomes_political_level_2_poli4[1994],"<>")=0,"",SUMIFS(mapbiomas_peru_collection_4_deforestation_crossing_biomes_political_level_2_poli4[1994],mapbiomas_peru_collection_4_deforestation_crossing_biomes_political_level_2_poli4[territor_level_2_1],A6)) -> 9990700
A7: Amazonía | B7: 1995 | C7: =IF(COUNTIFS(mapbiomas_peru_collection_4_deforestation_crossing_biomes_political_level_2_poli4[territor_level_2_1],A7,mapbiomas_peru_collection_4_deforestation_crossing_biomes_political_level_2_poli4[1995],"<>")=0,"",SUMIFS(mapbiomas_peru_collection_4_deforestation_crossing_biomes_political_level_2_poli4[1995],mapbiomas_peru_collection_4_deforestation_crossing_biomes_political_level_2_poli4[territor_level_2_1],A7)) -> 9156500
A8: Amazonía | B8: 1996 | C8: =IF(COUNTIFS(mapbiomas_peru_collection_4_deforestation_crossing_biomes_political_level_2_poli4[territor_level_2_1],A8,mapbiomas_peru_collection_4_deforestation_crossing_biomes_political_level_2_poli4[1996],"<>")=0,"",SUMIFS(mapbiomas_peru_collection_4_deforestation_crossing_biomes_political_level_2_poli4[1996],mapbiomas_peru_collection_4_deforestation_crossing_biomes_political_level_2_poli4[territor_level_2_1],A8)) -> 12184100
A9: Amazonía | B9: 1997 | C9: =IF(COUNTIFS(mapbiomas_peru_collection_4_deforestation_crossing_biomes_political_level_2_poli4[territor_level_2_1],A9,mapbiomas_peru_collection_4_deforestation_crossing_biomes_political_level_2_poli4[1997],"<>")=0,"",SUMIFS(mapbiomas_peru_collection_4_deforestation_crossing_biomes_political_level_2_poli4[1997],mapbiomas_peru_collection_4_deforestation_crossing_biomes_political_level_2_poli4[territor_level_2_1],A9)) -> 11771200
A10: Amazonía | B10: 1998 | C10: =IF(COUNTIFS(mapbiomas_peru_collection_4_deforestation_crossing_biomes_political_level_2_poli4[territor_level_2_1],A10,mapbiomas_peru_collection_4_deforestation_crossing_biomes_political_level_2_poli4[1998],"<>")=0,"",SUMIFS(mapbiomas_peru_collection_4_deforestation_crossing_biomes_political_level_2_poli4[1998],mapbiomas_peru_collection_4_deforestation_crossing_biomes_political_level_2_poli4[territor_level_2_1],A10)) -> 13283100
A11: Amazonía | B11: 1999 | C11: =IF(COUNTIFS(mapbiomas_peru_collection_4_deforestation_crossing_biomes_political_level_2_poli4[territor_level_2_1],A11,mapbiomas_peru_collection_4_deforestation_crossing_biomes_political_level_2_poli4[1999],"<>")=0,"",SUMIFS(mapbiomas_peru_collection_4_deforestation_crossing_biomes_political_level_2_poli4[1999],mapbiomas_peru_collection_4_deforestation_crossing_biomes_political_level_2_poli4[territor_level_2_1],A11)) -> 11883500
A12: Amazonía | B12: 2000 | C12: =IF(COUNTIFS(mapbiomas_peru_collection_4_deforestation_crossing_biomes_political_level_2_poli4[territor_level_2_1],A12,mapbiomas_peru_collection_4_deforestation_crossing_biomes_political_level_2_poli4[2000],"<>")=0,"",SUMIFS(mapbiomas_peru_collection_4_deforestation_crossing_biomes_political_level_2_poli4[2000],mapbiomas_peru_collection_4_deforestation_crossing_biomes_political_level_2_poli4[territor_level_2_1],A12)) -> 10481000
A13: Amazonía | B13: 2001 | C13: =IF(COUNTIFS(mapbiomas_peru_collection_4_deforestation_crossing_biomes_political_level_2_poli4[territor_level_2_1],A13,mapbiomas_peru_collection_4_deforestation_crossing_biomes_political_level_2_poli4[2001],"<>")=0,"",SUMIFS(mapbiomas_peru_collection_4_deforestation_crossing_biomes_political_level_2_poli4[2001],mapbiomas_peru_collection_4_deforestation_crossing_biomes_political_level_2_poli4[territor_level_2_1],A13)) -> 11991600
A14: Amazonía | B14: 2002 | C14: =IF(COUNTIFS(mapbiomas_peru_collection_4_deforestation_crossing_biomes_political_level_2_poli4[territor_level_2_1],A14,mapbiomas_peru_collection_4_deforestation_crossing_biomes_political_level_2_poli4[2002],"<>")=0,"",SUMIFS(mapbiomas_peru_collection_4_deforestation_crossing_biomes_political_level_2_poli4[2002],mapbiomas_peru_collection_4_deforestation_crossing_biomes_political_level_2_poli4[territor_level_2_1],A14)) -> 11179300
A15: Amazonía | B15: 2003 | C15: =IF(COUNTIFS(mapbiomas_peru_collection_4_deforestation_crossing_biomes_political_level_2_poli4[territor_level_2_1],A15,mapbiomas_peru_collection_4_deforestation_crossing_biomes_political_level_2_poli4[2003],"<>")=0,"",SUMIFS(mapbiomas_peru_collection_4_deforestation_crossing_biomes_political_level_2_poli4[2003],mapbiomas_peru_collection_4_deforestation_crossing_biomes_political_level_2_poli4[territor_level_2_1],A15)) -> 11700100
A16: Amazonía | B16: 2004 | C16: =IF(COUNTIFS(mapbiomas_peru_collection_4_deforestation_crossing_biomes_political_level_2_poli4[territor_level_2_1],A16,mapbiomas_peru_collection_4_deforestation_crossing_biomes_political_level_2_poli4[2004],"<>")=0,"",SUMIFS(mapbiomas_peru_collection_4_deforestation_crossing_biomes_political_level_2_poli4[2004],mapbiomas_peru_collection_4_deforestation_crossing_biomes_political_level_2_poli4[territor_level_2_1],A16)) -> 10361200
A17: Amazonía | B17: 2005 | C17: =IF(COUNTIFS(mapbiomas_peru_collection_4_deforestation_crossing_biomes_political_level_2_poli4[territor_level_2_1],A17,mapbiomas_peru_collection_4_deforestation_crossing_biomes_political_level_2_poli4[2005],"<>")=0,"",SUMIFS(mapbiomas_peru_collection_4_deforestation_crossing_biomes_political_level_2_poli4[2005],mapbiomas_peru_collection_4_deforestation_crossing_biomes_political_level_2_poli4[territor_level_2_1],A17)) -> 13955900
A18: Amazonía | B18: 2006 | C18: =IF(COUNTIFS(mapbiomas_peru_collection_4_deforestation_crossing_biomes_political_level_2_poli4[territor_level_2_1],A18,mapbiomas_peru_collection_4_deforestation_crossing_biomes_political_level_2_poli4[2006],"<>")=0,"",SUMIFS(mapbiomas_peru_collection_4_deforestation_crossing_biomes_political_level_2_poli4[2006],mapbiomas_peru_collection_4_deforestation_crossing_biomes_political_level_2_poli4[territor_level_2_1],A18)) -> 11040900
A19: Amazonía | B19: 2007 | C19: =IF(COUNTIFS(mapbiomas_peru_collection_4_deforestation_crossing_biomes_political_level_2_poli4[territor_level_2_1],A19,mapbiomas_peru_collection_4_deforestation_crossing_biomes_political_level_2_poli4[2007],"<>")=0,"",SUMIFS(mapbiomas_peru_collection_4_deforestation_crossing_biomes_political_level_2_poli4[2007],mapbiomas_peru_collection_4_deforestation_crossing_biomes_political_level_2_poli4[territor_level_2_1],A19)) -> 12270900
A20: Amazonía | B20: 2008 | C20: =IF(COUNTIFS(mapbiomas_peru_collection_4_deforestation_crossing_biomes_political_level_2_poli4[territor_level_2_1],A20,mapbiomas_peru_collection_4_deforestation_crossing_biomes_political_level_2_poli4[2008],"<>")=0,"",SUMIFS(mapbiomas_peru_collection_4_deforestation_crossing_biomes_political_level_2_poli4[2008],mapbiomas_peru_collection_4_deforestation_crossing_biomes_political_level_2_poli4[territor_level_2_1],A20)) -> 12533000
A21: Amazonía | B21: 2009 | C21: =IF(COUNTIFS(mapbiomas_peru_collection_4_deforestation_crossing_biomes_political_level_2_poli4[territor_level_2_1],A21,mapbiomas_peru_collection_4_deforestation_crossing_biomes_political_level_2_poli4[2009],"<>")=0,"",SUMIFS(mapbiomas_peru_collection_4_deforestation_crossing_biomes_political_level_2_poli4[2009],mapbiomas_peru_collection_4_deforestation_crossing_biomes_political_level_2_poli4[territor_level_2_1],A21)) -> 14721100
A22: Amazonía | B22: 2010 | C22: =IF(COUNTIFS(mapbiomas_peru_collection_4_deforestation_crossing_biomes_political_level_2_poli4[territor_level_2_1],A22,mapbiomas_peru_collection_4_deforestation_crossing_biomes_political_level_2_poli4[2010],"<>")=0,"",SUMIFS(mapbiomas_peru_collection_4_deforestation_crossing_biomes_political_level_2_poli4[2010],mapbiomas_peru_collection_4_deforestation_crossing_biomes_political_level_2_poli4[territor_level_2_1],A22)) -> 14073800
A23: Amazonía | B23: 2011 | C23: =IF(COUNTIFS(mapbiomas_peru_collection_4_deforestation_crossing_biomes_political_level_2_poli4[territor_level_2_1],A23,mapbiomas_peru_collection_4_deforestation_crossing_biomes_political_level_2_poli4[2011],"<>")=0,"",SUMIFS(mapbiomas_peru_collection_4_deforestation_crossing_biomes_political_level_2_poli4[2011],mapbiomas_peru_collection_4_deforestation_crossing_biomes_political_level_2_poli4[territor_level_2_1],A23)) -> 11785400
A24: Amazonía | B24: 2012 | C24: =IF(COUNTIFS(mapbiomas_peru_collection_4_deforestation_crossing_biomes_political_level_2_poli4[territor_level_2_1],A24,mapbiomas_peru_collection_4_deforestation_crossing_biomes_political_level_2_poli4[2012],"<>")=0,"",SUMIFS(mapbiomas_peru_collection_4_deforestation_crossing_biomes_political_level_2_poli4[2012],mapbiomas_peru_collection_4_deforestation_crossing_biomes_political_level_2_poli4[territor_level_2_1],A24)) -> 15705800
A25: Amazonía | B25: 2013 | C25: =IF(COUNTIFS(mapbiomas_peru_collection_4_deforestation_crossing_biomes_political_level_2_poli4[territor_level_2_1],A25,mapbiomas_peru_collection_4_deforestation_crossing_biomes_political_level_2_poli4[2013],"<>")=0,"",SUMIFS(mapbiomas_peru_collection_4_deforestation_crossing_biomes_political_level_2_poli4[2013],mapbiomas_peru_collection_4_deforestation_crossing_biomes_political_level_2_poli4[territor_level_2_1],A25)) -> 15578500
A26: Amazonía | B26: 2014 | C26: =IF(COUNTIFS(mapbiomas_peru_collection_4_deforestation_crossing_biomes_political_level_2_poli4[territor_level_2_1],A26,mapbiomas_peru_collection_4_deforestation_crossing_biomes_political_level_2_poli4[2014],"<>")=0,"",SUMIFS(mapbiomas_peru_collection_4_deforestation_crossing_biomes_political_level_2_poli4[2014],mapbiomas_peru_collection_4_deforestation_crossing_biomes_political_level_2_poli4[territor_level_2_1],A26)) -> 13798900
A27: Amazonía | B27: 2015 | C27: =IF(COUNTIFS(mapbiomas_peru_collection_4_deforestation_crossing_biomes_political_level_2_poli4[territor_level_2_1],A27,mapbiomas_peru_collection_4_deforestation_crossing_biomes_political_level_2_poli4[2015],"<>")=0,"",SUMIFS(mapbiomas_peru_collection_4_deforestation_crossing_biomes_political_level_2_poli4[2015],mapbiomas_peru_collection_4_deforestation_crossing_biomes_political_level_2_poli4[territor_level_2_1],A27)) -> 13179900
A28: Amazonía | B28: 2016 | C28: =IF(COUNTIFS(mapbiomas_peru_collection_4_deforestation_crossing_biomes_political_level_2_poli4[territor_level_2_1],A28,mapbiomas_peru_collection_4_deforestation_crossing_biomes_political_level_2_poli4[2016],"<>")=0,"",SUMIFS(mapbiomas_peru_collection_4_deforestation_crossing_biomes_political_level_2_poli4[2016],mapbiomas_peru_collection_4_deforestation_crossing_biomes_political_level_2_poli4[territor_level_2_1],A28)) -> 12574700
A29: Amazonía | B29: 2017 | C29: =IF(COUNTIFS(mapbiomas_peru_collection_4_deforestation_crossing_biomes_political_level_2_poli4[territor_level_2_1],A29,mapbiomas_peru_collection_4_deforestation_crossing_biomes_political_level_2_poli4[2017],"<>")=0,"",SUMIFS(mapbiomas_peru_collection_4_deforestation_crossing_biomes_political_level_2_poli4[2017],mapbiomas_peru_collection_4_deforestation_crossing_biomes_political_level_2_poli4[territor_level_2_1],A29)) -> 13498800
A30: Amazonía | B30: 2018 | C30: =IF(COUNTIFS(mapbiomas_peru_collection_4_deforestation_crossing_biomes_political_level_2_poli4[territor_level_2_1],A30,mapbiomas_peru_collection_4_deforestation_crossing_biomes_political_level_2_poli4[2018],"<>")=0,"",SUMIFS(mapbiomas_peru_collection_4_deforestation_crossing_biomes_political_level_2_poli4[2018],mapbiomas_peru_collection_4_deforestation_crossing_biomes_political_level_2_poli4[territor_level_2_1],A30)) -> 14593000
A31: Amazonía | B31: 2019 | C31: =IF(COUNTIFS(mapbiomas_peru_collection_4_deforestation_crossing_biomes_political_level_2_poli4[territor_level_2_1],A31,mapbiomas_peru_collection_4_deforestation_crossing_biomes_political_level_2_poli4[2019],"<>")=0,"",SUMIFS(mapbiomas_peru_collection_4_deforestation_crossing_biomes_political_level_2_poli4[2019],mapbiomas_peru_collection_4_deforestation_crossing_biomes_political_level_2_poli4[territor_level_2_1],A31)) -> 14209300
A32: Amazonía | B32: 2020 | C32: =IF(COUNTIFS(mapbiomas_peru_collection_4_deforestation_crossing_biomes_political_level_2_poli4[territor_level_2_1],A32,mapbiomas_peru_collection_4_deforestation_crossing_biomes_political_level_2_poli4[2020],"<>")=0,"",SUMIFS(mapbiomas_peru_collection_4_deforestation_crossing_biomes_political_level_2_poli4[2020],mapbiomas_peru_collection_4_deforestation_crossing_biomes_political_level_2_poli4[territor_level_2_1],A32)) -> 17869900
A33: Amazonía | B33: 2021 | C33: =IF(COUNTIFS(mapbiomas_peru_collection_4_deforestation_crossing_biomes_political_level_2_poli4[territor_level_2_1],A33,mapbiomas_peru_collection_4_deforestation_crossing_biomes_political_level_2_poli4[2021],"<>")=0,"",SUMIFS(mapbiomas_peru_collection_4_deforestation_crossing_biomes_political_level_2_poli4[2021],mapbiomas_peru_collection_4_deforestation_crossing_biomes_political_level_2_poli4[territor_level_2_1],A33)) -> 16234500
A34: Amazonía | B34: 2022 | C34: =IF(COUNTIFS(mapbiomas_peru_collection_4_deforestation_crossing_biomes_political_level_2_poli4[territor_level_2_1],A34,mapbiomas_peru_collection_4_deforestation_crossing_biomes_political_level_2_poli4[2022],"<>")=0,"",SUMIFS(mapbiomas_peru_collection_4_deforestation_crossing_biomes_political_level_2_poli4[2022],mapbiomas_peru_collection_4_deforestation_crossing_biomes_political_level_2_poli4[territor_level_2_1],A34)) -> 20633500
A35: Amazonía | B35: 2023 | C35: =IF(COUNTIFS(mapbiomas_peru_collection_4_deforestation_crossing_biomes_political_level_2_poli4[territor_level_2_1],A35,mapbiomas_peru_collection_4_deforestation_crossing_biomes_political_level_2_poli4[2023],"<>")=0,"",SUMIFS(mapbiomas_peru_collection_4_deforestation_crossing_biomes_political_level_2_poli4[2023],mapbiomas_peru_collection_4_deforestation_crossing_biomes_political_level_2_poli4[territor_level_2_1],A35)) -> 21434400
A36: Amazonía | B36: 2024 | C36: =IF(COUNTIFS(mapbiomas_peru_collection_4_deforestation_crossing_biomes_political_level_2_poli4[territor_level_2_1],A36,mapbiomas_peru_collection_4_deforestation_crossing_biomes_political_level_2_poli4[2024],"<>")=0,"",SUMIFS(mapbiomas_peru_collection_4_deforestation_crossing_biomes_political_level_2_poli4[2024],mapbiomas_peru_collection_4_deforestation_crossing_biomes_political_level_2_poli4[territor_level_2_1],A36)) -> 14363800
A37: Amazonía | B37: 2025 | C37: =IF(COUNTIFS(mapbiomas_peru_collection_4_deforestation_crossing_biomes_political_level_2_poli4[territor_level_2_1],A37,mapbiomas_peru_collection_4_deforestation_crossing_biomes_political_level_2_poli4[2025],"<>")=0,"",SUMIFS(mapbiomas_peru_collection_4_deforestation_crossing_biomes_political_level_2_poli4[2025],mapbiomas_peru_collection_4_deforestation_crossing_biomes_political_level_2_poli4[territor_level_2_1],A37)) -> 16874200
A38: Andes | B38: 1990 | C38: =IF(COUNTIFS(mapbiomas_peru_collection_4_deforestation_crossing_biomes_political_level_2_poli4[territor_level_2_1],A38,mapbiomas_peru_collection_4_deforestation_crossing_biomes_political_level_2_poli4[1990],"<>")=0,"",SUMIFS(mapbiomas_peru_collection_4_deforestation_crossing_biomes_political_level_2_poli4[1990],mapbiomas_peru_collection_4_deforestation_crossing_biomes_political_level_2_poli4[territor_level_2_1],A38)) -> 9243837
A39: Andes | B39: 1991 | C39: =IF(COUNTIFS(mapbiomas_peru_collection_4_deforestation_crossing_biomes_political_level_2_poli4[territor_level_2_1],A39,mapbiomas_peru_collection_4_deforestation_crossing_biomes_political_level_2_poli4[1991],"<>")=0,"",SUMIFS(mapbiomas_peru_collection_4_deforestation_crossing_biomes_political_level_2_poli4[1991],mapbiomas_peru_collection_4_deforestation_crossing_biomes_political_level_2_poli4[territor_level_2_1],A39)) -> 4954300
A40: Andes | B40: 1992 | C40: =IF(COUNTIFS(mapbiomas_peru_collection_4_deforestation_crossing_biomes_political_level_2_poli4[territor_level_2_1],A40,mapbiomas_peru_collection_4_deforestation_crossing_biomes_political_level_2_poli4[1992],"<>")=0,"",SUMIFS(mapbiomas_peru_collection_4_deforestation_crossing_biomes_political_level_2_poli4[1992],mapbiomas_peru_collection_4_deforestation_crossing_biomes_political_level_2_poli4[territor_level_2_1],A40)) -> 4923160
A41: Andes | B41: 1993 | C41: =IF(COUNTIFS(mapbiomas_peru_collection_4_deforestation_crossing_biomes_political_level_2_poli4[territor_level_2_1],A41,mapbiomas_peru_collection_4_deforestation_crossing_biomes_political_level_2_poli4[1993],"<>")=0,"",SUMIFS(mapbiomas_peru_collection_4_deforestation_crossing_biomes_political_level_2_poli4[1993],mapbiomas_peru_collection_4_deforestation_crossing_biomes_political_level_2_poli4[territor_level_2_1],A41)) -> 9089800
A42: Andes | B42: 1994 | C42: =IF(COUNTIFS(mapbiomas_peru_collection_4_deforestation_crossing_biomes_political_level_2_poli4[territor_level_2_1],A42,mapbiomas_peru_collection_4_deforestation_crossing_biomes_political_level_2_poli4[1994],"<>")=0,"",SUMIFS(mapbiomas_peru_collection_4_deforestation_crossing_biomes_political_level_2_poli4[1994],mapbiomas_peru_collection_4_deforestation_crossing_biomes_political_level_2_poli4[territor_level_2_1],A42)) -> 6980600
A43: Andes | B43: 1995 | C43: =IF(COUNTIFS(mapbiomas_peru_collection_4_deforestation_crossing_biomes_political_level_2_poli4[territor_level_2_1],A43,mapbiomas_peru_collection_4_deforestation_crossing_biomes_political_level_2_poli4[1995],"<>")=0,"",SUMIFS(mapbiomas_peru_collection_4_deforestation_crossing_biomes_political_level_2_poli4[1995],mapbiomas_peru_collection_4_deforestation_crossing_biomes_political_level_2_poli4[territor_level_2_1],A43)) -> 7048600
A44: Andes | B44: 1996 | C44: =IF(COUNTIFS(mapbiomas_peru_collection_4_deforestation_crossing_biomes_political_level_2_poli4[territor_level_2_1],A44,mapbiomas_peru_collection_4_deforestation_crossing_biomes_political_level_2_poli4[1996],"<>")=0,"",SUMIFS(mapbiomas_peru_collection_4_deforestation_crossing_biomes_political_level_2_poli4[1996],mapbiomas_peru_collection_4_deforestation_crossing_biomes_political_level_2_poli4[territor_level_2_1],A44)) -> 7398900
A45: Andes | B45: 1997 | C45: =IF(COUNTIFS(mapbiomas_peru_collection_4_deforestation_crossing_biomes_political_level_2_poli4[territor_level_2_1],A45,mapbiomas_peru_collection_4_deforestation_crossing_biomes_political_level_2_poli4[1997],"<>")=0,"",SUMIFS(mapbiomas_peru_collection_4_deforestation_crossing_biomes_political_level_2_poli4[1997],mapbiomas_peru_collection_4_deforestation_crossing_biomes_political_level_2_poli4[territor_level_2_1],A45)) -> 4952500
A46: Andes | B46: 1998 | C46: =IF(COUNTIFS(mapbiomas_peru_collection_4_deforestation_crossing_biomes_political_level_2_poli4[territor_level_2_1],A46,mapbiomas_peru_collection_4_deforestation_crossing_biomes_political_level_2_poli4[1998],"<>")=0,"",SUMIFS(mapbiomas_peru_collection_4_deforestation_crossing_biomes_political_level_2_poli4[1998],mapbiomas_peru_collection_4_deforestation_crossing_biomes_political_level_2_poli4[territor_level_2_1],A46)) -> 5863500
A47: Andes | B47: 1999 | C47: =IF(COUNTIFS(mapbiomas_peru_collection_4_deforestation_crossing_biomes_political_level_2_poli4[territor_level_2_1],A47,mapbiomas_peru_collection_4_deforestation_crossing_biomes_political_level_2_poli4[1999],"<>")=0,"",SUMIFS(mapbiomas_peru_collection_4_deforestation_crossing_biomes_political_level_2_poli4[1999],mapbiomas_peru_collection_4_deforestation_crossing_biomes_political_level_2_poli4[territor_level_2_1],A47)) -> 6713000
A48: Andes | B48: 2000 | C48: =IF(COUNTIFS(mapbiomas_peru_collection_4_deforestation_crossing_biomes_political_level_2_poli4[territor_level_2_1],A48,mapbiomas_peru_collection_4_deforestation_crossing_biomes_political_level_2_poli4[2000],"<>")=0,"",SUMIFS(mapbiomas_peru_collection_4_deforestation_crossing_biomes_political_level_2_poli4[2000],mapbiomas_peru_collection_4_deforestation_crossing_biomes_political_level_2_poli4[territor_level_2_1],A48)) -> 7073000
A49: Andes | B49: 2001 | C49: =IF(COUNTIFS(mapbiomas_peru_collection_4_deforestation_crossing_biomes_political_level_2_poli4[territor_level_2_1],A49,mapbiomas_peru_collection_4_deforestation_crossing_biomes_political_level_2_poli4[2001],"<>")=0,"",SUMIFS(mapbiomas_peru_collection_4_deforestation_crossing_biomes_political_level_2_poli4[2001],mapbiomas_peru_collection_4_deforestation_crossing_biomes_political_level_2_poli4[territor_level_2_1],A49)) -> 6940800
A50: Andes | B50: 2002 | C50: =IF(COUNTIFS(mapbiomas_peru_collection_4_deforestation_crossing_biomes_political_level_2_poli4[territor_level_2_1],A50,mapbiomas_peru_collection_4_deforestation_crossing_biomes_political_level_2_poli4[2002],"<>")=0,"",SUMIFS(mapbiomas_peru_collection_4_deforestation_crossing_biomes_political_level_2_poli4[2002],mapbiomas_peru_collection_4_deforestation_crossing_biomes_political_level_2_poli4[territor_level_2_1],A50)) -> 5516000
A51: Andes | B51: 2003 | C51: =IF(COUNTIFS(mapbiomas_peru_collection_4_deforestation_crossing_biomes_political_level_2_poli4[territor_level_2_1],A51,mapbiomas_peru_collection_4_deforestation_crossing_biomes_political_level_2_poli4[2003],"<>")=0,"",SUMIFS(mapbiomas_peru_collection_4_deforestation_crossing_biomes_political_level_2_poli4[2003],mapbiomas_peru_collection_4_deforestation_crossing_biomes_political_level_2_poli4[territor_level_2_1],A51)) -> 7403400
A52: Andes | B52: 2004 | C52: =IF(COUNTIFS(mapbiomas_peru_collection_4_deforestation_crossing_biomes_political_level_2_poli4[territor_level_2_1],A52,mapbiomas_peru_collection_4_deforestation_crossing_biomes_political_level_2_poli4[2004],"<>")=0,"",SUMIFS(mapbiomas_peru_collection_4_deforestation_crossing_biomes_political_level_2_poli4[2004],mapbiomas_peru_collection_4_deforestation_crossing_biomes_political_level_2_poli4[territor_level_2_1],A52)) -> 6643000
A53: Andes | B53: 2005 | C53: =IF(COUNTIFS(mapbiomas_peru_collection_4_deforestation_crossing_biomes_political_level_2_poli4[territor_level_2_1],A53,mapbiomas_peru_collection_4_deforestation_crossing_biomes_political_level_2_poli4[2005],"<>")=0,"",SUMIFS(mapbiomas_peru_collection_4_deforestation_crossing_biomes_political_level_2_poli4[2005],mapbiomas_peru_collection_4_deforestation_crossing_biomes_political_level_2_poli4[territor_level_2_1],A53)) -> 4708400
A54: Andes | B54: 2006 | C54: =IF(COUNTIFS(mapbiomas_peru_collection_4_deforestation_crossing_biomes_political_level_2_poli4[territor_level_2_1],A54,mapbiomas_peru_collection_4_deforestation_crossing_biomes_political_level_2_poli4[2006],"<>")=0,"",SUMIFS(mapbiomas_peru_collection_4_deforestation_crossing_biomes_political_level_2_poli4[2006],mapbiomas_peru_collection_4_deforestation_crossing_biomes_political_level_2_poli4[territor_level_2_1],A54)) -> 7982900
A55: Andes | B55: 2007 | C55: =IF(COUNTIFS(mapbiomas_peru_collection_4_deforestation_crossing_biomes_political_level_2_poli4[territor_level_2_1],A55,mapbiomas_peru_collection_4_deforestation_crossing_biomes_political_level_2_poli4[2007],"<>")=0,"",SUMIFS(mapbiomas_peru_collection_4_deforestation_crossing_biomes_political_level_2_poli4[2007],mapbiomas_peru_collection_4_deforestation_crossing_biomes_political_level_2_poli4[territor_level_2_1],A55)) -> 5267300
A56: Andes | B56: 2008 | C56: =IF(COUNTIFS(mapbiomas_peru_collection_4_deforestation_crossing_biomes_political_level_2_poli4[territor_level_2_1],A56,mapbiomas_peru_collection_4_deforestation_crossing_biomes_political_level_2_poli4[2008],"<>")=0,"",SUMIFS(mapbiomas_peru_collection_4_deforestation_crossing_biomes_political_level_2_poli4[2008],mapbiomas_peru_collection_4_deforestation_crossing_biomes_political_level_2_poli4[territor_level_2_1],A56)) -> 5236800
A57: Andes | B57: 2009 | C57: =IF(COUNTIFS(mapbiomas_peru_collection_4_deforestation_crossing_biomes_political_level_2_poli4[territor_level_2_1],A57,mapbiomas_peru_collection_4_deforestation_crossing_biomes_political_level_2_poli4[2009],"<>")=0,"",SUMIFS(mapbiomas_peru_collection_4_deforestation_crossing_biomes_political_level_2_poli4[2009],mapbiomas_peru_collection_4_deforestation_crossing_biomes_political_level_2_poli4[territor_level_2_1],A57)) -> 5769800
A58: Andes | B58: 2010 | C58: =IF(COUNTIFS(mapbiomas_peru_collection_4_deforestation_crossing_biomes_political_level_2_poli4[territor_level_2_1],A58,mapbiomas_peru_collection_4_deforestation_crossing_biomes_political_level_2_poli4[2010],"<>")=0,"",SUMIFS(mapbiomas_peru_collection_4_deforestation_crossing_biomes_political_level_2_poli4[2010],mapbiomas_peru_collection_4_deforestation_crossing_biomes_political_level_2_poli4[territor_level_2_1],A58)) -> 7022100
A59: Andes | B59: 2011 | C59: =IF(COUNTIFS(mapbiomas_peru_collection_4_deforestation_crossing_biomes_political_level_2_poli4[territor_level_2_1],A59,mapbiomas_peru_collection_4_deforestation_crossing_biomes_political_level_2_poli4[2011],"<>")=0,"",SUMIFS(mapbiomas_peru_collection_4_deforestation_crossing_biomes_political_level_2_poli4[2011],mapbiomas_peru_collection_4_deforestation_crossing_biomes_political_level_2_poli4[territor_level_2_1],A59)) -> 6377600
A60: Andes | B60: 2012 | C60: =IF(COUNTIFS(mapbiomas_peru_collection_4_deforestation_crossing_biomes_political_level_2_poli4[territor_level_2_1],A60,mapbiomas_peru_collection_4_deforestation_crossing_biomes_political_level_2_poli4[2012],"<>")=0,"",SUMIFS(mapbiomas_peru_collection_4_deforestation_crossing_biomes_political_level_2_poli4[2012],mapbiomas_peru_collection_4_deforestation_crossing_biomes_political_level_2_poli4[territor_level_2_1],A60)) -> 5667200
A61: Andes | B61: 2013 | C61: =IF(COUNTIFS(mapbiomas_peru_collection_4_deforestation_crossing_biomes_political_level_2_poli4[territor_level_2_1],A61,mapbiomas_peru_collection_4_deforestation_crossing_biomes_political_level_2_poli4[2013],"<>")=0,"",SUMIFS(mapbiomas_peru_collection_4_deforestation_crossing_biomes_political_level_2_poli4[2013],mapbiomas_peru_collection_4_deforestation_crossing_biomes_political_level_2_poli4[territor_level_2_1],A61)) -> 7229800
A62: Andes | B62: 2014 | C62: =IF(COUNTIFS(mapbiomas_peru_collection_4_deforestation_crossing_biomes_political_level_2_poli4[territor_level_2_1],A62,mapbiomas_peru_collection_4_deforestation_crossing_biomes_political_level_2_poli4[2014],"<>")=0,"",SUMIFS(mapbiomas_peru_collection_4_deforestation_crossing_biomes_political_level_2_poli4[2014],mapbiomas_peru_collection_4_deforestation_crossing_biomes_political_level_2_poli4[territor_level_2_1],A62)) -> 5807500
A63: Andes | B63: 2015 | C63: =IF(COUNTIFS(mapbiomas_peru_collection_4_deforestation_crossing_biomes_political_level_2_poli4[territor_level_2_1],A63,mapbiomas_peru_collection_4_deforestation_crossing_biomes_political_level_2_poli4[2015],"<>")=0,"",SUMIFS(mapbiomas_peru_collection_4_deforestation_crossing_biomes_political_level_2_poli4[2015],mapbiomas_peru_collection_4_deforestation_crossing_biomes_political_level_2_poli4[territor_level_2_1],A63)) -> 7551400
A64: Andes | B64: 2016 | C64: =IF(COUNTIFS(mapbiomas_peru_collection_4_deforestation_crossing_biomes_political_level_2_poli4[territor_level_2_1],A64,mapbiomas_peru_collection_4_deforestation_crossing_biomes_political_level_2_poli4[2016],"<>")=0,"",SUMIFS(mapbiomas_peru_collection_4_deforestation_crossing_biomes_political_level_2_poli4[2016],mapbiomas_peru_collection_4_deforestation_crossing_biomes_political_level_2_poli4[territor_level_2_1],A64)) -> 5051300
A65: Andes | B65: 2017 | C65: =IF(COUNTIFS(mapbiomas_peru_collection_4_deforestation_crossing_biomes_political_level_2_poli4[territor_level_2_1],A65,mapbiomas_peru_collection_4_deforestation_crossing_biomes_political_level_2_poli4[2017],"<>")=0,"",SUMIFS(mapbiomas_peru_collection_4_deforestation_crossing_biomes_political_level_2_poli4[2017],mapbiomas_peru_collection_4_deforestation_crossing_biomes_political_level_2_poli4[territor_level_2_1],A65)) -> 6439200
A66: Andes | B66: 2018 | C66: =IF(COUNTIFS(mapbiomas_peru_collection_4_deforestation_crossing_biomes_political_level_2_poli4[territor_level_2_1],A66,mapbiomas_peru_collection_4_deforestation_crossing_biomes_political_level_2_poli4[2018],"<>")=0,"",SUMIFS(mapbiomas_peru_collection_4_deforestation_crossing_biomes_political_level_2_poli4[2018],mapbiomas_peru_collection_4_deforestation_crossing_biomes_political_level_2_poli4[territor_level_2_1],A66)) -> 5475100
A67: Andes | B67: 2019 | C67: =IF(COUNTIFS(mapbiomas_peru_collection_4_deforestation_crossing_biomes_political_level_2_poli4[territor_level_2_1],A67,mapbiomas_peru_collection_4_deforestation_crossing_biomes_political_level_2_poli4[2019],"<>")=0,"",SUMIFS(mapbiomas_peru_collection_4_deforestation_crossing_biomes_political_level_2_poli4[2019],mapbiomas_peru_collection_4_deforestation_crossing_biomes_political_level_2_poli4[territor_level_2_1],A67)) -> 4771400
A68: Andes | B68: 2020 | C68: =IF(COUNTIFS(mapbiomas_peru_collection_4_deforestation_crossing_biomes_political_level_2_poli4[territor_level_2_1],A68,mapbiomas_peru_collection_4_deforestation_crossing_biomes_political_level_2_poli4[2020],"<>")=0,"",SUMIFS(mapbiomas_peru_collection_4_deforestation_crossing_biomes_political_level_2_poli4[2020],mapbiomas_peru_collection_4_deforestation_crossing_biomes_political_level_2_poli4[territor_level_2_1],A68)) -> 5394700
A69: Andes | B69: 2021 | C69: =IF(COUNTIFS(mapbiomas_peru_collection_4_deforestation_crossing_biomes_political_level_2_poli4[territor_level_2_1],A69,mapbiomas_peru_collection_4_deforestation_crossing_biomes_political_level_2_poli4[2021],"<>")=0,"",SUMIFS(mapbiomas_peru_collection_4_deforestation_crossing_biomes_political_level_2_poli4[2021],mapbiomas_peru_collection_4_deforestation_crossing_biomes_political_level_2_poli4[territor_level_2_1],A69)) -> 6586800
A70: Andes | B70: 2022 | C70: =IF(COUNTIFS(mapbiomas_peru_collection_4_deforestation_crossing_biomes_political_level_2_poli4[territor_level_2_1],A70,mapbiomas_peru_collection_4_deforestation_crossing_biomes_political_level_2_poli4[2022],"<>")=0,"",SUMIFS(mapbiomas_peru_collection_4_deforestation_crossing_biomes_political_level_2_poli4[2022],mapbiomas_peru_collection_4_deforestation_crossing_biomes_political_level_2_poli4[territor_level_2_1],A70)) -> 5831700
A71: Andes | B71: 2023 | C71: =IF(COUNTIFS(mapbiomas_peru_collection_4_deforestation_crossing_biomes_political_level_2_poli4[territor_level_2_1],A71,mapbiomas_peru_collection_4_deforestation_crossing_biomes_political_level_2_poli4[2023],"<>")=0,"",SUMIFS(mapbiomas_peru_collection_4_deforestation_crossing_biomes_political_level_2_poli4[2023],mapbiomas_peru_collection_4_deforestation_crossing_biomes_political_level_2_poli4[territor_level_2_1],A71)) -> 4681700
A72: Andes | B72: 2024 | C72: =IF(COUNTIFS(mapbiomas_peru_collection_4_deforestation_crossing_biomes_political_level_2_poli4[territor_level_2_1],A72,mapbiomas_peru_collection_4_deforestation_crossing_biomes_political_level_2_poli4[2024],"<>")=0,"",SUMIFS(mapbiomas_peru_collection_4_deforestation_crossing_biomes_political_level_2_poli4[2024],mapbiomas_peru_collection_4_deforestation_crossing_biomes_political_level_2_poli4[territor_level_2_1],A72)) -> 6554600
A73: Andes | B73: 2025 | C73: =IF(COUNTIFS(mapbiomas_peru_collection_4_deforestation_crossing_biomes_political_level_2_poli4[territor_level_2_1],A73,mapbiomas_peru_collection_4_deforestation_crossing_biomes_political_level_2_poli4[2025],"<>")=0,"",SUMIFS(mapbiomas_peru_collection_4_deforestation_crossing_biomes_political_level_2_poli4[2025],mapbiomas_peru_collection_4_deforestation_crossing_biomes_political_level_2_poli4[territor_level_2_1],A73)) -> 2480200
A74: Desierto costero | B74: 1990 | C74: =IF(COUNTIFS(mapbiomas_peru_collection_4_deforestation_crossing_biomes_political_level_2_poli4[territor_level_2_1],A74,mapbiomas_peru_collection_4_deforestation_crossing_biomes_political_level_2_poli4[1990],"<>")=0,"",SUMIFS(mapbiomas_peru_collection_4_deforestation_crossing_biomes_political_level_2_poli4[1990],mapbiomas_peru_collection_4_deforestation_crossing_biomes_political_level_2_poli4[territor_level_2_1],A74)) -> 201472.3
A75: Desierto costero | B75: 1991 | C75: =IF(COUNTIFS(mapbiomas_peru_collection_4_deforestation_crossing_biomes_political_level_2_poli4[territor_level_2_1],A75,mapbiomas_peru_collection_4_deforestation_crossing_biomes_political_level_2_poli4[1991],"<>")=0,"",SUMIFS(mapbiomas_peru_collection_4_deforestation_crossing_biomes_political_level_2_poli4[1991],mapbiomas_peru_collection_4_deforestation_crossing_biomes_political_level_2_poli4[territor_level_2_1],A75)) -> 424800
A76: Desierto costero | B76: 1992 | C76: =IF(COUNTIFS(mapbiomas_peru_collection_4_deforestation_crossing_biomes_political_level_2_poli4[territor_level_2_1],A76,mapbiomas_peru_collection_4_deforestation_crossing_biomes_political_level_2_poli4[1992],"<>")=0,"",SUMIFS(mapbiomas_peru_collection_4_deforestation_crossing_biomes_political_level_2_poli4[1992],mapbiomas_peru_collection_4_deforestation_crossing_biomes_political_level_2_poli4[territor_level_2_1],A76)) -> 31730.6
A77: Desierto costero | B77: 1993 | C77: =IF(COUNTIFS(mapbiomas_peru_collection_4_deforestation_crossing_biomes_political_level_2_poli4[territor_level_2_1],A77,mapbiomas_peru_collection_4_deforestation_crossing_biomes_political_level_2_poli4[1993],"<>")=0,"",SUMIFS(mapbiomas_peru_collection_4_deforestation_crossing_biomes_political_level_2_poli4[1993],mapbiomas_peru_collection_4_deforestation_crossing_biomes_political_level_2_poli4[territor_level_2_1],A77)) -> 19536.7
A78: Desierto costero | B78: 1994 | C78: =IF(COUNTIFS(mapbiomas_peru_collection_4_deforestation_crossing_biomes_political_level_2_poli4[territor_level_2_1],A78,mapbiomas_peru_collection_4_deforestation_crossing_biomes_political_level_2_poli4[1994],"<>")=0,"",SUMIFS(mapbiomas_peru_collection_4_deforestation_crossing_biomes_political_level_2_poli4[1994],mapbiomas_peru_collection_4_deforestation_crossing_biomes_political_level_2_poli4[territor_level_2_1],A78)) -> 15664.5
A79: Desierto costero | B79: 1995 | C79: =IF(COUNTIFS(mapbiomas_peru_collection_4_deforestation_crossing_biomes_political_level_2_poli4[territor_level_2_1],A79,mapbiomas_peru_collection_4_deforestation_crossing_biomes_political_level_2_poli4[1995],"<>")=0,"",SUMIFS(mapbiomas_peru_collection_4_deforestation_crossing_biomes_political_level_2_poli4[1995],mapbiomas_peru_collection_4_deforestation_crossing_biomes_political_level_2_poli4[territor_level_2_1],A79)) -> 16794.6
A80: Desierto costero | B80: 1996 | C80: =IF(COUNTIFS(mapbiomas_peru_collection_4_deforestation_crossing_biomes_political_level_2_poli4[territor_level_2_1],A80,mapbiomas_peru_collection_4_deforestation_crossing_biomes_political_level_2_poli4[1996],"<>")=0,"",SUMIFS(mapbiomas_peru_collection_4_deforestation_crossing_biomes_political_level_2_poli4[1996],mapbiomas_peru_collection_4_deforestation_crossing_biomes_political_level_2_poli4[territor_level_2_1],A80)) -> 664910
A81: Desierto costero | B81: 1997 | C81: =IF(COUNTIFS(mapbiomas_peru_collection_4_deforestation_crossing_biomes_political_level_2_poli4[territor_level_2_1],A81,mapbiomas_peru_collection_4_deforestation_crossing_biomes_political_level_2_poli4[1997],"<>")=0,"",SUMIFS(mapbiomas_peru_collection_4_deforestation_crossing_biomes_political_level_2_poli4[1997],mapbiomas_peru_collection_4_deforestation_crossing_biomes_political_level_2_poli4[territor_level_2_1],A81)) -> 95079
A82: Desierto costero | B82: 1998 | C82: =IF(COUNTIFS(mapbiomas_peru_collection_4_deforestation_crossing_biomes_political_level_2_poli4[territor_level_2_1],A82,mapbiomas_peru_collection_4_deforestation_crossing_biomes_political_level_2_poli4[1998],"<>")=0,"",SUMIFS(mapbiomas_peru_collection_4_deforestation_crossing_biomes_political_level_2_poli4[1998],mapbiomas_peru_collection_4_deforestation_crossing_biomes_political_level_2_poli4[territor_level_2_1],A82)) -> 241962
A83: Desierto costero | B83: 1999 | C83: =IF(COUNTIFS(mapbiomas_peru_collection_4_deforestation_crossing_biomes_political_level_2_poli4[territor_level_2_1],A83,mapbiomas_peru_collection_4_deforestation_crossing_biomes_political_level_2_poli4[1999],"<>")=0,"",SUMIFS(mapbiomas_peru_collection_4_deforestation_crossing_biomes_political_level_2_poli4[1999],mapbiomas_peru_collection_4_deforestation_crossing_biomes_political_level_2_poli4[territor_level_2_1],A83)) -> 98375
A84: Desierto costero | B84: 2000 | C84: =IF(COUNTIFS(mapbiomas_peru_collection_4_deforestation_crossing_biomes_political_level_2_poli4[territor_level_2_1],A84,mapbiomas_peru_collection_4_deforestation_crossing_biomes_political_level_2_poli4[2000],"<>")=0,"",SUMIFS(mapbiomas_peru_collection_4_deforestation_crossing_biomes_political_level_2_poli4[2000],mapbiomas_peru_collection_4_deforestation_crossing_biomes_political_level_2_poli4[territor_level_2_1],A84)) -> 89330
A85: Desierto costero | B85: 2001 | C85: =IF(COUNTIFS(mapbiomas_peru_collection_4_deforestation_crossing_biomes_political_level_2_poli4[territor_level_2_1],A85,mapbiomas_peru_collection_4_deforestation_crossing_biomes_political_level_2_poli4[2001],"<>")=0,"",SUMIFS(mapbiomas_peru_collection_4_deforestation_crossing_biomes_political_level_2_poli4[2001],mapbiomas_peru_collection_4_deforestation_crossing_biomes_political_level_2_poli4[territor_level_2_1],A85)) -> 115165
A86: Desierto costero | B86: 2002 | C86: =IF(COUNTIFS(mapbiomas_peru_collection_4_deforestation_crossing_biomes_political_level_2_poli4[territor_level_2_1],A86,mapbiomas_peru_collection_4_deforestation_crossing_biomes_political_level_2_poli4[2002],"<>")=0,"",SUMIFS(mapbiomas_peru_collection_4_deforestation_crossing_biomes_political_level_2_poli4[2002],mapbiomas_peru_collection_4_deforestation_crossing_biomes_political_level_2_poli4[territor_level_2_1],A86)) -> 114732
A87: Desierto costero | B87: 2003 | C87: =IF(COUNTIFS(mapbiomas_peru_collection_4_deforestation_crossing_biomes_political_level_2_poli4[territor_level_2_1],A87,mapbiomas_peru_collection_4_deforestation_crossing_biomes_political_level_2_poli4[2003],"<>")=0,"",SUMIFS(mapbiomas_peru_collection_4_deforestation_crossing_biomes_political_level_2_poli4[2003],mapbiomas_peru_collection_4_deforestation_crossing_biomes_political_level_2_poli4[territor_level_2_1],A87)) -> 191344
A88: Desierto costero | B88: 2004 | C88: =IF(COUNTIFS(mapbiomas_peru_collection_4_deforestation_crossing_biomes_political_level_2_poli4[territor_level_2_1],A88,mapbiomas_peru_collection_4_deforestation_crossing_biomes_political_level_2_poli4[2004],"<>")=0,"",SUMIFS(mapbiomas_peru_collection_4_deforestation_crossing_biomes_political_level_2_poli4[2004],mapbiomas_peru_collection_4_deforestation_crossing_biomes_political_level_2_poli4[territor_level_2_1],A88)) -> 217002
A89: Desierto costero | B89: 2005 | C89: =IF(COUNTIFS(mapbiomas_peru_collection_4_deforestation_crossing_biomes_political_level_2_poli4[territor_level_2_1],A89,mapbiomas_peru_collection_4_deforestation_crossing_biomes_political_level_2_poli4[2005],"<>")=0,"",SUMIFS(mapbiomas_peru_collection_4_deforestation_crossing_biomes_political_level_2_poli4[2005],mapbiomas_peru_collection_4_deforestation_crossing_biomes_political_level_2_poli4[territor_level_2_1],A89)) -> 124047
A90: Desierto costero | B90: 2006 | C90: =IF(COUNTIFS(mapbiomas_peru_collection_4_deforestation_crossing_biomes_political_level_2_poli4[territor_level_2_1],A90,mapbiomas_peru_collection_4_deforestation_crossing_biomes_political_level_2_poli4[2006],"<>")=0,"",SUMIFS(mapbiomas_peru_collection_4_deforestation_crossing_biomes_political_level_2_poli4[2006],mapbiomas_peru_collection_4_deforestation_crossing_biomes_political_level_2_poli4[territor_level_2_1],A90)) -> 147601
A91: Desierto costero | B91: 2007 | C91: =IF(COUNTIFS(mapbiomas_peru_collection_4_deforestation_crossing_biomes_political_level_2_poli4[territor_level_2_1],A91,mapbiomas_peru_collection_4_deforestation_crossing_biomes_political_level_2_poli4[2007],"<>")=0,"",SUMIFS(mapbiomas_peru_collection_4_deforestation_crossing_biomes_political_level_2_poli4[2007],mapbiomas_peru_collection_4_deforestation_crossing_biomes_political_level_2_poli4[territor_level_2_1],A91)) -> 146090
A92: Desierto costero | B92: 2008 | C92: =IF(COUNTIFS(mapbiomas_peru_collection_4_deforestation_crossing_biomes_political_level_2_poli4[territor_level_2_1],A92,mapbiomas_peru_collection_4_deforestation_crossing_biomes_political_level_2_poli4[2008],"<>")=0,"",SUMIFS(mapbiomas_peru_collection_4_deforestation_crossing_biomes_political_level_2_poli4[2008],mapbiomas_peru_collection_4_deforestation_crossing_biomes_political_level_2_poli4[territor_level_2_1],A92)) -> 155140
A93: Desierto costero | B93: 2009 | C93: =IF(COUNTIFS(mapbiomas_peru_collection_4_deforestation_crossing_biomes_political_level_2_poli4[territor_level_2_1],A93,mapbiomas_peru_collection_4_deforestation_crossing_biomes_political_level_2_poli4[2009],"<>")=0,"",SUMIFS(mapbiomas_peru_collection_4_deforestation_crossing_biomes_political_level_2_poli4[2009],mapbiomas_peru_collection_4_deforestation_crossing_biomes_political_level_2_poli4[territor_level_2_1],A93)) -> 142161
A94: Desierto costero | B94: 2010 | C94: =IF(COUNTIFS(mapbiomas_peru_collection_4_deforestation_crossing_biomes_political_level_2_poli4[territor_level_2_1],A94,mapbiomas_peru_collection_4_deforestation_crossing_biomes_political_level_2_poli4[2010],"<>")=0,"",SUMIFS(mapbiomas_peru_collection_4_deforestation_crossing_biomes_political_level_2_poli4[2010],mapbiomas_peru_collection_4_deforestation_crossing_biomes_political_level_2_poli4[territor_level_2_1],A94)) -> 162014
A95: Desierto costero | B95: 2011 | C95: =IF(COUNTIFS(mapbiomas_peru_collection_4_deforestation_crossing_biomes_political_level_2_poli4[territor_level_2_1],A95,mapbiomas_peru_collection_4_deforestation_crossing_biomes_political_level_2_poli4[2011],"<>")=0,"",SUMIFS(mapbiomas_peru_collection_4_deforestation_crossing_biomes_political_level_2_poli4[2011],mapbiomas_peru_collection_4_deforestation_crossing_biomes_political_level_2_poli4[territor_level_2_1],A95)) -> 156563
A96: Desierto costero | B96: 2012 | C96: =IF(COUNTIFS(mapbiomas_peru_collection_4_deforestation_crossing_biomes_political_level_2_poli4[territor_level_2_1],A96,mapbiomas_peru_collection_4_deforestation_crossing_biomes_political_level_2_poli4[2012],"<>")=0,"",SUMIFS(mapbiomas_peru_collection_4_deforestation_crossing_biomes_political_level_2_poli4[2012],mapbiomas_peru_collection_4_deforestation_crossing_biomes_political_level_2_poli4[territor_level_2_1],A96)) -> 154253
A97: Desierto costero | B97: 2013 | C97: =IF(COUNTIFS(mapbiomas_peru_collection_4_deforestation_crossing_biomes_political_level_2_poli4[territor_level_2_1],A97,mapbiomas_peru_collection_4_deforestation_crossing_biomes_political_level_2_poli4[2013],"<>")=0,"",SUMIFS(mapbiomas_peru_collection_4_deforestation_crossing_biomes_political_level_2_poli4[2013],mapbiomas_peru_collection_4_deforestation_crossing_biomes_political_level_2_poli4[territor_level_2_1],A97)) -> 252600
A98: Desierto costero | B98: 2014 | C98: =IF(COUNTIFS(mapbiomas_peru_collection_4_deforestation_crossing_biomes_political_level_2_poli4[territor_level_2_1],A98,mapbiomas_peru_collection_4_deforestation_crossing_biomes_political_level_2_poli4[2014],"<>")=0,"",SUMIFS(mapbiomas_peru_collection_4_deforestation_crossing_biomes_political_level_2_poli4[2014],mapbiomas_peru_collection_4_deforestation_crossing_biomes_political_level_2_poli4[territor_level_2_1],A98)) -> 96011
A99: Desierto costero | B99: 2015 | C99: =IF(COUNTIFS(mapbiomas_peru_collection_4_deforestation_crossing_biomes_political_level_2_poli4[territor_level_2_1],A99,mapbiomas_peru_collection_4_deforestation_crossing_biomes_political_level_2_poli4[2015],"<>")=0,"",SUMIFS(mapbiomas_peru_collection_4_deforestation_crossing_biomes_political_level_2_poli4[2015],mapbiomas_peru_collection_4_deforestation_crossing_biomes_political_level_2_poli4[territor_level_2_1],A99)) -> 108194
A100: Desierto costero | B100: 2016 | C100: =IF(COUNTIFS(mapbiomas_peru_collection_4_deforestation_crossing_biomes_political_level_2_poli4[territor_level_2_1],A100,mapbiomas_peru_collection_4_deforestation_crossing_biomes_political_level_2_poli4[2016],"<>")=0,"",SUMIFS(mapbiomas_peru_collection_4_deforestation_crossing_biomes_political_level_2_poli4[2016],mapbiomas_peru_collection_4_deforestation_crossing_biomes_political_level_2_poli4[territor_level_2_1],A100)) -> 197033
...

Sheet AUX_GRAFICAS_ANUALES
A1: Bioma | B1: Transicion | C1: Anio | D1: Area_ha
A2: =LOSS_VEGETATION!$B$2 -> Andes | B2: =LOSS_VEGETATION!$AB$2 -> Pérdida de vegetación primaria | C2: 1990 | D2: =IF(LOSS_VEGETATION!$AC$2="","",LOSS_VEGETATION!$AC$2) -> 9243837
A3: =LOSS_VEGETATION!$B$2 -> Andes | B3: =LOSS_VEGETATION!$AB$2 -> Pérdida de vegetación primaria | C3: 1991 | D3: =IF(LOSS_VEGETATION!$AD$2="","",LOSS_VEGETATION!$AD$2) -> 4954300
A4: =LOSS_VEGETATION!$B$2 -> Andes | B4: =LOSS_VEGETATION!$AB$2 -> Pérdida de vegetación primaria | C4: 1992 | D4: =IF(LOSS_VEGETATION!$AE$2="","",LOSS_VEGETATION!$AE$2) -> 4430400
A5: =LOSS_VEGETATION!$B$2 -> Andes | B5: =LOSS_VEGETATION!$AB$2 -> Pérdida de vegetación primaria | C5: 1993 | D5: =IF(LOSS_VEGETATION!$AF$2="","",LOSS_VEGETATION!$AF$2) -> 6295400
A6: =LOSS_VEGETATION!$B$2 -> Andes | B6: =LOSS_VEGETATION!$AB$2 -> Pérdida de vegetación primaria | C6: 1994 | D6: =IF(LOSS_VEGETATION!$AG$2="","",LOSS_VEGETATION!$AG$2) -> 4097600
A7: =LOSS_VEGETATION!$B$2 -> Andes | B7: =LOSS_VEGETATION!$AB$2 -> Pérdida de vegetación primaria | C7: 1995 | D7: =IF(LOSS_VEGETATION!$AH$2="","",LOSS_VEGETATION!$AH$2) -> 3780100
A8: =LOSS_VEGETATION!$B$2 -> Andes | B8: =LOSS_VEGETATION!$AB$2 -> Pérdida de vegetación primaria | C8: 1996 | D8: =IF(LOSS_VEGETATION!$AI$2="","",LOSS_VEGETATION!$AI$2) -> 4672700
A9: =LOSS_VEGETATION!$B$2 -> Andes | B9: =LOSS_VEGETATION!$AB$2 -> Pérdida de vegetación primaria | C9: 1997 | D9: =IF(LOSS_VEGETATION!$AJ$2="","",LOSS_VEGETATION!$AJ$2) -> 2956600
A10: =LOSS_VEGETATION!$B$2 -> Andes | B10: =LOSS_VEGETATION!$AB$2 -> Pérdida de vegetación primaria | C10: 1998 | D10: =IF(LOSS_VEGETATION!$AK$2="","",LOSS_VEGETATION!$AK$2) -> 3258500
A11: =LOSS_VEGETATION!$B$2 -> Andes | B11: =LOSS_VEGETATION!$AB$2 -> Pérdida de vegetación primaria | C11: 1999 | D11: =IF(LOSS_VEGETATION!$AL$2="","",LOSS_VEGETATION!$AL$2) -> 3182400
A12: =LOSS_VEGETATION!$B$2 -> Andes | B12: =LOSS_VEGETATION!$AB$2 -> Pérdida de vegetación primaria | C12: 2000 | D12: =IF(LOSS_VEGETATION!$AM$2="","",LOSS_VEGETATION!$AM$2) -> 2857900
A13: =LOSS_VEGETATION!$B$2 -> Andes | B13: =LOSS_VEGETATION!$AB$2 -> Pérdida de vegetación primaria | C13: 2001 | D13: =IF(LOSS_VEGETATION!$AN$2="","",LOSS_VEGETATION!$AN$2) -> 2932000
A14: =LOSS_VEGETATION!$B$2 -> Andes | B14: =LOSS_VEGETATION!$AB$2 -> Pérdida de vegetación primaria | C14: 2002 | D14: =IF(LOSS_VEGETATION!$AO$2="","",LOSS_VEGETATION!$AO$2) -> 2355500
A15: =LOSS_VEGETATION!$B$2 -> Andes | B15: =LOSS_VEGETATION!$AB$2 -> Pérdida de vegetación primaria | C15: 2003 | D15: =IF(LOSS_VEGETATION!$AP$2="","",LOSS_VEGETATION!$AP$2) -> 2837700
A16: =LOSS_VEGETATION!$B$2 -> Andes | B16: =LOSS_VEGETATION!$AB$2 -> Pérdida de vegetación primaria | C16: 2004 | D16: =IF(LOSS_VEGETATION!$AQ$2="","",LOSS_VEGETATION!$AQ$2) -> 2579000
A17: =LOSS_VEGETATION!$B$2 -> Andes | B17: =LOSS_VEGETATION!$AB$2 -> Pérdida de vegetación primaria | C17: 2005 | D17: =IF(LOSS_VEGETATION!$AR$2="","",LOSS_VEGETATION!$AR$2) -> 1649300
A18: =LOSS_VEGETATION!$B$2 -> Andes | B18: =LOSS_VEGETATION!$AB$2 -> Pérdida de vegetación primaria | C18: 2006 | D18: =IF(LOSS_VEGETATION!$AS$2="","",LOSS_VEGETATION!$AS$2) -> 2292300
A19: =LOSS_VEGETATION!$B$2 -> Andes | B19: =LOSS_VEGETATION!$AB$2 -> Pérdida de vegetación primaria | C19: 2007 | D19: =IF(LOSS_VEGETATION!$AT$2="","",LOSS_VEGETATION!$AT$2) -> 1717400
A20: =LOSS_VEGETATION!$B$2 -> Andes | B20: =LOSS_VEGETATION!$AB$2 -> Pérdida de vegetación primaria | C20: 2008 | D20: =IF(LOSS_VEGETATION!$AU$2="","",LOSS_VEGETATION!$AU$2) -> 1559700
A21: =LOSS_VEGETATION!$B$2 -> Andes | B21: =LOSS_VEGETATION!$AB$2 -> Pérdida de vegetación primaria | C21: 2009 | D21: =IF(LOSS_VEGETATION!$AV$2="","",LOSS_VEGETATION!$AV$2) -> 1894000
A22: =LOSS_VEGETATION!$B$2 -> Andes | B22: =LOSS_VEGETATION!$AB$2 -> Pérdida de vegetación primaria | C22: 2010 | D22: =IF(LOSS_VEGETATION!$AW$2="","",LOSS_VEGETATION!$AW$2) -> 2209900
A23: =LOSS_VEGETATION!$B$2 -> Andes | B23: =LOSS_VEGETATION!$AB$2 -> Pérdida de vegetación primaria | C23: 2011 | D23: =IF(LOSS_VEGETATION!$AX$2="","",LOSS_VEGETATION!$AX$2) -> 2031700
A24: =LOSS_VEGETATION!$B$2 -> Andes | B24: =LOSS_VEGETATION!$AB$2 -> Pérdida de vegetación primaria | C24: 2012 | D24: =IF(LOSS_VEGETATION!$AY$2="","",LOSS_VEGETATION!$AY$2) -> 1670500
A25: =LOSS_VEGETATION!$B$2 -> Andes | B25: =LOSS_VEGETATION!$AB$2 -> Pérdida de vegetación primaria | C25: 2013 | D25: =IF(LOSS_VEGETATION!$AZ$2="","",LOSS_VEGETATION!$AZ$2) -> 2444300
A26: =LOSS_VEGETATION!$B$2 -> Andes | B26: =LOSS_VEGETATION!$AB$2 -> Pérdida de vegetación primaria | C26: 2014 | D26: =IF(LOSS_VEGETATION!$BA$2="","",LOSS_VEGETATION!$BA$2) -> 1767100
A27: =LOSS_VEGETATION!$B$2 -> Andes | B27: =LOSS_VEGETATION!$AB$2 -> Pérdida de vegetación primaria | C27: 2015 | D27: =IF(LOSS_VEGETATION!$BB$2="","",LOSS_VEGETATION!$BB$2) -> 2201200
A28: =LOSS_VEGETATION!$B$2 -> Andes | B28: =LOSS_VEGETATION!$AB$2 -> Pérdida de vegetación primaria | C28: 2016 | D28: =IF(LOSS_VEGETATION!$BC$2="","",LOSS_VEGETATION!$BC$2) -> 1557200
A29: =LOSS_VEGETATION!$B$2 -> Andes | B29: =LOSS_VEGETATION!$AB$2 -> Pérdida de vegetación primaria | C29: 2017 | D29: =IF(LOSS_VEGETATION!$BD$2="","",LOSS_VEGETATION!$BD$2) -> 1983800
A30: =LOSS_VEGETATION!$B$2 -> Andes | B30: =LOSS_VEGETATION!$AB$2 -> Pérdida de vegetación primaria | C30: 2018 | D30: =IF(LOSS_VEGETATION!$BE$2="","",LOSS_VEGETATION!$BE$2) -> 1433500
A31: =LOSS_VEGETATION!$B$2 -> Andes | B31: =LOSS_VEGETATION!$AB$2 -> Pérdida de vegetación primaria | C31: 2019 | D31: =IF(LOSS_VEGETATION!$BF$2="","",LOSS_VEGETATION!$BF$2) -> 1527800
A32: =LOSS_VEGETATION!$B$2 -> Andes | B32: =LOSS_VEGETATION!$AB$2 -> Pérdida de vegetación primaria | C32: 2020 | D32: =IF(LOSS_VEGETATION!$BG$2="","",LOSS_VEGETATION!$BG$2) -> 1683200
A33: =LOSS_VEGETATION!$B$2 -> Andes | B33: =LOSS_VEGETATION!$AB$2 -> Pérdida de vegetación primaria | C33: 2021 | D33: =IF(LOSS_VEGETATION!$BH$2="","",LOSS_VEGETATION!$BH$2) -> 1910800
A34: =LOSS_VEGETATION!$B$2 -> Andes | B34: =LOSS_VEGETATION!$AB$2 -> Pérdida de vegetación primaria | C34: 2022 | D34: =IF(LOSS_VEGETATION!$BI$2="","",LOSS_VEGETATION!$BI$2) -> 1833200
A35: =LOSS_VEGETATION!$B$2 -> Andes | B35: =LOSS_VEGETATION!$AB$2 -> Pérdida de vegetación primaria | C35: 2023 | D35: =IF(LOSS_VEGETATION!$BJ$2="","",LOSS_VEGETATION!$BJ$2) -> 1368200
A36: =LOSS_VEGETATION!$B$2 -> Andes | B36: =LOSS_VEGETATION!$AB$2 -> Pérdida de vegetación primaria | C36: 2024 | D36: =IF(LOSS_VEGETATION!$BK$2="","",LOSS_VEGETATION!$BK$2) -> 2203800
A37: =LOSS_VEGETATION!$B$2 -> Andes | B37: =LOSS_VEGETATION!$AB$2 -> Pérdida de vegetación primaria | C37: 2025 | D37: =IF(LOSS_VEGETATION!$BL$2="","",LOSS_VEGETATION!$BL$2) -> 1166100
A38: =LOSS_VEGETATION!$B$3 -> Andes | B38: =LOSS_VEGETATION!$AB$3 -> Pérdida de vegetación secundaria | C38: 1992 | D38: =IF(LOSS_VEGETATION!$AE$3="","",LOSS_VEGETATION!$AE$3) -> 492760
A39: =LOSS_VEGETATION!$B$3 -> Andes | B39: =LOSS_VEGETATION!$AB$3 -> Pérdida de vegetación secundaria | C39: 1993 | D39: =IF(LOSS_VEGETATION!$AF$3="","",LOSS_VEGETATION!$AF$3) -> 2794400
A40: =LOSS_VEGETATION!$B$3 -> Andes | B40: =LOSS_VEGETATION!$AB$3 -> Pérdida de vegetación secundaria | C40: 1994 | D40: =IF(LOSS_VEGETATION!$AG$3="","",LOSS_VEGETATION!$AG$3) -> 2883000
A41: =LOSS_VEGETATION!$B$3 -> Andes | B41: =LOSS_VEGETATION!$AB$3 -> Pérdida de vegetación secundaria | C41: 1995 | D41: =IF(LOSS_VEGETATION!$AH$3="","",LOSS_VEGETATION!$AH$3) -> 3268500
A42: =LOSS_VEGETATION!$B$3 -> Andes | B42: =LOSS_VEGETATION!$AB$3 -> Pérdida de vegetación secundaria | C42: 1996 | D42: =IF(LOSS_VEGETATION!$AI$3="","",LOSS_VEGETATION!$AI$3) -> 2726200
A43: =LOSS_VEGETATION!$B$3 -> Andes | B43: =LOSS_VEGETATION!$AB$3 -> Pérdida de vegetación secundaria | C43: 1997 | D43: =IF(LOSS_VEGETATION!$AJ$3="","",LOSS_VEGETATION!$AJ$3) -> 1995900
A44: =LOSS_VEGETATION!$B$3 -> Andes | B44: =LOSS_VEGETATION!$AB$3 -> Pérdida de vegetación secundaria | C44: 1998 | D44: =IF(LOSS_VEGETATION!$AK$3="","",LOSS_VEGETATION!$AK$3) -> 2605000
A45: =LOSS_VEGETATION!$B$3 -> Andes | B45: =LOSS_VEGETATION!$AB$3 -> Pérdida de vegetación secundaria | C45: 1999 | D45: =IF(LOSS_VEGETATION!$AL$3="","",LOSS_VEGETATION!$AL$3) -> 3530600
A46: =LOSS_VEGETATION!$B$3 -> Andes | B46: =LOSS_VEGETATION!$AB$3 -> Pérdida de vegetación secundaria | C46: 2000 | D46: =IF(LOSS_VEGETATION!$AM$3="","",LOSS_VEGETATION!$AM$3) -> 4215100
A47: =LOSS_VEGETATION!$B$3 -> Andes | B47: =LOSS_VEGETATION!$AB$3 -> Pérdida de vegetación secundaria | C47: 2001 | D47: =IF(LOSS_VEGETATION!$AN$3="","",LOSS_VEGETATION!$AN$3) -> 4008800
A48: =LOSS_VEGETATION!$B$3 -> Andes | B48: =LOSS_VEGETATION!$AB$3 -> Pérdida de vegetación secundaria | C48: 2002 | D48: =IF(LOSS_VEGETATION!$AO$3="","",LOSS_VEGETATION!$AO$3) -> 3160500
A49: =LOSS_VEGETATION!$B$3 -> Andes | B49: =LOSS_VEGETATION!$AB$3 -> Pérdida de vegetación secundaria | C49: 2003 | D49: =IF(LOSS_VEGETATION!$AP$3="","",LOSS_VEGETATION!$AP$3) -> 4565700
A50: =LOSS_VEGETATION!$B$3 -> Andes | B50: =LOSS_VEGETATION!$AB$3 -> Pérdida de vegetación secundaria | C50: 2004 | D50: =IF(LOSS_VEGETATION!$AQ$3="","",LOSS_VEGETATION!$AQ$3) -> 4064000
