Workbook
Name Slicer_Bioma: #N/A
Name Slicer_Bioma1: #N/A
Name Slicer_Transicion: #N/A

Sheet LEGEND_CODE
B1: Codigos de las clases de leyenda del Módulo de Vegetación de la Coleccion 4 de Cobertura y Uso de MapBiomas Peru (1990-2025)
A2: El módulo de vegetación presenta una serie temporal de la dinámica de la vegetación natural del Perú para el período 1990–2025, derivada de los mapas anuales de cobertura y uso del suelo de MapBiomas Perú, Colección 4. Mediante el análisis de la trayectoria de clasificación de cada píxel, se identifican pérdidas de vegetación primaria y secundaria, procesos de recuperación y la evolución de la vegetación secundaria, conservando el historial de cambios de cada ubicación. Para conocer mayor detalles de la metodología acceda al ATBD Módulos de vegetación:https://peru.mapbiomas.org/iniciativas-y-productos/cobertura-y-uso-del-suelo/perdida-vegetacion/
A6: CLASSES | B6: CLASES | C6: ID | D6: Hexadecimal code | E6: Color | F6: Definición
A7: Loss primary vegetation | B7: Pérdida Vegetación Primaria | C7: 4 | D7: #FFCCBC | F7: Cambio persistente a uso antrópico de un área de vegetación natural desde 1990 hasta el año previo a la pérdida.
A8: Loss Secondary Vegetation | B8: Pérdida Vegetación Secundaria | C8: 6 | D8: #CC0100 | F8: Cambio persistente a uso antrópico de un área de vegetación natural que se había recuperado tras un uso antrópico
B14: Codigos de las clases de la leyenda de la Coleccion 4 de Cobertura y Uso de MapBiomas Peru (1990-2025)
A15: CLASSES | B15: CLASES | C15: ID | D15: Hexadecimal code | E15: Color
A16: 1. Forest formation | B16: 1. Formación boscosa | C16: 1 | D16: #1f8d49
A17: 1.1. Forest | B17: 1.1. Bosque | C17: 3 | D17: #1f8d49
A18: 1.2. Dry forest | B18: 1.2. Bosque seco | C18: 4 | D18: #7dc975
A19: 1.3. Mangrove | B19: 1.3. Manglar | C19: 5 | D19: #04381d
A20: 1.4. Flooded forest | B20: 1.4. Bosque inundable | C20: 6 | D20: #026975
A21: 2. Natural non-forest formation | B21: 2. Formación natural no boscosa | C21: 10 | D21: #d6bc74
A22: 2.1. Flooded herbaceous formation | B22: 2.1. Formación herbácea inundable | C22: 11 | D22: #519799
A23: 2.1.1 Lowland flooded grassland | B23: 2.1.1. Herbazal inundable de tierras bajas | C23: 51 | D23: #5faf92
A24: 2.1.2 High andean flooded grassland | B24: 2.1.2. Herbazal inundable altoandino | C24: 82 | D24: #26abab
A25: 2.2. Herbaceous formation | B25: 2.2. Formación herbácea | C25: 12 | D25: #d6bc74
A26: 2.3. Shrub and other non-forest formations | B26: 2.3. Formaciones arbustivas y otras | C26: 13 | D26: #d89f5c
A27: 2.3.1 Shrubland and other shrub vegetation | B27: 2.3.1. Matorral y otros arbustales | C27: 66 | D27: #a89358
... A48: 6. Not observed | B48: 6. No observado | C48: 27 | D48: #ffffff

Sheet READ_ME
A1: MAPBIOMAS PERU - LULC COLLECTION 4 - PÉRDIDA DE VEGETACIÓN
F3: Version 1 | Q3: Version 1
F4: August 2026 | Q4: Agosto 2026
B13: VEGETATION LOSS DATABASE | M13: BASE DE DADOS DE PERDA DE VEGETAÇÃO
B15: COLLECTION 4 - MAPBIOMAS PERU | M15: COLEÇÃO 4 - MAPBIOMAS PERU
B17: 1. This database contains the annual vegetation loss (in hectares) broken down by biomes for the 1990–2025 period, distinguishing between primary vegetation loss and secondary vegetation loss. | M17: 1. Esta base de dados contém a perda anual de vegetação (em hectares) detalhada por biomas para o período de 1990 a 2025, diferenciando a perda de vegetação primária e a perda de vegetação secundária.
B19: 2. To consult the methodology, access the ATBD (Algorithm Theoretical Basis Document) of the vegetation module at the following link: ATBD. | M19: 2. Para consultar a metodologia, acesse o ATBD (Documento Base Teórico do Algoritmo) do módulo de vegetação no seguinte link: ATBD.
B21: 3. To access the complete georeferenced data please visit: peru.mapbiomas.org | M21: 3. Para acessar a base de dados georeferenciada acesse: peru.mapbiomas.org
B23: 4. MapBiomas Peru data are public, open and free through the simple reference of the source using the following format: | M23: 4. Os dados do MapBiomas Peru são públicos, abertos e gratuitos mediante ao simples referência da fonte observando o seguinte formato:
B25: "MapBiomas Peru - Collection 4 of Peru's Land Cover & Land Use Map Series, accessed on [date] through the link: [LINK]" | M25: "MapBiomas Peru – Coleção 4 da Série Anual de Mapas de Cobertura e Uso da Terra do Peru, acessado em [data] através do link: [LINK]"
B26: MapBiomas Peru is a multi-institutional initiative to generate annual land-cover and land-use maps of Peru using supervised classification processes applied to satellite images. The complete project description is available at peru.mapbiomas.org. | M26: "MapBiomas Peru é uma iniciativa multi-institucional para gerar mapas anuais de cobertura e uso da terra do Peru a partir de processos de classificação supervisada aplicada a imagens de satélite. A descrição completa do projeto encontra-se em peru.mapbiomas.org"

Sheet LOSS_VEGETATION
A1: territor_level_1_1 | B1: territor_level_2_1 | C1: territor_level_3_1 | D1: territor_level_4_1 | E1: territor_level_1_2 | F1: territor_level_2_2 | G1: territor_level_3_2 | H1: territor_level_4_2 | I1: territor_level_1_3 | J1: territor_level_2_3 | K1: territor_level_3_3 | L1: territor_level_4_3 | M1: geocode_1 | N1: geocode_2 | O1: geocode_3 | P1: feature_id_1 | Q1: feature_id_2 | R1: feature_id_3 | S1: categor_1 | T1: categor_2 | U1: categor_3 | V1: categor_id_1 | W1: categor_id_2 | X1: categor_id_3 | Y1: version | Z1: transition | AA1: class | AB1: transition_name | AC1: 1990 | AD1: 1991 | AE1: 1992 | AF1: 1993 | AG1: 1994 | AH1: 1995 | AI1: 1996 | AJ1: 1997 | AK1: 1998 | AL1: 1999 | AM1: 2000 | AN1: 2001 | AO1: 2002 | AP1: 2003 | AQ1: 2004 | AR1: 2005 | AS1: 2006 | AT1: 2007 | AU1: 2008 | AV1: 2009 | AW1: 2010 | AX1: 2011 | AY1: 2012 | AZ1: 2013 | BA1: 2014 | BB1: 2015 | BC1: 2016 | BD1: 2017 | BE1: 2018 | BF1: 2019 | BG1: 2020 | BH1: 2021 | BI1: 2022 | BJ1: 2023 | BK1: 2024 | BL1: 2025
A2: Perú | B2: Andes | I2: Perú | O2: PER-01 | P2: 1 | S2: BIOMES | U2: POLITICAL_LEVEL_1 | V2: 4 | X2: 1 | Z2: 4 | AB2: Pérdida de vegetación primaria | AC2: 9243837 | AD2: 4954300 | AE2: 4430400 | AF2: 6295400 | AG2: 4097600 | AH2: 3780100 | AI2: 4672700 | AJ2: 2956600 | AK2: 3258500 | AL2: 3182400 | AM2: 2857900 | AN2: 2932000 | AO2: 2355500 | AP2: 2837700 | AQ2: 2579000 | AR2: 1649300 | AS2: 2292300 | AT2: 1717400 | AU2: 1559700 | AV2: 1894000 | AW2: 2209900 | AX2: 2031700 | AY2: 1670500 | AZ2: 2444300 | BA2: 1767100 | BB2: 2201200 | BC2: 1557200 | BD2: 1983800 | BE2: 1433500 | BF2: 1527800 | BG2: 1683200 | BH2: 1910800 | BI2: 1833200 | BJ2: 1368200 | BK2: 2203800 | BL2: 1166100
A3: Perú | B3: Andes | I3: Perú | O3: PER-01 | P3: 1 | S3: BIOMES | U3: POLITICAL_LEVEL_1 | V3: 4 | X3: 1 | Z3: 6 | AB3: Pérdida de vegetación secundaria | AE3: 492760 | AF3: 2794400 | AG3: 2883000 | AH3: 3268500 | AI3: 2726200 | AJ3: 1995900 | AK3: 2605000 | AL3: 3530600 | AM3: 4215100 | AN3: 4008800 | AO3: 3160500 | AP3: 4565700 | AQ3: 4064000 | AR3: 3059100 | AS3: 5690600 | AT3: 3549900 | AU3: 3677100 | AV3: 3875800 | AW3: 4812200 | AX3: 4345900 | AY3: 3996700 | AZ3: 4785500 | BA3: 4040400 | BB3: 5350200 | BC3: 3494100 | BD3: 4455400 | BE3: 4041600 | BF3: 3243600 | BG3: 3711500 | BH3: 4676000 | BI3: 3998500 | BJ3: 3313500 | BK3: 4350800 | BL3: 1314100
A4: Perú | B4: Desierto costero | I4: Perú | O4: PER-01 | P4: 2 | S4: BIOMES | U4: POLITICAL_LEVEL_1 | V4: 4 | X4: 1 | Z4: 4 | AB4: Pérdida de vegetación primaria | AC4: 201472.3 | AD4: 424800 | AE4: 30950 | AF4: 16589 | AG4: 8931.4 | AH4: 9016.8 | AI4: 169990 | AJ4: 46235 | AK4: 152050 | AL4: 55753 | AM4: 38715 | AN4: 31887 | AO4: 34292 | AP4: 38874 | AQ4: 42802 | AR4: 29141 | AS4: 39751 | AT4: 33670 | AU4: 40820 | AV4: 31641 | AW4: 44114 | AX4: 46693 | AY4: 32153 | AZ4: 46010 | BA4: 25762 | BB4: 22864 | BC4: 32113 | BD4: 26938 | BE4: 17918 | BF4: 19699 | BG4: 20583 | BH4: 18529 | BI4: 24268 | BJ4: 37580 | BK4: 43413 | BL4: 29132
A5: Perú | B5: Desierto costero | I5: Perú | O5: PER-01 | P5: 2 | S5: BIOMES | U5: POLITICAL_LEVEL_1 | V5: 4 | X5: 1 | Z5: 6 | AB5: Pérdida de vegetación secundaria | AE5: 780.6 | AF5: 2947.7 | AG5: 6733.1 | AH5: 7777.8 | AI5: 494920 | AJ5: 48844 | AK5: 89912 | AL5: 42622 | AM5: 50615 | AN5: 83278 | AO5: 80440 | AP5: 152470 | AQ5: 174200 | AR5: 94906 | AS5: 107850 | AT5: 112420 | AU5: 114320 | AV5: 110520 | AW5: 117900 | AX5: 109870 | AY5: 122100 | AZ5: 206590 | BA5: 70249 | BB5: 85330 | BC5: 164920 | BD5: 195050 | BE5: 112060 | BF5: 92702 | BG5: 93465 | BH5: 95021 | BI5: 156640 | BJ5: 308450 | BK5: 162360 | BL5: 186950
A6: Perú | B6: Bosque seco | I6: Perú | O6: PER-01 | P6: 3 | S6: BIOMES | U6: POLITICAL_LEVEL_1 | V6: 4 | X6: 1 | Z6: 4 | AB6: Pérdida de vegetación primaria | AC6: 1456992.6 | AD6: 2927600 | AE6: 335340 | AF6: 184840 | AG6: 296790 | AH6: 53527 | AI6: 1054500 | AJ6: 1279300 | AK6: 1154000 | AL6: 1408100 | AM6: 654000 | AN6: 480800 | AO6: 528630 | AP6: 612040 | AQ6: 471580 | AR6: 338640 | AS6: 503470 | AT6: 680640 | AU6: 359370 | AV6: 927270 | AW6: 591190 | AX6: 703030 | AY6: 515480 | AZ6: 590880 | BA6: 461710 | BB6: 473940 | BC6: 1162900 | BD6: 858230 | BE6: 685040 | BF6: 944890 | BG6: 1263600 | BH6: 614990 | BI6: 440010 | BJ6: 656080 | BK6: 675200 | BL6: 408310
A7: Perú | B7: Bosque seco | I7: Perú | O7: PER-01 | P7: 3 | S7: BIOMES | U7: POLITICAL_LEVEL_1 | V7: 4 | X7: 1 | Z7: 6 | AB7: Pérdida de vegetación secundaria | AE7: 36317 | AF7: 61249 | AG7: 90911 | AH7: 30357 | AI7: 1012500 | AJ7: 272670 | AK7: 344360 | AL7: 559950 | AM7: 308790 | AN7: 296320 | AO7: 393550 | AP7: 652620 | AQ7: 512780 | AR7: 433910 | AS7: 633600 | AT7: 707970 | AU7: 322000 | AV7: 942890 | AW7: 653490 | AX7: 444790 | AY7: 521080 | AZ7: 654310 | BA7: 372460 | BB7: 342500 | BC7: 475380 | BD7: 479760 | BE7: 807260 | BF7: 476360 | BG7: 593210 | BH7: 447170 | BI7: 376840 | BJ7: 573100 | BK7: 740350 | BL7: 162560
A8: Perú | B8: Amazonía | I8: Perú | O8: PER-01 | P8: 4 | S8: BIOMES | U8: POLITICAL_LEVEL_1 | V8: 4 | X8: 1 | Z8: 4 | AB8: Pérdida de vegetación primaria | AC8: 8155723.7 | AD8: 10119800 | AE8: 7185900 | AF8: 8095800 | AG8: 8656600 | AH8: 7512800 | AI8: 9640600 | AJ8: 9050800 | AK8: 9984300 | AL8: 9005000 | AM8: 7807000 | AN8: 9116000 | AO8: 8540500 | AP8: 8655200 | AQ8: 7498400 | AR8: 10317500 | AS8: 8015200 | AT8: 8994600 | AU8: 9496300 | AV8: 10918400 | AW8: 10165200 | AX8: 8069700 | AY8: 11064900 | AZ8: 10711900 | BA8: 9461500 | BB8: 9116800 | BC8: 8216500 | BD8: 9061700 | BE8: 9939600 | BF8: 9732100 | BG8: 11604500 | BH8: 10634800 | BI8: 12679100 | BJ8: 13393600 | BK8: 8544700 | BL8: 12481600
A9: Perú | B9: Amazonía | I9: Perú | O9: PER-01 | P9: 4 | S9: BIOMES | U9: POLITICAL_LEVEL_1 | V9: 4 | X9: 1 | Z9: 6 | AB9: Pérdida de vegetación secundaria | AE9: 215760 | AF9: 713550 | AG9: 1334100 | AH9: 1643700 | AI9: 2543500 | AJ9: 2720400 | AK9: 3298800 | AL9: 2878500 | AM9: 2674000 | AN9: 2875600 | AO9: 2638800 | AP9: 3044900 | AQ9: 2862800 | AR9: 3638400 | AS9: 3025700 | AT9: 3276300 | AU9: 3036700 | AV9: 3802700 | AW9: 3908600 | AX9: 3715700 | AY9: 4640900 | AZ9: 4866600 | BA9: 4337400 | BB9: 4063100 | BC9: 4358200 | BD9: 4437100 | BE9: 4653400 | BF9: 4477200 | BG9: 6265400 | BH9: 5599700 | BI9: 7954400 | BJ9: 8040800 | BK9: 5819100 | BL9: 4392600

Sheet PIVOTCHART_LOSS_VEGETATION
B1: MAPBIOMAS PERU - LULC COLLECTION 4 - PÉRDIDA DE VEGETACIÓN
B3: Transicion | C3: Pérdida de vegetación primaria
B5: Area (ha) | C5: Bioma
B6: Anio | C6: Amazonía | D6: Andes | E6: Bosque seco | F6: Desierto costero
B7: 1990 | C7: 8155723.7 | D7: 9243837 | E7: 1456992.6 | F7: 201472.3
B8: 1991 | C8: 10119800 | D8: 4954300 | E8: 2927600 | F8: 424800
B9: 1992 | C9: 7185900 | D9: 4430400 | E9: 335340 | F9: 30950
B10: 1993 | C10: 8095800 | D10: 6295400 | E10: 184840 | F10: 16589
B11: 1994 | C11: 8656600 | D11: 4097600 | E11: 296790 | F11: 8931.4
B12: 1995 | C12: 7512800 | D12: 3780100 | E12: 53527 | F12: 9016.8
B13: 1996 | C13: 9640600 | D13: 4672700 | E13: 1054500 | F13: 169990
B14: 1997 | C14: 9050800 | D14: 2956600 | E14: 1279300 | F14: 46235
B15: 1998 | C15: 9984300 | D15: 3258500 | E15: 1154000 | F15: 152050
B16: 1999 | C16: 9005000 | D16: 3182400 | E16: 1408100 | F16: 55753
B17: 2000 | C17: 7807000 | D17: 2857900 | E17: 654000 | F17: 38715
B18: 2001 | C18: 9116000 | D18: 2932000 | E18: 480800 | F18: 31887
... B42: 2025 | C42: 12481600 | D42: 1166100 | E42: 408310 | F42: 29132
B51: Area (ha) | D51: Transicion
B52: Bioma | C52: Anio | D52: Pérdida de vegetación primaria | E52: Pérdida de vegetación secundaria
B53: Amazonía | C53: 1990 | D53: 8155723.7
C54: 1991 | D54: 10119800
C55: 1992 | D55: 7185900 | E55: 215760
C56: 1993 | D56: 8095800 | E56: 713550
C57: 1994 | D57: 8656600 | E57: 1334100
C58: 1995 | D58: 7512800 | E58: 1643700
C59: 1996 | D59: 9640600 | E59: 2543500
C60: 1997 | D60: 9050800 | E60: 2720400
C61: 1998 | D61: 9984300 | E61: 3298800
C62: 1999 | D62: 9005000 | E62: 2878500
C63: 2000 | D63: 7807000 | E63: 2674000
C64: 2001 | D64: 9116000 | E64: 2875600
C65: 2002 | D65: 8540500 | E65: 2638800
C66: 2003 | D66: 8655200 | E66: 3044900
... C88: 2025 | D88: 12481600 | E88: 4392600
B89: Amazonía Total | D89: 3.4164462e+08 | E89: 127754410

Sheet METADATA
B2: Pérdida de Vegetacion / Loss vegetation
B3: Campo/Field | C3: Descripcion del campo | D3: Field Description
B4: territory | C4: Bioma | D4: Biome
B5: feature_id | C5: Identificador único (ID) | D5: Identifier (ID)
B6: transition_name | C6: Código de la leyenda correspondente a la clase de pérdida | D6: Legend code for each loss vegetation
B7: class | C7: Código de la leyenda correspondente a la clase de cobertura y uso del suelo | D7: Legend code for each land cover and land use class
B8: class_level_0 | C8: Clase de cobertura o uso del suelo en el nivel 0 (natural o antrópico) | D8: Land cover and land use class on legend level 0
B9: class_level_1 | C9: Clase de cobertura o uso del suelo en el nivel 1 (cinco clases) | D9: Land cover and land use class on legend level 1
B10: class_level_2 | C10: Clase de cobertura o uso del suelo en el nivel 2 (veinticuatro clases) | D10: Land cover and land use class on legend level 2
B11: class_level_3 | C11: Clase de cobertura o uso del suelo en el nivel 3 (veintiseis clases) | D11: Land cover and land use class on legend level 3

Sheet AUX_L2_PRI
A1: Bioma | B1: Año | C1: Deforestación de vegetación primaria (ha)
A2: Amazonía | B2: 1990 | C2: =IF(COUNTIFS(mapbiomas_peru_collection_4_deforestation_crossing_biomes_political_level_2_poli4[territor_level_2_1],A2,mapbiomas_peru_collection_4_deforestation_crossing_biomes_political_level_2_poli4[transition],4,mapbiomas_peru_collection_4_deforestation_crossing_biomes_political_level_2_poli4[1990],"<>")=0,"",SUMIFS(mapbiomas_peru_collection_4_deforestation_crossing_biomes_political_level_2_poli4[1990],mapbiomas_peru_collection_4_deforestation_crossing_biomes_political_level_2_poli4[territor_level_2_1],A2,mapbiomas_peru_collection_4_deforestation_crossing_biomes_political_level_2_poli4[transition],4)) -> 8155723.7
A3: Amazonía | B3: 1991 | C3: =IF(COUNTIFS(mapbiomas_peru_collection_4_deforestation_crossing_biomes_political_level_2_poli4[territor_level_2_1],A3,mapbiomas_peru_collection_4_deforestation_crossing_biomes_political_level_2_poli4[transition],4,mapbiomas_peru_collection_4_deforestation_crossing_biomes_political_level_2_poli4[1991],"<>")=0,"",SUMIFS(mapbiomas_peru_collection_4_deforestation_crossing_biomes_political_level_2_poli4[1991],mapbiomas_peru_collection_4_deforestation_crossing_biomes_political_level_2_poli4[territor_level_2_1],A3,mapbiomas_peru_collection_4_deforestation_crossing_biomes_political_level_2_poli4[transition],4)) -> 10119800
A4: Amazonía | B4: 1992 | C4: =IF(COUNTIFS(mapbiomas_peru_collection_4_deforestation_crossing_biomes_political_level_2_poli4[territor_level_2_1],A4,mapbiomas_peru_collection_4_deforestation_crossing_biomes_political_level_2_poli4[transition],4,mapbiomas_peru_collection_4_deforestation_crossing_biomes_political_level_2_poli4[1992],"<>")=0,"",SUMIFS(mapbiomas_peru_collection_4_deforestation_crossing_biomes_political_level_2_poli4[1992],mapbiomas_peru_collection_4_deforestation_crossing_biomes_political_level_2_poli4[territor_level_2_1],A4,mapbiomas_peru_collection_4_deforestation_crossing_biomes_political_level_2_poli4[transition],4)) -> 7185900
A5: Amazonía | B5: 1993 | C5: =IF(COUNTIFS(mapbiomas_peru_collection_4_deforestation_crossing_biomes_political_level_2_poli4[territor_level_2_1],A5,mapbiomas_peru_collection_4_deforestation_crossing_biomes_political_level_2_poli4[transition],4,mapbiomas_peru_collection_4_deforestation_crossing_biomes_political_level_2_poli4[1993],"<>")=0,"",SUMIFS(mapbiomas_peru_collection_4_deforestation_crossing_biomes_political_level_2_poli4[1993],mapbiomas_peru_collection_4_deforestation_crossing_biomes_political_level_2_poli4[territor_level_2_1],A5,mapbiomas_peru_collection_4_deforestation_crossing_biomes_political_level_2_poli4[transition],4)) -> 8095800
A6: Amazonía | B6: 1994 | C6: =IF(COUNTIFS(mapbiomas_peru_collection_4_deforestation_crossing_biomes_political_level_2_poli4[territor_level_2_1],A6,mapbiomas_peru_collection_4_deforestation_crossing_biomes_political_level_2_poli4[transition],4,mapbiomas_peru_collection_4_deforestation_crossing_biomes_political_level_2_poli4[1994],"<>")=0,"",SUMIFS(mapbiomas_peru_collection_4_deforestation_crossing_biomes_political_level_2_poli4[1994],mapbiomas_peru_collection_4_deforestation_crossing_biomes_political_level_2_poli4[territor_level_2_1],A6,mapbiomas_peru_collection_4_deforestation_crossing_biomes_political_level_2_poli4[transition],4)) -> 8656600
A7: Amazonía | B7: 1995 | C7: =IF(COUNTIFS(mapbiomas_peru_collection_4_deforestation_crossing_biomes_political_level_2_poli4[territor_level_2_1],A7,mapbiomas_peru_collection_4_deforestation_crossing_biomes_political_level_2_poli4[transition],4,mapbiomas_peru_collection_4_deforestation_crossing_biomes_political_level_2_poli4[1995],"<>")=0,"",SUMIFS(mapbiomas_peru_collection_4_deforestation_crossing_biomes_political_level_2_poli4[1995],mapbiomas_peru_collection_4_deforestation_crossing_biomes_political_level_2_poli4[territor_level_2_1],A7,mapbiomas_peru_collection_4_deforestation_crossing_biomes_political_level_2_poli4[transition],4)) -> 7512800
A8: Amazonía | B8: 1996 | C8: =IF(COUNTIFS(mapbiomas_peru_collection_4_deforestation_crossing_biomes_political_level_2_poli4[territor_level_2_1],A8,mapbiomas_peru_collection_4_deforestation_crossing_biomes_political_level_2_poli4[transition],4,mapbiomas_peru_collection_4_deforestation_crossing_biomes_political_level_2_poli4[1996],"<>")=0,"",SUMIFS(mapbiomas_peru_collection_4_deforestation_crossing_biomes_political_level_2_poli4[1996],mapbiomas_peru_collection_4_deforestation_crossing_biomes_political_level_2_poli4[territor_level_2_1],A8,mapbiomas_peru_collection_4_deforestation_crossing_biomes_political_level_2_poli4[transition],4)) -> 9640600
A9: Amazonía | B9: 1997 | C9: =IF(COUNTIFS(mapbiomas_peru_collection_4_deforestation_crossing_biomes_political_level_2_poli4[territor_level_2_1],A9,mapbiomas_peru_collection_4_deforestation_crossing_biomes_political_level_2_poli4[transition],4,mapbiomas_peru_collection_4_deforestation_crossing_biomes_political_level_2_poli4[1997],"<>")=0,"",SUMIFS(mapbiomas_peru_collection_4_deforestation_crossing_biomes_political_level_2_poli4[1997],mapbiomas_peru_collection_4_deforestation_crossing_biomes_political_level_2_poli4[territor_level_2_1],A9,mapbiomas_peru_collection_4_deforestation_crossing_biomes_political_level_2_poli4[transition],4)) -> 9050800
A10: Amazonía | B10: 1998 | C10: =IF(COUNTIFS(mapbiomas_peru_collection_4_deforestation_crossing_biomes_political_level_2_poli4[territor_level_2_1],A10,mapbiomas_peru_collection_4_deforestation_crossing_biomes_political_level_2_poli4[transition],4,mapbiomas_peru_collection_4_deforestation_crossing_biomes_political_level_2_poli4[1998],"<>")=0,"",SUMIFS(mapbiomas_peru_collection_4_deforestation_crossing_biomes_political_level_2_poli4[1998],mapbiomas_peru_collection_4_deforestation_crossing_biomes_political_level_2_poli4[territor_level_2_1],A10,mapbiomas_peru_collection_4_deforestation_crossing_biomes_political_level_2_poli4[transition],4)) -> 9984300
A11: Amazonía | B11: 1999 | C11: =IF(COUNTIFS(mapbiomas_peru_collection_4_deforestation_crossing_biomes_political_level_2_poli4[territor_level_2_1],A11,mapbiomas_peru_collection_4_deforestation_crossing_biomes_political_level_2_poli4[transition],4,mapbiomas_peru_collection_4_deforestation_crossing_biomes_political_level_2_poli4[1999],"<>")=0,"",SUMIFS(mapbiomas_peru_collection_4_deforestation_crossing_biomes_political_level_2_poli4[1999],mapbiomas_peru_collection_4_deforestation_crossing_biomes_political_level_2_poli4[territor_level_2_1],A11,mapbiomas_peru_collection_4_deforestation_crossing_biomes_political_level_2_poli4[transition],4)) -> 9005000
A12: Amazonía | B12: 2000 | C12: =IF(COUNTIFS(mapbiomas_peru_collection_4_deforestation_crossing_biomes_political_level_2_poli4[territor_level_2_1],A12,mapbiomas_peru_collection_4_deforestation_crossing_biomes_political_level_2_poli4[transition],4,mapbiomas_peru_collection_4_deforestation_crossing_biomes_political_level_2_poli4[2000],"<>")=0,"",SUMIFS(mapbiomas_peru_collection_4_deforestation_crossing_biomes_political_level_2_poli4[2000],mapbiomas_peru_collection_4_deforestation_crossing_biomes_political_level_2_poli4[territor_level_2_1],A12,mapbiomas_peru_collection_4_deforestation_crossing_biomes_political_level_2_poli4[transition],4)) -> 7807000
A13: Amazonía | B13: 2001 | C13: =IF(COUNTIFS(mapbiomas_peru_collection_4_deforestation_crossing_biomes_political_level_2_poli4[territor_level_2_1],A13,mapbiomas_peru_collection_4_deforestation_crossing_biomes_political_level_2_poli4[transition],4,mapbiomas_peru_collection_4_deforestation_crossing_biomes_political_level_2_poli4[2001],"<>")=0,"",SUMIFS(mapbiomas_peru_collection_4_deforestation_crossing_biomes_political_level_2_poli4[2001],mapbiomas_peru_collection_4_deforestation_crossing_biomes_political_level_2_poli4[territor_level_2_1],A13,mapbiomas_peru_collection_4_deforestation_crossing_biomes_political_level_2_poli4[transition],4)) -> 9116000
A14: Amazonía | B14: 2002 | C14: =IF(COUNTIFS(mapbiomas_peru_collection_4_deforestation_crossing_biomes_political_level_2_poli4[territor_level_2_1],A14,mapbiomas_peru_collection_4_deforestation_crossing_biomes_political_level_2_poli4[transition],4,mapbiomas_peru_collection_4_deforestation_crossing_biomes_political_level_2_poli4[2002],"<>")=0,"",SUMIFS(mapbiomas_peru_collection_4_deforestation_crossing_biomes_political_level_2_poli4[2002],mapbiomas_peru_collection_4_deforestation_crossing_biomes_political_level_2_poli4[territor_level_2_1],A14,mapbiomas_peru_collection_4_deforestation_crossing_biomes_political_level_2_poli4[transition],4)) -> 8540500
A15: Amazonía | B15: 2003 | C15: =IF(COUNTIFS(mapbiomas_peru_collection_4_deforestation_crossing_biomes_political_level_2_poli4[territor_level_2_1],A15,mapbiomas_peru_collection_4_deforestation_crossing_biomes_political_level_2_poli4[transition],4,mapbiomas_peru_collection_4_deforestation_crossing_biomes_political_level_2_poli4[2003],"<>")=0,"",SUMIFS(mapbiomas_peru_collection_4_deforestation_crossing_biomes_political_level_2_poli4[2003],mapbiomas_peru_collection_4_deforestation_crossing_biomes_political_level_2_poli4[territor_level_2_1],A15,mapbiomas_peru_collection_4_deforestation_crossing_biomes_political_level_2_poli4[transition],4)) -> 8655200
A16: Amazonía | B16: 2004 | C16: =IF(COUNTIFS(mapbiomas_peru_collection_4_deforestation_crossing_biomes_political_level_2_poli4[territor_level_2_1],A16,mapbiomas_peru_collection_4_deforestation_crossing_biomes_political_level_2_poli4[transition],4,mapbiomas_peru_collection_4_deforestation_crossing_biomes_political_level_2_poli4[2004],"<>")=0,"",SUMIFS(mapbiomas_peru_collection_4_deforestation_crossing_biomes_political_level_2_poli4[2004],mapbiomas_peru_collection_4_deforestation_crossing_biomes_political_level_2_poli4[territor_level_2_1],A16,mapbiomas_peru_collection_4_deforestation_crossing_biomes_political_level_2_poli4[transition],4)) -> 7498400
A17: Amazonía | B17: 2005 | C17: =IF(COUNTIFS(mapbiomas_peru_collection_4_deforestation_crossing_biomes_political_level_2_poli4[territor_level_2_1],A17,mapbiomas_peru_collection_4_deforestation_crossing_biomes_political_level_2_poli4[transition],4,mapbiomas_peru_collection_4_deforestation_crossing_biomes_political_level_2_poli4[2005],"<>")=0,"",SUMIFS(mapbiomas_peru_collection_4_deforestation_crossing_biomes_political_level_2_poli4[2005],mapbiomas_peru_collection_4_deforestation_crossing_biomes_political_level_2_poli4[territor_level_2_1],A17,mapbiomas_peru_collection_4_deforestation_crossing_biomes_political_level_2_poli4[transition],4)) -> 10317500
A18: Amazonía | B18: 2006 | C18: =IF(COUNTIFS(mapbiomas_peru_collection_4_deforestation_crossing_biomes_political_level_2_poli4[territor_level_2_1],A18,mapbiomas_peru_collection_4_deforestation_crossing_biomes_political_level_2_poli4[transition],4,mapbiomas_peru_collection_4_deforestation_crossing_biomes_political_level_2_poli4[2006],"<>")=0,"",SUMIFS(mapbiomas_peru_collection_4_deforestation_crossing_biomes_political_level_2_poli4[2006],mapbiomas_peru_collection_4_deforestation_crossing_biomes_political_level_2_poli4[territor_level_2_1],A18,mapbiomas_peru_collection_4_deforestation_crossing_biomes_political_level_2_poli4[transition],4)) -> 8015200
A19: Amazonía | B19: 2007 | C19: =IF(COUNTIFS(mapbiomas_peru_collection_4_deforestation_crossing_biomes_political_level_2_poli4[territor_level_2_1],A19,mapbiomas_peru_collection_4_deforestation_crossing_biomes_political_level_2_poli4[transition],4,mapbiomas_peru_collection_4_deforestation_crossing_biomes_political_level_2_poli4[2007],"<>")=0,"",SUMIFS(mapbiomas_peru_collection_4_deforestation_crossing_biomes_political_level_2_poli4[2007],mapbiomas_peru_collection_4_deforestation_crossing_biomes_political_level_2_poli4[territor_level_2_1],A19,mapbiomas_peru_collection_4_deforestation_crossing_biomes_political_level_2_poli4[transition],4)) -> 8994600
A20: Amazonía | B20: 2008 | C20: =IF(COUNTIFS(mapbiomas_peru_collection_4_deforestation_crossing_biomes_political_level_2_poli4[territor_level_2_1],A20,mapbiomas_peru_collection_4_deforestation_crossing_biomes_political_level_2_poli4[transition],4,mapbiomas_peru_collection_4_deforestation_crossing_biomes_political_level_2_poli4[2008],"<>")=0,"",SUMIFS(mapbiomas_peru_collection_4_deforestation_crossing_biomes_political_level_2_poli4[2008],mapbiomas_peru_collection_4_deforestation_crossing_biomes_political_level_2_poli4[territor_level_2_1],A20,mapbiomas_peru_collection_4_deforestation_crossing_biomes_political_level_2_poli4[transition],4)) -> 9496300
A21: Amazonía | B21: 2009 | C21: =IF(COUNTIFS(mapbiomas_peru_collection_4_deforestation_crossing_biomes_political_level_2_poli4[territor_level_2_1],A21,mapbiomas_peru_collection_4_deforestation_crossing_biomes_political_level_2_poli4[transition],4,mapbiomas_peru_collection_4_deforestation_crossing_biomes_political_level_2_poli4[2009],"<>")=0,"",SUMIFS(mapbiomas_peru_collection_4_deforestation_crossing_biomes_political_level_2_poli4[2009],mapbiomas_peru_collection_4_deforestation_crossing_biomes_political_level_2_poli4[territor_level_2_1],A21,mapbiomas_peru_collection_4_deforestation_crossing_biomes_political_level_2_poli4[transition],4)) -> 10918400
A22: Amazonía | B22: 2010 | C22: =IF(COUNTIFS(mapbiomas_peru_collection_4_deforestation_crossing_biomes_political_level_2_poli4[territor_level_2_1],A22,mapbiomas_peru_collection_4_deforestation_crossing_biomes_political_level_2_poli4[transition],4,mapbiomas_peru_collection_4_deforestation_crossing_biomes_political_level_2_poli4[2010],"<>")=0,"",SUMIFS(mapbiomas_peru_collection_4_deforestation_crossing_biomes_political_level_2_poli4[2010],mapbiomas_peru_collection_4_deforestation_crossing_biomes_political_level_2_poli4[territor_level_2_1],A22,mapbiomas_peru_collection_4_deforestation_crossing_biomes_political_level_2_poli4[transition],4)) -> 10165200
A23: Amazonía | B23: 2011 | C23: =IF(COUNTIFS(mapbiomas_peru_collection_4_deforestation_crossing_biomes_political_level_2_poli4[territor_level_2_1],A23,mapbiomas_peru_collection_4_deforestation_crossing_biomes_political_level_2_poli4[transition],4,mapbiomas_peru_collection_4_deforestation_crossing_biomes_political_level_2_poli4[2011],"<>")=0,"",SUMIFS(mapbiomas_peru_collection_4_deforestation_crossing_biomes_political_level_2_poli4[2011],mapbiomas_peru_collection_4_deforestation_crossing_biomes_political_level_2_poli4[territor_level_2_1],A23,mapbiomas_peru_collection_4_deforestation_crossing_biomes_political_level_2_poli4[transition],4)) -> 8069700
A24: Amazonía | B24: 2012 | C24: =IF(COUNTIFS(mapbiomas_peru_collection_4_deforestation_crossing_biomes_political_level_2_poli4[territor_level_2_1],A24,mapbiomas_peru_collection_4_deforestation_crossing_biomes_political_level_2_poli4[transition],4,mapbiomas_peru_collection_4_deforestation_crossing_biomes_political_level_2_poli4[2012],"<>")=0,"",SUMIFS(mapbiomas_peru_collection_4_deforestation_crossing_biomes_political_level_2_poli4[2012],mapbiomas_peru_collection_4_deforestation_crossing_biomes_political_level_2_poli4[territor_level_2_1],A24,mapbiomas_peru_collection_4_deforestation_crossing_biomes_political_level_2_poli4[transition],4)) -> 11064900
A25: Amazonía | B25: 2013 | C25: =IF(COUNTIFS(mapbiomas_peru_collection_4_deforestation_crossing_biomes_political_level_2_poli4[territor_level_2_1],A25,mapbiomas_peru_collection_4_deforestation_crossing_biomes_political_level_2_poli4[transition],4,mapbiomas_peru_collection_4_deforestation_crossing_biomes_political_level_2_poli4[2013],"<>")=0,"",SUMIFS(mapbiomas_peru_collection_4_deforestation_crossing_biomes_political_level_2_poli4[2013],mapbiomas_peru_collection_4_deforestation_crossing_biomes_political_level_2_poli4[territor_level_2_1],A25,mapbiomas_peru_collection_4_deforestation_crossing_biomes_political_level_2_poli4[transition],4)) -> 10711900
A26: Amazonía | B26: 2014 | C26: =IF(COUNTIFS(mapbiomas_peru_collection_4_deforestation_crossing_biomes_political_level_2_poli4[territor_level_2_1],A26,mapbiomas_peru_collection_4_deforestation_crossing_biomes_political_level_2_poli4[transition],4,mapbiomas_peru_collection_4_deforestation_crossing_biomes_political_level_2_poli4[2014],"<>")=0,"",SUMIFS(mapbiomas_peru_collection_4_deforestation_crossing_biomes_political_level_2_poli4[2014],mapbiomas_peru_collection_4_deforestation_crossing_biomes_political_level_2_poli4[territor_level_2_1],A26,mapbiomas_peru_collection_4_deforestation_crossing_biomes_political_level_2_poli4[transition],4)) -> 9461500
A27: Amazonía | B27: 2015 | C27: =IF(COUNTIFS(mapbiomas_peru_collection_4_deforestation_crossing_biomes_political_level_2_poli4[territor_level_2_1],A27,mapbiomas_peru_collection_4_deforestation_crossing_biomes_political_level_2_poli4[transition],4,mapbiomas_peru_collection_4_deforestation_crossing_biomes_political_level_2_poli4[2015],"<>")=0,"",SUMIFS(mapbiomas_peru_collection_4_deforestation_crossing_biomes_political_level_2_poli4[2015],mapbiomas_peru_collection_4_deforestation_crossing_biomes_political_level_2_poli4[territor_level_2_1],A27,mapbiomas_peru_collection_4_deforestation_crossing_biomes_political_level_2_poli4[transition],4)) -> 9116800
A28: Amazonía | B28: 2016 | C28: =IF(COUNTIFS(mapbiomas_peru_collection_4_deforestation_crossing_biomes_political_level_2_poli4[territor_level_2_1],A28,mapbiomas_peru_collection_4_deforestation_crossing_biomes_political_level_2_poli4[transition],4,mapbiomas_peru_collection_4_deforestation_crossing_biomes_political_level_2_poli4[2016],"<>")=0,"",SUMIFS(mapbiomas_peru_collection_4_deforestation_crossing_biomes_political_level_2_poli4[2016],mapbiomas_peru_collection_4_deforestation_crossing_biomes_political_level_2_poli4[territor_level_2_1],A28,mapbiomas_peru_collection_4_deforestation_crossing_biomes_political_level_2_poli4[transition],4)) -> 8216500
A29: Amazonía | B29: 2017 | C29: =IF(COUNTIFS(mapbiomas_peru_collection_4_deforestation_crossing_biomes_political_level_2_poli4[territor_level_2_1],A29,mapbiomas_peru_collection_4_deforestation_crossing_biomes_political_level_2_poli4[transition],4,mapbiomas_peru_collection_4_deforestation_crossing_biomes_political_level_2_poli4[2017],"<>")=0,"",SUMIFS(mapbiomas_peru_collection_4_deforestation_crossing_biomes_political_level_2_poli4[2017],mapbiomas_peru_collection_4_deforestation_crossing_biomes_political_level_2_poli4[territor_level_2_1],A29,mapbiomas_peru_collection_4_deforestation_crossing_biomes_political_level_2_poli4[transition],4)) -> 9061700
A30: Amazonía | B30: 2018 | C30: =IF(COUNTIFS(mapbiomas_peru_collection_4_deforestation_crossing_biomes_political_level_2_poli4[territor_level_2_1],A30,mapbiomas_peru_collection_4_deforestation_crossing_biomes_political_level_2_poli4[transition],4,mapbiomas_peru_collection_4_deforestation_crossing_biomes_political_level_2_poli4[2018],"<>")=0,"",SUMIFS(mapbiomas_peru_collection_4_deforestation_crossing_biomes_political_level_2_poli4[2018],mapbiomas_peru_collection_4_deforestation_crossing_biomes_political_level_2_poli4[territor_level_2_1],A30,mapbiomas_peru_collection_4_deforestation_crossing_biomes_political_level_2_poli4[transition],4)) -> 9939600
A31: Amazonía | B31: 2019 | C31: =IF(COUNTIFS(mapbiomas_peru_collection_4_deforestation_crossing_biomes_political_level_2_poli4[territor_level_2_1],A31,mapbiomas_peru_collection_4_deforestation_crossing_biomes_political_level_2_poli4[transition],4,mapbiomas_peru_collection_4_deforestation_crossing_biomes_political_level_2_poli4[2019],"<>")=0,"",SUMIFS(mapbiomas_peru_collection_4_deforestation_crossing_biomes_political_level_2_poli4[2019],mapbiomas_peru_collection_4_deforestation_crossing_biomes_political_level_2_poli4[territor_level_2_1],A31,mapbiomas_peru_collection_4_deforestation_crossing_biomes_political_level_2_poli4[transition],4)) -> 9732100
A32: Amazonía | B32: 2020 | C32: =IF(COUNTIFS(mapbiomas_peru_collection_4_deforestation_crossing_biomes_political_level_2_poli4[territor_level_2_1],A32,mapbiomas_peru_collection_4_deforestation_crossing_biomes_political_level_2_poli4[transition],4,mapbiomas_peru_collection_4_deforestation_crossing_biomes_political_level_2_poli4[2020],"<>")=0,"",SUMIFS(mapbiomas_peru_collection_4_deforestation_crossing_biomes_political_level_2_poli4[2020],mapbiomas_peru_collection_4_deforestation_crossing_biomes_political_level_2_poli4[territor_level_2_1],A32,mapbiomas_peru_collection_4_deforestation_crossing_biomes_political_level_2_poli4[transition],4)) -> 11604500
A33: Amazonía | B33: 2021 | C33: =IF(COUNTIFS(mapbiomas_peru_collection_4_deforestation_crossing_biomes_political_level_2_poli4[territor_level_2_1],A33,mapbiomas_peru_collection_4_deforestation_crossing_biomes_political_level_2_poli4[transition],4,mapbiomas_peru_collection_4_deforestation_crossing_biomes_political_level_2_poli4[2021],"<>")=0,"",SUMIFS(mapbiomas_peru_collection_4_deforestation_crossing_biomes_political_level_2_poli4[2021],mapbiomas_peru_collection_4_deforestation_crossing_biomes_political_level_2_poli4[territor_level_2_1],A33,mapbiomas_peru_collection_4_deforestation_crossing_biomes_political_level_2_poli4[transition],4)) -> 10634800
A34: Amazonía | B34: 2022 | C34: =IF(COUNTIFS(mapbiomas_peru_collection_4_deforestation_crossing_biomes_political_level_2_poli4[territor_level_2_1],A34,mapbiomas_peru_collection_4_deforestation_crossing_biomes_political_level_2_poli4[transition],4,mapbiomas_peru_collection_4_deforestation_crossing_biomes_political_level_2_poli4[2022],"<>")=0,"",SUMIFS(mapbiomas_peru_collection_4_deforestation_crossing_biomes_political_level_2_poli4[2022],mapbiomas_peru_collection_4_deforestation_crossing_biomes_political_level_2_poli4[territor_level_2_1],A34,mapbiomas_peru_collection_4_deforestation_crossing_biomes_political_level_2_poli4[transition],4)) -> 12679100
A35: Amazonía | B35: 2023 | C35: =IF(COUNTIFS(mapbiomas_peru_collection_4_deforestation_crossing_biomes_political_level_2_poli4[territor_level_2_1],A35,mapbiomas_peru_collection_4_deforestation_crossing_biomes_political_level_2_poli4[transition],4,mapbiomas_peru_collection_4_deforestation_crossing_biomes_political_level_2_poli4[2023],"<>")=0,"",SUMIFS(mapbiomas_peru_collection_4_deforestation_crossing_biomes_political_level_2_poli4[2023],mapbiomas_peru_collection_4_deforestation_crossing_biomes_political_level_2_poli4[territor_level_2_1],A35,mapbiomas_peru_collection_4_deforestation_crossing_biomes_political_level_2_poli4[transition],4)) -> 13393600
A36: Amazonía | B36: 2024 | C36: =IF(COUNTIFS(mapbiomas_peru_collection_4_deforestation_crossing_biomes_political_level_2_poli4[territor_level_2_1],A36,mapbiomas_peru_collection_4_deforestation_crossing_biomes_political_level_2_poli4[transition],4,mapbiomas_peru_collection_4_deforestation_crossing_biomes_political_level_2_poli4[2024],"<>")=0,"",SUMIFS(mapbiomas_peru_collection_4_deforestation_crossing_biomes_political_level_2_poli4[2024],mapbiomas_peru_collection_4_deforestation_crossing_biomes_political_level_2_poli4[territor_level_2_1],A36,mapbiomas_peru_collection_4_deforestation_crossing_biomes_political_level_2_poli4[transition],4)) -> 8544700
A37: Amazonía | B37: 2025 | C37: =IF(COUNTIFS(mapbiomas_peru_collection_4_deforestation_crossing_biomes_political_level_2_poli4[territor_level_2_1],A37,mapbiomas_peru_collection_4_deforestation_crossing_biomes_political_level_2_poli4[transition],4,mapbiomas_peru_collection_4_deforestation_crossing_biomes_political_level_2_poli4[2025],"<>")=0,"",SUMIFS(mapbiomas_peru_collection_4_deforestation_crossing_biomes_political_level_2_poli4[2025],mapbiomas_peru_collection_4_deforestation_crossing_biomes_political_level_2_poli4[territor_level_2_1],A37,mapbiomas_peru_collection_4_deforestation_crossing_biomes_political_level_2_poli4[transition],4)) -> 12481600
A38: Andes | B38: 1990 | C38: =IF(COUNTIFS(mapbiomas_peru_collection_4_deforestation_crossing_biomes_political_level_2_poli4[territor_level_2_1],A38,mapbiomas_peru_collection_4_deforestation_crossing_biomes_political_level_2_poli4[transition],4,mapbiomas_peru_collection_4_deforestation_crossing_biomes_political_level_2_poli4[1990],"<>")=0,"",SUMIFS(mapbiomas_peru_collection_4_deforestation_crossing_biomes_political_level_2_poli4[1990],mapbiomas_peru_collection_4_deforestation_crossing_biomes_political_level_2_poli4[territor_level_2_1],A38,mapbiomas_peru_collection_4_deforestation_crossing_biomes_political_level_2_poli4[transition],4)) -> 9243837
A39: Andes | B39: 1991 | C39: =IF(COUNTIFS(mapbiomas_peru_collection_4_deforestation_crossing_biomes_political_level_2_poli4[territor_level_2_1],A39,mapbiomas_peru_collection_4_deforestation_crossing_biomes_political_level_2_poli4[transition],4,mapbiomas_peru_collection_4_deforestation_crossing_biomes_political_level_2_poli4[1991],"<>")=0,"",SUMIFS(mapbiomas_peru_collection_4_deforestation_crossing_biomes_political_level_2_poli4[1991],mapbiomas_peru_collection_4_deforestation_crossing_biomes_political_level_2_poli4[territor_level_2_1],A39,mapbiomas_peru_collection_4_deforestation_crossing_biomes_political_level_2_poli4[transition],4)) -> 4954300
A40: Andes | B40: 1992 | C40: =IF(COUNTIFS(mapbiomas_peru_collection_4_deforestation_crossing_biomes_political_level_2_poli4[territor_level_2_1],A40,mapbiomas_peru_collection_4_deforestation_crossing_biomes_political_level_2_poli4[transition],4,mapbiomas_peru_collection_4_deforestation_crossing_biomes_political_level_2_poli4[1992],"<>")=0,"",SUMIFS(mapbiomas_peru_collection_4_deforestation_crossing_biomes_political_level_2_poli4[1992],mapbiomas_peru_collection_4_deforestation_crossing_biomes_political_level_2_poli4[territor_level_2_1],A40,mapbiomas_peru_collection_4_deforestation_crossing_biomes_political_level_2_poli4[transition],4)) -> 4430400
...

Sheet AUX_L2_SEC
A1: Bioma | B1: Año | C1: Deforestación de vegetación secundaria (ha)
A2: Amazonía | B2: 1990 | C2: =IF(COUNTIFS(mapbiomas_peru_collection_4_deforestation_crossing_biomes_political_level_2_poli4[territor_level_2_1],A2,mapbiomas_peru_collection_4_deforestation_crossing_biomes_political_level_2_poli4[transition],6,mapbiomas_peru_collection_4_deforestation_crossing_biomes_political_level_2_poli4[1990],"<>")=0,"",SUMIFS(mapbiomas_peru_collection_4_deforestation_crossing_biomes_political_level_2_poli4[1990],mapbiomas_peru_collection_4_deforestation_crossing_biomes_political_level_2_poli4[territor_level_2_1],A2,mapbiomas_peru_collection_4_deforestation_crossing_biomes_political_level_2_poli4[transition],6))
A3: Amazonía | B3: 1991 | C3: =IF(COUNTIFS(mapbiomas_peru_collection_4_deforestation_crossing_biomes_political_level_2_poli4[territor_level_2_1],A3,mapbiomas_peru_collection_4_deforestation_crossing_biomes_political_level_2_poli4[transition],6,mapbiomas_peru_collection_4_deforestation_crossing_biomes_political_level_2_poli4[1991],"<>")=0,"",SUMIFS(mapbiomas_peru_collection_4_deforestation_crossing_biomes_political_level_2_poli4[1991],mapbiomas_peru_collection_4_deforestation_crossing_biomes_political_level_2_poli4[territor_level_2_1],A3,mapbiomas_peru_collection_4_deforestation_crossing_biomes_political_level_2_poli4[transition],6))
A4: Amazonía | B4: 1992 | C4: =IF(COUNTIFS(mapbiomas_peru_collection_4_deforestation_crossing_biomes_political_level_2_poli4[territor_level_2_1],A4,mapbiomas_peru_collection_4_deforestation_crossing_biomes_political_level_2_poli4[transition],6,mapbiomas_peru_collection_4_deforestation_crossing_biomes_political_level_2_poli4[1992],"<>")=0,"",SUMIFS(mapbiomas_peru_collection_4_deforestation_crossing_biomes_political_level_2_poli4[1992],mapbiomas_peru_collection_4_deforestation_crossing_biomes_political_level_2_poli4[territor_level_2_1],A4,mapbiomas_peru_collection_4_deforestation_crossing_biomes_political_level_2_poli4[transition],6)) -> 215760
A5: Amazonía | B5: 1993 | C5: =IF(COUNTIFS(mapbiomas_peru_collection_4_deforestation_crossing_biomes_political_level_2_poli4[territor_level_2_1],A5,mapbiomas_peru_collection_4_deforestation_crossing_biomes_political_level_2_poli4[transition],6,mapbiomas_peru_collection_4_deforestation_crossing_biomes_political_level_2_poli4[1993],"<>")=0,"",SUMIFS(mapbiomas_peru_collection_4_deforestation_crossing_biomes_political_level_2_poli4[1993],mapbiomas_peru_collection_4_deforestation_crossing_biomes_political_level_2_poli4[territor_level_2_1],A5,mapbiomas_peru_collection_4_deforestation_crossing_biomes_political_level_2_poli4[transition],6)) -> 713550
A6: Amazonía | B6: 1994 | C6: =IF(COUNTIFS(mapbiomas_peru_collection_4_deforestation_crossing_biomes_political_level_2_poli4[territor_level_2_1],A6,mapbiomas_peru_collection_4_deforestation_crossing_biomes_political_level_2_poli4[transition],6,mapbiomas_peru_collection_4_deforestation_crossing_biomes_political_level_2_poli4[1994],"<>")=0,"",SUMIFS(mapbiomas_peru_collection_4_deforestation_crossing_biomes_political_level_2_poli4[1994],mapbiomas_peru_collection_4_deforestation_crossing_biomes_political_level_2_poli4[territor_level_2_1],A6,mapbiomas_peru_collection_4_deforestation_crossing_biomes_political_level_2_poli4[transition],6)) -> 1334100
A7: Amazonía | B7: 1995 | C7: =IF(COUNTIFS(mapbiomas_peru_collection_4_deforestation_crossing_biomes_political_level_2_poli4[territor_level_2_1],A7,mapbiomas_peru_collection_4_deforestation_crossing_biomes_political_level_2_poli4[transition],6,mapbiomas_peru_collection_4_deforestation_crossing_biomes_political_level_2_poli4[1995],"<>")=0,"",SUMIFS(mapbiomas_peru_collection_4_deforestation_crossing_biomes_political_level_2_poli4[1995],mapbiomas_peru_collection_4_deforestation_crossing_biomes_political_level_2_poli4[territor_level_2_1],A7,mapbiomas_peru_collection_4_deforestation_crossing_biomes_political_level_2_poli4[transition],6)) -> 1643700
A8: Amazonía | B8: 1996 | C8: =IF(COUNTIFS(mapbiomas_peru_collection_4_deforestation_crossing_biomes_political_level_2_poli4[territor_level_2_1],A8,mapbiomas_peru_collection_4_deforestation_crossing_biomes_political_level_2_poli4[transition],6,mapbiomas_peru_collection_4_deforestation_crossing_biomes_political_level_2_poli4[1996],"<>")=0,"",SUMIFS(mapbiomas_peru_collection_4_deforestation_crossing_biomes_political_level_2_poli4[1996],mapbiomas_peru_collection_4_deforestation_crossing_biomes_political_level_2_poli4[territor_level_2_1],A8,mapbiomas_peru_collection_4_deforestation_crossing_biomes_political_level_2_poli4[transition],6)) -> 2543500
A9: Amazonía | B9: 1997 | C9: =IF(COUNTIFS(mapbiomas_peru_collection_4_deforestation_crossing_biomes_political_level_2_poli4[territor_level_2_1],A9,mapbiomas_peru_collection_4_deforestation_crossing_biomes_political_level_2_poli4[transition],6,mapbiomas_peru_collection_4_deforestation_crossing_biomes_political_level_2_poli4[1997],"<>")=0,"",SUMIFS(mapbiomas_peru_collection_4_deforestation_crossing_biomes_political_level_2_poli4[1997],mapbiomas_peru_collection_4_deforestation_crossing_biomes_political_level_2_poli4[territor_level_2_1],A9,mapbiomas_peru_collection_4_deforestation_crossing_biomes_political_level_2_poli4[transition],6)) -> 2720400
A10: Amazonía | B10: 1998 | C10: =IF(COUNTIFS(mapbiomas_peru_collection_4_deforestation_crossing_biomes_political_level_2_poli4[territor_level_2_1],A10,mapbiomas_peru_collection_4_deforestation_crossing_biomes_political_level_2_poli4[transition],6,mapbiomas_peru_collection_4_deforestation_crossing_biomes_political_level_2_poli4[1998],"<>")=0,"",SUMIFS(mapbiomas_peru_collection_4_deforestation_crossing_biomes_political_level_2_poli4[1998],mapbiomas_peru_collection_4_deforestation_crossing_biomes_political_level_2_poli4[territor_level_2_1],A10,mapbiomas_peru_collection_4_deforestation_crossing_biomes_political_level_2_poli4[transition],6)) -> 3298800
A11: Amazonía | B11: 1999 | C11: =IF(COUNTIFS(mapbiomas_peru_collection_4_deforestation_crossing_biomes_political_level_2_poli4[territor_level_2_1],A11,mapbiomas_peru_collection_4_deforestation_crossing_biomes_political_level_2_poli4[transition],6,mapbiomas_peru_collection_4_deforestation_crossing_biomes_political_level_2_poli4[1999],"<>")=0,"",SUMIFS(mapbiomas_peru_collection_4_deforestation_crossing_biomes_political_level_2_poli4[1999],mapbiomas_peru_collection_4_deforestation_crossing_biomes_political_level_2_poli4[territor_level_2_1],A11,mapbiomas_peru_collection_4_deforestation_crossing_biomes_political_level_2_poli4[transition],6)) -> 2878500
A12: Amazonía | B12: 2000 | C12: =IF(COUNTIFS(mapbiomas_peru_collection_4_deforestation_crossing_biomes_political_level_2_poli4[territor_level_2_1],A12,mapbiomas_peru_collection_4_deforestation_crossing_biomes_political_level_2_poli4[transition],6,mapbiomas_peru_collection_4_deforestation_crossing_biomes_political_level_2_poli4[2000],"<>")=0,"",SUMIFS(mapbiomas_peru_collection_4_deforestation_crossing_biomes_political_level_2_poli4[2000],mapbiomas_peru_collection_4_deforestation_crossing_biomes_political_level_2_poli4[territor_level_2_1],A12,mapbiomas_peru_collection_4_deforestation_crossing_biomes_political_level_2_poli4[transition],6)) -> 2674000
A13: Amazonía | B13: 2001 | C13: =IF(COUNTIFS(mapbiomas_peru_collection_4_deforestation_crossing_biomes_political_level_2_poli4[territor_level_2_1],A13,mapbiomas_peru_collection_4_deforestation_crossing_biomes_political_level_2_poli4[transition],6,mapbiomas_peru_collection_4_deforestation_crossing_biomes_political_level_2_poli4[2001],"<>")=0,"",SUMIFS(mapbiomas_peru_collection_4_deforestation_crossing_biomes_political_level_2_poli4[2001],mapbiomas_peru_collection_4_deforestation_crossing_biomes_political_level_2_poli4[territor_level_2_1],A13,mapbiomas_peru_collection_4_deforestation_crossing_biomes_political_level_2_poli4[transition],6)) -> 2875600
A14: Amazonía | B14: 2002 | C14: =IF(COUNTIFS(mapbiomas_peru_collection_4_deforestation_crossing_biomes_political_level_2_poli4[territor_level_2_1],A14,mapbiomas_peru_collection_4_deforestation_crossing_biomes_political_level_2_poli4[transition],6,mapbiomas_peru_collection_4_deforestation_crossing_biomes_political_level_2_poli4[2002],"<>")=0,"",SUMIFS(mapbiomas_peru_collection_4_deforestation_crossing_biomes_political_level_2_poli4[2002],mapbiomas_peru_collection_4_deforestation_crossing_biomes_political_level_2_poli4[territor_level_2_1],A14,mapbiomas_peru_collection_4_deforestation_crossing_biomes_political_level_2_poli4[transition],6)) -> 2638800
A15: Amazonía | B15: 2003 | C15: =IF(COUNTIFS(mapbiomas_peru_collection_4_deforestation_crossing_biomes_political_level_2_poli4[territor_level_2_1],A15,mapbiomas_peru_collection_4_deforestation_crossing_biomes_political_level_2_poli4[transition],6,mapbiomas_peru_collection_4_deforestation_crossing_biomes_political_level_2_poli4[2003],"<>")=0,"",SUMIFS(mapbiomas_peru_collection_4_deforestation_crossing_biomes_political_level_2_poli4[2003],mapbiomas_peru_collection_4_deforestation_crossing_biomes_political_level_2_poli4[territor_level_2_1],A15,mapbiomas_peru_collection_4_deforestation_crossing_biomes_political_level_2_poli4[transition],6)) -> 3044900
A16: Amazonía | B16: 2004 | C16: =IF(COUNTIFS(mapbiomas_peru_collection_4_deforestation_crossing_biomes_political_level_2_poli4[territor_level_2_1],A16,mapbiomas_peru_collection_4_deforestation_crossing_biomes_political_level_2_poli4[transition],6,mapbiomas_peru_collection_4_deforestation_crossing_biomes_political_level_2_poli4[2004],"<>")=0,"",SUMIFS(mapbiomas_peru_collection_4_deforestation_crossing_biomes_political_level_2_poli4[2004],mapbiomas_peru_collection_4_deforestation_crossing_biomes_political_level_2_poli4[territor_level_2_1],A16,mapbiomas_peru_collection_4_deforestation_crossing_biomes_political_level_2_poli4[transition],6)) -> 2862800
A17: Amazonía | B17: 2005 | C17: =IF(COUNTIFS(mapbiomas_peru_collection_4_deforestation_crossing_biomes_political_level_2_poli4[territor_level_2_1],A17,mapbiomas_peru_collection_4_deforestation_crossing_biomes_political_level_2_poli4[transition],6,mapbiomas_peru_collection_4_deforestation_crossing_biomes_political_level_2_poli4[2005],"<>")=0,"",SUMIFS(mapbiomas_peru_collection_4_deforestation_crossing_biomes_political_level_2_poli4[2005],mapbiomas_peru_collection_4_deforestation_crossing_biomes_political_level_2_poli4[territor_level_2_1],A17,mapbiomas_peru_collection_4_deforestation_crossing_biomes_political_level_2_poli4[transition],6)) -> 3638400
A18: Amazonía | B18: 2006 | C18: =IF(COUNTIFS(mapbiomas_peru_collection_4_deforestation_crossing_biomes_political_level_2_poli4[territor_level_2_1],A18,mapbiomas_peru_collection_4_deforestation_crossing_biomes_political_level_2_poli4[transition],6,mapbiomas_peru_collection_4_deforestation_crossing_biomes_political_level_2_poli4[2006],"<>")=0,"",SUMIFS(mapbiomas_peru_collection_4_deforestation_crossing_biomes_political_level_2_poli4[2006],mapbiomas_peru_collection_4_deforestation_crossing_biomes_political_level_2_poli4[territor_level_2_1],A18,mapbiomas_peru_collection_4_deforestation_crossing_biomes_political_level_2_poli4[transition],6)) -> 3025700
A19: Amazonía | B19: 2007 | C19: =IF(COUNTIFS(mapbiomas_peru_collection_4_deforestation_crossing_biomes_political_level_2_poli4[territor_level_2_1],A19,mapbiomas_peru_collection_4_deforestation_crossing_biomes_political_level_2_poli4[transition],6,mapbiomas_peru_collection_4_deforestation_crossing_biomes_political_level_2_poli4[2007],"<>")=0,"",SUMIFS(mapbiomas_peru_collection_4_deforestation_crossing_biomes_political_level_2_poli4[2007],mapbiomas_peru_collection_4_deforestation_crossing_biomes_political_level_2_poli4[territor_level_2_1],A19,mapbiomas_peru_collection_4_deforestation_crossing_biomes_political_level_2_poli4[transition],6)) -> 3276300
A20: Amazonía | B20: 2008 | C20: =IF(COUNTIFS(mapbiomas_peru_collection_4_deforestation_crossing_biomes_political_level_2_poli4[territor_level_2_1],A20,mapbiomas_peru_collection_4_deforestation_crossing_biomes_political_level_2_poli4[transition],6,mapbiomas_peru_collection_4_deforestation_crossing_biomes_political_level_2_poli4[2008],"<>")=0,"",SUMIFS(mapbiomas_peru_collection_4_deforestation_crossing_biomes_political_level_2_poli4[2008],mapbiomas_peru_collection_4_deforestation_crossing_biomes_political_level_2_poli4[territor_level_2_1],A20,mapbiomas_peru_collection_4_deforestation_crossing_biomes_political_level_2_poli4[transition],6)) -> 3036700
A21: Amazonía | B21: 2009 | C21: =IF(COUNTIFS(mapbiomas_peru_collection_4_deforestation_crossing_biomes_political_level_2_poli4[territor_level_2_1],A21,mapbiomas_peru_collection_4_deforestation_crossing_biomes_political_level_2_poli4[transition],6,mapbiomas_peru_collection_4_deforestation_crossing_biomes_political_level_2_poli4[2009],"<>")=0,"",SUMIFS(mapbiomas_peru_collection_4_deforestation_crossing_biomes_political_level_2_poli4[2009],mapbiomas_peru_collection_4_deforestation_crossing_biomes_political_level_2_poli4[territor_level_2_1],A21,mapbiomas_peru_collection_4_deforestation_crossing_biomes_political_level_2_poli4[transition],6)) -> 3802700
A22: Amazonía | B22: 2010 | C22: =IF(COUNTIFS(mapbiomas_peru_collection_4_deforestation_crossing_biomes_political_level_2_poli4[territor_level_2_1],A22,mapbiomas_peru_collection_4_deforestation_crossing_biomes_political_level_2_poli4[transition],6,mapbiomas_peru_collection_4_deforestation_crossing_biomes_political_level_2_poli4[2010],"<>")=0,"",SUMIFS(mapbiomas_peru_collection_4_deforestation_crossing_biomes_political_level_2_poli4[2010],mapbiomas_peru_collection_4_deforestation_crossing_biomes_political_level_2_poli4[territor_level_2_1],A22,mapbiomas_peru_collection_4_deforestation_crossing_biomes_political_level_2_poli4[transition],6)) -> 3908600
A23: Amazonía | B23: 2011 | C23: =IF(COUNTIFS(mapbiomas_peru_collection_4_deforestation_crossing_biomes_political_level_2_poli4[territor_level_2_1],A23,mapbiomas_peru_collection_4_deforestation_crossing_biomes_political_level_2_poli4[transition],6,mapbiomas_peru_collection_4_deforestation_crossing_biomes_political_level_2_poli4[2011],"<>")=0,"",SUMIFS(mapbiomas_peru_collection_4_deforestation_crossing_biomes_political_level_2_poli4[2011],mapbiomas_peru_collection_4_deforestation_crossing_biomes_political_level_2_poli4[territor_level_2_1],A23,mapbiomas_peru_collection_4_deforestation_crossing_biomes_political_level_2_poli4[transition],6)) -> 3715700
A24: Amazonía | B24: 2012 | C24: =IF(COUNTIFS(mapbiomas_peru_collection_4_deforestation_crossing_biomes_political_level_2_poli4[territor_level_2_1],A24,mapbiomas_peru_collection_4_deforestation_crossing_biomes_political_level_2_poli4[transition],6,mapbiomas_peru_collection_4_deforestation_crossing_biomes_political_level_2_poli4[2012],"<>")=0,"",SUMIFS(mapbiomas_peru_collection_4_deforestation_crossing_biomes_political_level_2_poli4[2012],mapbiomas_peru_collection_4_deforestation_crossing_biomes_political_level_2_poli4[territor_level_2_1],A24,mapbiomas_peru_collection_4_deforestation_crossing_biomes_political_level_2_poli4[transition],6)) -> 4640900
A25: Amazonía | B25: 2013 | C25: =IF(COUNTIFS(mapbiomas_peru_collection_4_deforestation_crossing_biomes_political_level_2_poli4[territor_level_2_1],A25,mapbiomas_peru_collection_4_deforestation_crossing_biomes_political_level_2_poli4[transition],6,mapbiomas_peru_collection_4_deforestation_crossing_biomes_political_level_2_poli4[2013],"<>")=0,"",SUMIFS(mapbiomas_peru_collection_4_deforestation_crossing_biomes_political_level_2_poli4[2013],mapbiomas_peru_collection_4_deforestation_crossing_biomes_political_level_2_poli4[territor_level_2_1],A25,mapbiomas_peru_collection_4_deforestation_crossing_biomes_political_level_2_poli4[transition],6)) -> 4866600
A26: Amazonía | B26: 2014 | C26: =IF(COUNTIFS(mapbiomas_peru_collection_4_deforestation_crossing_biomes_political_level_2_poli4[territor_level_2_1],A26,mapbiomas_peru_collection_4_deforestation_crossing_biomes_political_level_2_poli4[transition],6,mapbiomas_peru_collection_4_deforestation_crossing_biomes_political_level_2_poli4[2014],"<>")=0,"",SUMIFS(mapbiomas_peru_collection_4_deforestation_crossing_biomes_political_level_2_poli4[2014],mapbiomas_peru_collection_4_deforestation_crossing_biomes_political_level_2_poli4[territor_level_2_1],A26,mapbiomas_peru_collection_4_deforestation_crossing_biomes_political_level_2_poli4[transition],6)) -> 4337400
A27: Amazonía | B27: 2015 | C27: =IF(COUNTIFS(mapbiomas_peru_collection_4_deforestation_crossing_biomes_political_level_2_poli4[territor_level_2_1],A27,mapbiomas_peru_collection_4_deforestation_crossing_biomes_political_level_2_poli4[transition],6,mapbiomas_peru_collection_4_deforestation_crossing_biomes_political_level_2_poli4[2015],"<>")=0,"",SUMIFS(mapbiomas_peru_collection_4_deforestation_crossing_biomes_political_level_2_poli4[2015],mapbiomas_peru_collection_4_deforestation_crossing_biomes_political_level_2_poli4[territor_level_2_1],A27,mapbiomas_peru_collection_4_deforestation_crossing_biomes_political_level_2_poli4[transition],6)) -> 4063100
A28: Amazonía | B28: 2016 | C28: =IF(COUNTIFS(mapbiomas_peru_collection_4_deforestation_crossing_biomes_political_level_2_poli4[territor_level_2_1],A28,mapbiomas_peru_collection_4_deforestation_crossing_biomes_political_level_2_poli4[transition],6,mapbiomas_peru_collection_4_deforestation_crossing_biomes_political_level_2_poli4[2016],"<>")=0,"",SUMIFS(mapbiomas_peru_collection_4_deforestation_crossing_biomes_political_level_2_poli4[2016],mapbiomas_peru_collection_4_deforestation_crossing_biomes_political_level_2_poli4[territor_level_2_1],A28,mapbiomas_peru_collection_4_deforestation_crossing_biomes_political_level_2_poli4[transition],6)) -> 4358200
A29: Amazonía | B29: 2017 | C29: =IF(COUNTIFS(mapbiomas_peru_collection_4_deforestation_crossing_biomes_political_level_2_poli4[territor_level_2_1],A29,mapbiomas_peru_collection_4_deforestation_crossing_biomes_political_level_2_poli4[transition],6,mapbiomas_peru_collection_4_deforestation_crossing_biomes_political_level_2_poli4[2017],"<>")=0,"",SUMIFS(mapbiomas_peru_collection_4_deforestation_crossing_biomes_political_level_2_poli4[2017],mapbiomas_peru_collection_4_deforestation_crossing_biomes_political_level_2_poli4[territor_level_2_1],A29,mapbiomas_peru_collection_4_deforestation_crossing_biomes_political_level_2_poli4[transition],6)) -> 4437100
A30: Amazonía | B30: 2018 | C30: =IF(COUNTIFS(mapbiomas_peru_collection_4_deforestation_crossing_biomes_political_level_2_poli4[territor_level_2_1],A30,mapbiomas_peru_collection_4_deforestation_crossing_biomes_political_level_2_poli4[transition],6,mapbiomas_peru_collection_4_deforestation_crossing_biomes_political_level_2_poli4[2018],"<>")=0,"",SUMIFS(mapbiomas_peru_collection_4_deforestation_crossing_biomes_political_level_2_poli4[2018],mapbiomas_peru_collection_4_deforestation_crossing_biomes_political_level_2_poli4[territor_level_2_1],A30,mapbiomas_peru_collection_4_deforestation_crossing_biomes_political_level_2_poli4[transition],6)) -> 4653400
A31: Amazonía | B31: 2019 | C31: =IF(COUNTIFS(mapbiomas_peru_collection_4_deforestation_crossing_biomes_political_level_2_poli4[territor_level_2_1],A31,mapbiomas_peru_collection_4_deforestation_crossing_biomes_political_level_2_poli4[transition],6,mapbiomas_peru_collection_4_deforestation_crossing_biomes_political_level_2_poli4[2019],"<>")=0,"",SUMIFS(mapbiomas_peru_collection_4_deforestation_crossing_biomes_political_level_2_poli4[2019],mapbiomas_peru_collection_4_deforestation_crossing_biomes_political_level_2_poli4[territor_level_2_1],A31,mapbiomas_peru_collection_4_deforestation_crossing_biomes_political_level_2_poli4[transition],6)) -> 4477200
